BEGIN:VCALENDAR
VERSION:2.0
PRODID:-//ArtsConnect Virginia - ECPv6.15.20//NONSGML v1.0//EN
CALSCALE:GREGORIAN
METHOD:PUBLISH
X-WR-CALNAME:ArtsConnect Virginia
X-ORIGINAL-URL:https://artsconnectva.org
X-WR-CALDESC:Events for ArtsConnect Virginia
REFRESH-INTERVAL;VALUE=DURATION:PT1H
X-Robots-Tag:noindex
X-PUBLISHED-TTL:PT1H
BEGIN:VTIMEZONE
TZID:America/New_York
BEGIN:DAYLIGHT
TZOFFSETFROM:-0500
TZOFFSETTO:-0400
TZNAME:EDT
DTSTART:20240310T070000
END:DAYLIGHT
BEGIN:STANDARD
TZOFFSETFROM:-0400
TZOFFSETTO:-0500
TZNAME:EST
DTSTART:20241103T060000
END:STANDARD
BEGIN:DAYLIGHT
TZOFFSETFROM:-0500
TZOFFSETTO:-0400
TZNAME:EDT
DTSTART:20250309T070000
END:DAYLIGHT
BEGIN:STANDARD
TZOFFSETFROM:-0400
TZOFFSETTO:-0500
TZNAME:EST
DTSTART:20251102T060000
END:STANDARD
BEGIN:DAYLIGHT
TZOFFSETFROM:-0500
TZOFFSETTO:-0400
TZNAME:EDT
DTSTART:20260308T070000
END:DAYLIGHT
BEGIN:STANDARD
TZOFFSETFROM:-0400
TZOFFSETTO:-0500
TZNAME:EST
DTSTART:20261101T060000
END:STANDARD
END:VTIMEZONE
BEGIN:VEVENT
DTSTART;TZID=America/New_York:20250507T080000
DTEND;TZID=America/New_York:20250507T170000
DTSTAMP:20260419T113717
CREATED:20250507T191902Z
LAST-MODIFIED:20250507T191902Z
UID:14035-1746604800-1746637200@artsconnectva.org
SUMMARY:Pages of Our Lives
DESCRIPTION:The Muse Writers Center’s teaching artists provide a worthwhile hour of literary engagement\, connecting residents with classic published works of a relatable nature\, through reading and writing activities that stimulate minds and spark creativity. The program includes mindful Journaling\, Journal writing class that incorporates stress-reduction techniques\, art\, movement\, and music.
URL:https://artsconnectva.org/event/pages-of-our-lives-15/
LOCATION:VA
CATEGORIES:Outreach Program
END:VEVENT
BEGIN:VEVENT
DTSTART;TZID=America/New_York:20250507T100000
DTEND;TZID=America/New_York:20250507T110000
DTSTAMP:20260419T113717
CREATED:20250314T011233Z
LAST-MODIFIED:20250314T011233Z
UID:13430-1746612000-1746615600@artsconnectva.org
SUMMARY:Sing and Smile with Art Rowe
DESCRIPTION:View Flyer
URL:https://artsconnectva.org/event/sing-and-smile-with-art-rowe/
LOCATION:VA
CATEGORIES:Outreach Program
END:VEVENT
BEGIN:VEVENT
DTSTART;TZID=America/New_York:20250507T103000
DTEND;TZID=America/New_York:20250507T233000
DTSTAMP:20260419T113717
CREATED:20250507T161941Z
LAST-MODIFIED:20250507T161941Z
UID:13963-1746613800-1746660600@artsconnectva.org
SUMMARY:Dancing in the Park with Tia Faith
DESCRIPTION:View Flyer \nShelter C
URL:https://artsconnectva.org/event/dancing-in-the-park-with-tia-faith/
LOCATION:VA
CATEGORIES:Open to the Public,Outreach Program
END:VEVENT
BEGIN:VEVENT
DTSTART;TZID=America/New_York:20250507T133000
DTEND;TZID=America/New_York:20250507T143000
DTSTAMP:20260419T113717
CREATED:20250507T162124Z
LAST-MODIFIED:20250507T162124Z
UID:13968-1746624600-1746628200@artsconnectva.org
SUMMARY:Spring Watercolor Painting with Heidi Ordaz
DESCRIPTION:View Flyer
URL:https://artsconnectva.org/event/spring-watercolor-painting-with-heidi-ordaz/
LOCATION:VA
CATEGORIES:Outreach Program
END:VEVENT
BEGIN:VEVENT
DTSTART;TZID=America/New_York:20250507T140000
DTEND;TZID=America/New_York:20250507T150000
DTSTAMP:20260419T113717
CREATED:20250507T162503Z
LAST-MODIFIED:20250507T162503Z
UID:13974-1746626400-1746630000@artsconnectva.org
SUMMARY:Sing-Along with Mary Saunders
DESCRIPTION:Mary calls herself an old “folkie” who loves to lead sing along. She  enjoys it best when people are smiling and singing with her. Mary is well known in the local open mic music community.   Mary Saunders plays guitar and sings popular songs from the 40s to the 80s. She brings rhythm instruments to encourage the participants to sing and move with the music. Mary has casual performances filled with lots of stories and laughs.
URL:https://artsconnectva.org/event/sing-along-with-mary-saunders-2/
LOCATION:Norfolk\, VA\, Norfolk\, VA\, United States
CATEGORIES:Outreach Program
END:VEVENT
BEGIN:VEVENT
DTSTART;TZID=America/New_York:20250507T140000
DTEND;TZID=America/New_York:20250507T150000
DTSTAMP:20260419T113717
CREATED:20250507T162704Z
LAST-MODIFIED:20250507T162704Z
UID:13976-1746626400-1746630000@artsconnectva.org
SUMMARY:Oldies Sing-Along with David Jacobs
DESCRIPTION:View Flyer
URL:https://artsconnectva.org/event/oldies-sing-along-with-david-jacobs/
LOCATION:Portsmouth\, VA\, Portsmouth\, VA\, United States
CATEGORIES:Outreach Program
END:VEVENT
BEGIN:VEVENT
DTSTART;TZID=America/New_York:20250507T143000
DTEND;TZID=America/New_York:20250507T153000
DTSTAMP:20260419T113717
CREATED:20250507T162317Z
LAST-MODIFIED:20250507T162317Z
UID:13971-1746628200-1746631800@artsconnectva.org
SUMMARY:Singing and Smiling with Art Rowe
DESCRIPTION:View Flyer
URL:https://artsconnectva.org/event/singing-and-smiling-with-art-rowe-2/
LOCATION:Norfolk\, VA\, Norfolk\, VA\, United States
CATEGORIES:Outreach Program
END:VEVENT
BEGIN:VEVENT
DTSTART;TZID=America/New_York:20250507T170000
DTEND;TZID=America/New_York:20250507T180000
DTSTAMP:20260419T113717
CREATED:20250505T162929Z
LAST-MODIFIED:20250505T184249Z
UID:13955-1746637200-1746640800@artsconnectva.org
SUMMARY:Mental Health Summit with Heidi Ordaz
DESCRIPTION:Heidi Ordaz is a visual art artist that can immerse you into an art experience by using traditional or experimental hands-on techniques including painting\, mixed media\, clay work or crafts.  Having experience the benefits of art herself\, Heidi enjoys interacting with other as they create\, to revel their unique voice in the world.  Come Join this amazing experience! \n \nRegister Here: Mental Health Fair | ColleyCommunityCent
URL:https://artsconnectva.org/event/mental-health-summit-with-heidi-ordaz/
LOCATION:Colley Community Center\, 410 Colley Ave; Suite B\, Norfolk\, VA\, 23507\, United States
CATEGORIES:Open to the Public,Outreach Program
END:VEVENT
END:VCALENDAR