BEGIN:VCALENDAR
VERSION:2.0
PRODID:-//ArtsConnect Virginia - ECPv6.15.20//NONSGML v1.0//EN
CALSCALE:GREGORIAN
METHOD:PUBLISH
X-WR-CALNAME:ArtsConnect Virginia
X-ORIGINAL-URL:https://artsconnectva.org
X-WR-CALDESC:Events for ArtsConnect Virginia
REFRESH-INTERVAL;VALUE=DURATION:PT1H
X-Robots-Tag:noindex
X-PUBLISHED-TTL:PT1H
BEGIN:VTIMEZONE
TZID:America/New_York
BEGIN:DAYLIGHT
TZOFFSETFROM:-0500
TZOFFSETTO:-0400
TZNAME:EDT
DTSTART:20240310T070000
END:DAYLIGHT
BEGIN:STANDARD
TZOFFSETFROM:-0400
TZOFFSETTO:-0500
TZNAME:EST
DTSTART:20241103T060000
END:STANDARD
BEGIN:DAYLIGHT
TZOFFSETFROM:-0500
TZOFFSETTO:-0400
TZNAME:EDT
DTSTART:20250309T070000
END:DAYLIGHT
BEGIN:STANDARD
TZOFFSETFROM:-0400
TZOFFSETTO:-0500
TZNAME:EST
DTSTART:20251102T060000
END:STANDARD
BEGIN:DAYLIGHT
TZOFFSETFROM:-0500
TZOFFSETTO:-0400
TZNAME:EDT
DTSTART:20260308T070000
END:DAYLIGHT
BEGIN:STANDARD
TZOFFSETFROM:-0400
TZOFFSETTO:-0500
TZNAME:EST
DTSTART:20261101T060000
END:STANDARD
END:VTIMEZONE
BEGIN:VEVENT
DTSTART;TZID=America/New_York:20250421T130000
DTEND;TZID=America/New_York:20250421T140000
DTSTAMP:20260419T100342
CREATED:20250327T004807Z
LAST-MODIFIED:20250327T004807Z
UID:13582-1745240400-1745244000@artsconnectva.org
SUMMARY:Tissue Paper Flowers with David Duck
DESCRIPTION:Join David as he guides you through this fun and interactive craft!
URL:https://artsconnectva.org/event/tissue-paper-flowers-with-david-duck/
LOCATION:VA
CATEGORIES:Outreach Program
END:VEVENT
BEGIN:VEVENT
DTSTART;TZID=America/New_York:20250421T140000
DTEND;TZID=America/New_York:20250421T150000
DTSTAMP:20260419T100343
CREATED:20250305T151958Z
LAST-MODIFIED:20250305T151958Z
UID:13138-1745244000-1745247600@artsconnectva.org
SUMMARY:Clay Daffodils with Camille Donne
DESCRIPTION:
URL:https://artsconnectva.org/event/clay-daffodils-with-camille-donne/
LOCATION:Yorktown\, VA\, Yorktown\, VA\, United States
CATEGORIES:Outreach Program
END:VEVENT
BEGIN:VEVENT
DTSTART;TZID=America/New_York:20250421T140000
DTEND;TZID=America/New_York:20250421T150000
DTSTAMP:20260419T100343
CREATED:20250314T010901Z
LAST-MODIFIED:20250314T010901Z
UID:13425-1745244000-1745247600@artsconnectva.org
SUMMARY:Clay Daffodils with Camille Donne
DESCRIPTION:View Flyer
URL:https://artsconnectva.org/event/clay-daffodils-with-camille-donne-2/
LOCATION:VA
CATEGORIES:Outreach Program
END:VEVENT
END:VCALENDAR