BEGIN:VCALENDAR
VERSION:2.0
PRODID:-//ArtsConnect Virginia - ECPv6.15.20//NONSGML v1.0//EN
CALSCALE:GREGORIAN
METHOD:PUBLISH
X-WR-CALNAME:ArtsConnect Virginia
X-ORIGINAL-URL:https://artsconnectva.org
X-WR-CALDESC:Events for ArtsConnect Virginia
REFRESH-INTERVAL;VALUE=DURATION:PT1H
X-Robots-Tag:noindex
X-PUBLISHED-TTL:PT1H
BEGIN:VTIMEZONE
TZID:America/New_York
BEGIN:DAYLIGHT
TZOFFSETFROM:-0500
TZOFFSETTO:-0400
TZNAME:EDT
DTSTART:20240310T070000
END:DAYLIGHT
BEGIN:STANDARD
TZOFFSETFROM:-0400
TZOFFSETTO:-0500
TZNAME:EST
DTSTART:20241103T060000
END:STANDARD
BEGIN:DAYLIGHT
TZOFFSETFROM:-0500
TZOFFSETTO:-0400
TZNAME:EDT
DTSTART:20250309T070000
END:DAYLIGHT
BEGIN:STANDARD
TZOFFSETFROM:-0400
TZOFFSETTO:-0500
TZNAME:EST
DTSTART:20251102T060000
END:STANDARD
BEGIN:DAYLIGHT
TZOFFSETFROM:-0500
TZOFFSETTO:-0400
TZNAME:EDT
DTSTART:20260308T070000
END:DAYLIGHT
BEGIN:STANDARD
TZOFFSETFROM:-0400
TZOFFSETTO:-0500
TZNAME:EST
DTSTART:20261101T060000
END:STANDARD
END:VTIMEZONE
BEGIN:VEVENT
DTSTART;TZID=America/New_York:20250417T130000
DTEND;TZID=America/New_York:20250417T140000
DTSTAMP:20260419T101355
CREATED:20250326T232303Z
LAST-MODIFIED:20250326T232303Z
UID:13569-1744894800-1744898400@artsconnectva.org
SUMMARY:Singing and Smiling with David Jones
DESCRIPTION:David’s sole objective is to interact with the audience via talking and singing with him and the most importantly\, putting a “Smile” on their Face! He will be singing a variety of music including country and classic rock. \n 
URL:https://artsconnectva.org/event/singing-and-smiling-with-david-jones-10/
LOCATION:VA
CATEGORIES:Outreach Program
END:VEVENT
BEGIN:VEVENT
DTSTART;TZID=America/New_York:20250417T140000
DTEND;TZID=America/New_York:20250417T150000
DTSTAMP:20260419T101355
CREATED:20250325T015030Z
LAST-MODIFIED:20250326T232209Z
UID:13455-1744898400-1744902000@artsconnectva.org
SUMMARY:Jammin' with Mark Pettiford
DESCRIPTION:Mark plays an ecletic mix of 40s\, 50s\, 60\, 70s & 80s music\, that entertains people of all ages. Mark blends in a nice style of guitar playing\, with his singing style that has people singing\, clapping and dancing to the music.
URL:https://artsconnectva.org/event/jammin-with-mark-petiford/
LOCATION:VA
CATEGORIES:Outreach Program
END:VEVENT
BEGIN:VEVENT
DTSTART;TZID=America/New_York:20250417T140000
DTEND;TZID=America/New_York:20250417T150000
DTSTAMP:20260419T101355
CREATED:20250327T000408Z
LAST-MODIFIED:20250327T000408Z
UID:13576-1744898400-1744902000@artsconnectva.org
SUMMARY:Candle Making with Ginnie Stover
DESCRIPTION:Join Ginnie Stover as she guides participants in the process of creating their own decorative gel candle.
URL:https://artsconnectva.org/event/candle-making-with-ginnie-stover-11/
LOCATION:VA
CATEGORIES:Outreach Program
END:VEVENT
BEGIN:VEVENT
DTSTART;TZID=America/New_York:20250417T150000
DTEND;TZID=America/New_York:20250417T160000
DTSTAMP:20260419T101355
CREATED:20250326T235826Z
LAST-MODIFIED:20250326T235826Z
UID:13574-1744902000-1744905600@artsconnectva.org
SUMMARY:Ascension Melodies with Rebecca Antonio
DESCRIPTION:Ascension Melodies met and first started playing together at Church of the Ascension in Virginia Beach 15 years ago. With Lisa on flute and Rebecca on violin they share their musical talents through classical and contemporary flute/violin duets.
URL:https://artsconnectva.org/event/ascension-melodies-with-rebecca-antonio/
LOCATION:VA
CATEGORIES:Outreach Program
END:VEVENT
END:VCALENDAR