BEGIN:VCALENDAR
VERSION:2.0
PRODID:-//ArtsConnect Virginia - ECPv6.15.20//NONSGML v1.0//EN
CALSCALE:GREGORIAN
METHOD:PUBLISH
X-ORIGINAL-URL:https://artsconnectva.org
X-WR-CALDESC:Events for ArtsConnect Virginia
REFRESH-INTERVAL;VALUE=DURATION:PT1H
X-Robots-Tag:noindex
X-PUBLISHED-TTL:PT1H
BEGIN:VTIMEZONE
TZID:America/New_York
BEGIN:DAYLIGHT
TZOFFSETFROM:-0500
TZOFFSETTO:-0400
TZNAME:EDT
DTSTART:20240310T070000
END:DAYLIGHT
BEGIN:STANDARD
TZOFFSETFROM:-0400
TZOFFSETTO:-0500
TZNAME:EST
DTSTART:20241103T060000
END:STANDARD
BEGIN:DAYLIGHT
TZOFFSETFROM:-0500
TZOFFSETTO:-0400
TZNAME:EDT
DTSTART:20250309T070000
END:DAYLIGHT
BEGIN:STANDARD
TZOFFSETFROM:-0400
TZOFFSETTO:-0500
TZNAME:EST
DTSTART:20251102T060000
END:STANDARD
BEGIN:DAYLIGHT
TZOFFSETFROM:-0500
TZOFFSETTO:-0400
TZNAME:EDT
DTSTART:20260308T070000
END:DAYLIGHT
BEGIN:STANDARD
TZOFFSETFROM:-0400
TZOFFSETTO:-0500
TZNAME:EST
DTSTART:20261101T060000
END:STANDARD
END:VTIMEZONE
BEGIN:VEVENT
DTSTART;TZID=America/New_York:20250415T133000
DTEND;TZID=America/New_York:20250415T143000
DTSTAMP:20260419T101648
CREATED:20250326T231515Z
LAST-MODIFIED:20250326T231515Z
UID:13553-1744723800-1744727400@artsconnectva.org
SUMMARY:Keep the Beat Social with Kevin Furey
DESCRIPTION:Kevin Furey plays a mix of 50s\, 60s\, and 70s folk and Americana music.
URL:https://artsconnectva.org/event/keep-the-beat-social-with-kevin-furey/
LOCATION:VA
CATEGORIES:Outreach Program
END:VEVENT
BEGIN:VEVENT
DTSTART;TZID=America/New_York:20250415T140000
DTEND;TZID=America/New_York:20250415T150000
DTSTAMP:20260419T101648
CREATED:20250326T231634Z
LAST-MODIFIED:20250326T231634Z
UID:13555-1744725600-1744729200@artsconnectva.org
SUMMARY:Preview of 2025 Virginia International Tattoo with Tidewater Pipes and Drums
DESCRIPTION:View Flyer
URL:https://artsconnectva.org/event/preview-of-2025-virginia-international-tattoo-with-tidewater-pipes-and-drums/
LOCATION:Norfolk\, VA\, Norfolk\, VA\, United States
CATEGORIES:Outreach Program
END:VEVENT
BEGIN:VEVENT
DTSTART;TZID=America/New_York:20250415T150000
DTEND;TZID=America/New_York:20250415T160000
DTSTAMP:20260419T101648
CREATED:20250314T010442Z
LAST-MODIFIED:20250314T010442Z
UID:13420-1744729200-1744732800@artsconnectva.org
SUMMARY:Pages of Our Lives
DESCRIPTION:This recurring program will lead individuals in creating stories about their lives\, given different themes and subject matters throughout the course of the program. This program meets on the 1st and 3rd Tuesday of each month at 3 PM with Kelly Sokol\, a teaching artist with the Muse Writers Center.
URL:https://artsconnectva.org/event/pages-of-our-lives-13/
LOCATION:VA
CATEGORIES:Outreach Program
END:VEVENT
BEGIN:VEVENT
DTSTART;TZID=America/New_York:20250415T173000
DTEND;TZID=America/New_York:20250415T183000
DTSTAMP:20260419T101648
CREATED:20250326T231834Z
LAST-MODIFIED:20250326T231834Z
UID:13559-1744738200-1744741800@artsconnectva.org
SUMMARY:Family Night Sing Along with Savannah Howell
DESCRIPTION:Residents and their families will love this sing along of popular songs from the 50s to today!
URL:https://artsconnectva.org/event/family-night-sing-along-with-savannah-howell/
LOCATION:Norfolk\, VA\, Norfolk\, VA\, United States
CATEGORIES:Outreach Program
END:VEVENT
END:VCALENDAR