BEGIN:VCALENDAR
VERSION:2.0
PRODID:-//ArtsConnect Virginia - ECPv6.15.20//NONSGML v1.0//EN
CALSCALE:GREGORIAN
METHOD:PUBLISH
X-WR-CALNAME:ArtsConnect Virginia
X-ORIGINAL-URL:https://artsconnectva.org
X-WR-CALDESC:Events for ArtsConnect Virginia
REFRESH-INTERVAL;VALUE=DURATION:PT1H
X-Robots-Tag:noindex
X-PUBLISHED-TTL:PT1H
BEGIN:VTIMEZONE
TZID:America/New_York
BEGIN:DAYLIGHT
TZOFFSETFROM:-0500
TZOFFSETTO:-0400
TZNAME:EDT
DTSTART:20240310T070000
END:DAYLIGHT
BEGIN:STANDARD
TZOFFSETFROM:-0400
TZOFFSETTO:-0500
TZNAME:EST
DTSTART:20241103T060000
END:STANDARD
BEGIN:DAYLIGHT
TZOFFSETFROM:-0500
TZOFFSETTO:-0400
TZNAME:EDT
DTSTART:20250309T070000
END:DAYLIGHT
BEGIN:STANDARD
TZOFFSETFROM:-0400
TZOFFSETTO:-0500
TZNAME:EST
DTSTART:20251102T060000
END:STANDARD
BEGIN:DAYLIGHT
TZOFFSETFROM:-0500
TZOFFSETTO:-0400
TZNAME:EDT
DTSTART:20260308T070000
END:DAYLIGHT
BEGIN:STANDARD
TZOFFSETFROM:-0400
TZOFFSETTO:-0500
TZNAME:EST
DTSTART:20261101T060000
END:STANDARD
END:VTIMEZONE
BEGIN:VEVENT
DTSTART;TZID=America/New_York:20250414T110000
DTEND;TZID=America/New_York:20250414T120000
DTSTAMP:20260419T101404
CREATED:20250326T230701Z
LAST-MODIFIED:20250326T230701Z
UID:13542-1744628400-1744632000@artsconnectva.org
SUMMARY:Creating with Clay with Camille Donne
DESCRIPTION:Participants will work with clay to create unique pieces of art which will be collected and fired in a kiln.
URL:https://artsconnectva.org/event/creating-with-clay-with-camille-donne/
LOCATION:Newport News\, VA\, Newport News\, VA\, United States
CATEGORIES:Outreach Program
END:VEVENT
BEGIN:VEVENT
DTSTART;TZID=America/New_York:20250414T110000
DTEND;TZID=America/New_York:20250414T120000
DTSTAMP:20260419T101404
CREATED:20250326T230824Z
LAST-MODIFIED:20250326T231157Z
UID:13544-1744628400-1744632000@artsconnectva.org
SUMMARY:Spring Tulip Painted Glass with Rhona Dawson
DESCRIPTION:View Flyer \nRegistration is required. Call (757) 222-4527.
URL:https://artsconnectva.org/event/spring-tulip-painted-glass/
LOCATION:Hayden Village Center\, 680 Oak St\, Franklin\, VA\, 23851\, United States
CATEGORIES:Open to the Public,Outreach Program
END:VEVENT
BEGIN:VEVENT
DTSTART;TZID=America/New_York:20250414T140000
DTEND;TZID=America/New_York:20250414T150000
DTSTAMP:20260419T101404
CREATED:20250326T230949Z
LAST-MODIFIED:20250326T231252Z
UID:13547-1744639200-1744642800@artsconnectva.org
SUMMARY:Acrylic Paint Pour with Vivian Davis
DESCRIPTION:View Flyer
URL:https://artsconnectva.org/event/acrylic-paint-pour-with-vivian-davis/
LOCATION:VA
CATEGORIES:Outreach Program
END:VEVENT
END:VCALENDAR