BEGIN:VCALENDAR
VERSION:2.0
PRODID:-//ArtsConnect Virginia - ECPv6.15.20//NONSGML v1.0//EN
CALSCALE:GREGORIAN
METHOD:PUBLISH
X-WR-CALNAME:ArtsConnect Virginia
X-ORIGINAL-URL:https://artsconnectva.org
X-WR-CALDESC:Events for ArtsConnect Virginia
REFRESH-INTERVAL;VALUE=DURATION:PT1H
X-Robots-Tag:noindex
X-PUBLISHED-TTL:PT1H
BEGIN:VTIMEZONE
TZID:America/New_York
BEGIN:DAYLIGHT
TZOFFSETFROM:-0500
TZOFFSETTO:-0400
TZNAME:EDT
DTSTART:20240310T070000
END:DAYLIGHT
BEGIN:STANDARD
TZOFFSETFROM:-0400
TZOFFSETTO:-0500
TZNAME:EST
DTSTART:20241103T060000
END:STANDARD
BEGIN:DAYLIGHT
TZOFFSETFROM:-0500
TZOFFSETTO:-0400
TZNAME:EDT
DTSTART:20250309T070000
END:DAYLIGHT
BEGIN:STANDARD
TZOFFSETFROM:-0400
TZOFFSETTO:-0500
TZNAME:EST
DTSTART:20251102T060000
END:STANDARD
BEGIN:DAYLIGHT
TZOFFSETFROM:-0500
TZOFFSETTO:-0400
TZNAME:EDT
DTSTART:20260308T070000
END:DAYLIGHT
BEGIN:STANDARD
TZOFFSETFROM:-0400
TZOFFSETTO:-0500
TZNAME:EST
DTSTART:20261101T060000
END:STANDARD
END:VTIMEZONE
BEGIN:VEVENT
DTSTART;TZID=America/New_York:20250409T100000
DTEND;TZID=America/New_York:20250409T120000
DTSTAMP:20260419T101500
CREATED:20250326T225550Z
LAST-MODIFIED:20250326T225550Z
UID:13522-1744192800-1744200000@artsconnectva.org
SUMMARY:Feel Good Sunshine Tote Bag
DESCRIPTION:Program done in partnership with Suffolk Parks and Recreation and Suffolk Center for the Cultural Arts. \nRegister here: Catalog – Suffolk Parks & Recreation
URL:https://artsconnectva.org/event/feel-good-sunshine-tote-bag/
LOCATION:Suffolk Center for the Cultural Arts\, 110 W Finney Ave\, Suffolk\, VA\, 23434\, United States
CATEGORIES:Open to the Public,Outreach Program
END:VEVENT
BEGIN:VEVENT
DTSTART;TZID=America/New_York:20250409T103000
DTEND;TZID=America/New_York:20250409T113000
DTSTAMP:20260419T101500
CREATED:20250325T010015Z
LAST-MODIFIED:20250325T010015Z
UID:13442-1744194600-1744198200@artsconnectva.org
SUMMARY:Tunes and Blooms with Ashley Canyon
DESCRIPTION:Ashley-Michele is a visual artist dedicated to making art more accessible within her community. She is actively involved in community-driven art initiatives\, collaborating with organizations that promote creative opportunities for all.
URL:https://artsconnectva.org/event/tunes-and-blooms-with-ashley-canyon/
LOCATION:VA
CATEGORIES:Outreach Program
END:VEVENT
BEGIN:VEVENT
DTSTART;TZID=America/New_York:20250409T111500
DTEND;TZID=America/New_York:20250409T121500
DTSTAMP:20260419T101500
CREATED:20250314T005905Z
LAST-MODIFIED:20250314T005905Z
UID:13411-1744197300-1744200900@artsconnectva.org
SUMMARY:Favorite Throwbacks with Dan Smith
DESCRIPTION:View Flyer
URL:https://artsconnectva.org/event/favorite-throwbacks-with-dan-smith-18/
LOCATION:VA
CATEGORIES:Outreach Program
END:VEVENT
BEGIN:VEVENT
DTSTART;TZID=America/New_York:20250409T140000
DTEND;TZID=America/New_York:20250409T150000
DTSTAMP:20260419T101500
CREATED:20250314T010205Z
LAST-MODIFIED:20250314T010205Z
UID:13415-1744207200-1744210800@artsconnectva.org
SUMMARY:Cards and More with Sandy
DESCRIPTION:View Flyer
URL:https://artsconnectva.org/event/cards-and-more-with-sandy-3/
LOCATION:VA
CATEGORIES:Outreach Program
END:VEVENT
BEGIN:VEVENT
DTSTART;TZID=America/New_York:20250409T140000
DTEND;TZID=America/New_York:20250409T150000
DTSTAMP:20260419T101501
CREATED:20250325T011955Z
LAST-MODIFIED:20250325T011955Z
UID:13447-1744207200-1744210800@artsconnectva.org
SUMMARY:The Art of Harmony with The Elderly Brothers
DESCRIPTION:View Flyer
URL:https://artsconnectva.org/event/the-art-of-harmony-with-the-elderly-brothers/
LOCATION:VA
CATEGORIES:Outreach Program
END:VEVENT
BEGIN:VEVENT
DTSTART;TZID=America/New_York:20250409T140000
DTEND;TZID=America/New_York:20250409T150000
DTSTAMP:20260419T101501
CREATED:20250326T225709Z
LAST-MODIFIED:20250326T225709Z
UID:13524-1744207200-1744210800@artsconnectva.org
SUMMARY:Musical Journey with TattLeeMark
DESCRIPTION:View Flyer
URL:https://artsconnectva.org/event/musical-journey-with-tattleemark/
LOCATION:Portsmouth\, VA\, Portsmouth\, VA\, United States
CATEGORIES:Outreach Program
END:VEVENT
BEGIN:VEVENT
DTSTART;TZID=America/New_York:20250409T143000
DTEND;TZID=America/New_York:20250409T153000
DTSTAMP:20260419T101501
CREATED:20250325T010801Z
LAST-MODIFIED:20250325T010801Z
UID:13444-1744209000-1744212600@artsconnectva.org
SUMMARY:Tunes and Petals with Ashley Cayon
DESCRIPTION:View Flyer
URL:https://artsconnectva.org/event/tunes-and-petals-with-ashley-cayon/
LOCATION:VA
CATEGORIES:Outreach Program
END:VEVENT
BEGIN:VEVENT
DTSTART;TZID=America/New_York:20250409T150000
DTEND;TZID=America/New_York:20250409T160000
DTSTAMP:20260419T101501
CREATED:20250326T225830Z
LAST-MODIFIED:20250326T225830Z
UID:13528-1744210800-1744214400@artsconnectva.org
SUMMARY:Paint Party with Heidi Ordaz
DESCRIPTION:View Flyer
URL:https://artsconnectva.org/event/paint-party-with-heidi-ordaz/
LOCATION:Chesapeake\, VA\, Chesapeake\, VA\, United States
CATEGORIES:Outreach Program
END:VEVENT
BEGIN:VEVENT
DTSTART;TZID=America/New_York:20250409T170000
DTEND;TZID=America/New_York:20250409T200000
DTSTAMP:20260419T101501
CREATED:20250322T155759Z
LAST-MODIFIED:20250322T160002Z
UID:13438-1744218000-1744228800@artsconnectva.org
SUMMARY:Party of the Ages
DESCRIPTION:Song and Art Celebrating the older adults of Hampton Roads. A fundraiser for Tidewater Arts Outreach! \nIndividual Tickets on sale for $50! Get your tickets before we sell out! \nPurchase tickets: Party of the Ages – Tidewater Arts Outreach
URL:https://artsconnectva.org/event/party-of-the-ages/
LOCATION:Zeiders American Dream Theater\, 4509 Commerce St\, Virginia Beach\, VA\, 23462\, United States
CATEGORIES:Fundraising Event,Open to the Public,Special Event
END:VEVENT
END:VCALENDAR