BEGIN:VCALENDAR
VERSION:2.0
PRODID:-//ArtsConnect Virginia - ECPv6.15.20//NONSGML v1.0//EN
CALSCALE:GREGORIAN
METHOD:PUBLISH
X-ORIGINAL-URL:https://artsconnectva.org
X-WR-CALDESC:Events for ArtsConnect Virginia
REFRESH-INTERVAL;VALUE=DURATION:PT1H
X-Robots-Tag:noindex
X-PUBLISHED-TTL:PT1H
BEGIN:VTIMEZONE
TZID:America/New_York
BEGIN:DAYLIGHT
TZOFFSETFROM:-0500
TZOFFSETTO:-0400
TZNAME:EDT
DTSTART:20240310T070000
END:DAYLIGHT
BEGIN:STANDARD
TZOFFSETFROM:-0400
TZOFFSETTO:-0500
TZNAME:EST
DTSTART:20241103T060000
END:STANDARD
BEGIN:DAYLIGHT
TZOFFSETFROM:-0500
TZOFFSETTO:-0400
TZNAME:EDT
DTSTART:20250309T070000
END:DAYLIGHT
BEGIN:STANDARD
TZOFFSETFROM:-0400
TZOFFSETTO:-0500
TZNAME:EST
DTSTART:20251102T060000
END:STANDARD
BEGIN:DAYLIGHT
TZOFFSETFROM:-0500
TZOFFSETTO:-0400
TZNAME:EDT
DTSTART:20260308T070000
END:DAYLIGHT
BEGIN:STANDARD
TZOFFSETFROM:-0400
TZOFFSETTO:-0500
TZNAME:EST
DTSTART:20261101T060000
END:STANDARD
END:VTIMEZONE
BEGIN:VEVENT
DTSTART;TZID=America/New_York:20250405T173000
DTEND;TZID=America/New_York:20250405T190000
DTSTAMP:20260419T100627
CREATED:20250314T003915Z
LAST-MODIFIED:20250326T224238Z
UID:13398-1743874200-1743879600@artsconnectva.org
SUMMARY:Building Birdhouses with Village Studio Arts
DESCRIPTION:Let’s make birdhouses with Village Studio Arts! \nOpen to Adults with Autism and their families. \nRegistration:\nhttps://tidewaterasa.formstack.com/forms/awesomeautisticadultsartprogram \nWaiver:\nhttps://tidewaterasa.formstack.com/forms/awesomeadultsartprogramwaiver \nThe Autism Society Tidewater Virginia is thrilled to announce the return of our Awesome Artistic Adults Arts Program in partnership with Tidewater Arts Outreach (TAO). We invite adults with Autism to join us at the Village Studio Arts in Newport News from 5:30 to 7:00 PM. Please feel free to visit the Village Studio Arts’ website\, https://www.villagestudioarts.com/. \nThis event is limited to 12 people per class\, and everyone is sitting next to each other. Thank you! \nFor more information\, please reach out to Brittany Fitzgerald brittany.fitzgerald@tidewaterasa.org.
URL:https://artsconnectva.org/event/building-birdhouses-with-village-studio-arts/
LOCATION:Village Studio Arts\, 10864 Warwick Boulevard\, Newport News\, VA\, 23601\, United States
CATEGORIES:Open to the Public,Outreach Program
END:VEVENT
END:VCALENDAR