BEGIN:VCALENDAR
VERSION:2.0
PRODID:-//ArtsConnect Virginia - ECPv6.15.20//NONSGML v1.0//EN
CALSCALE:GREGORIAN
METHOD:PUBLISH
X-WR-CALNAME:ArtsConnect Virginia
X-ORIGINAL-URL:https://artsconnectva.org
X-WR-CALDESC:Events for ArtsConnect Virginia
REFRESH-INTERVAL;VALUE=DURATION:PT1H
X-Robots-Tag:noindex
X-PUBLISHED-TTL:PT1H
BEGIN:VTIMEZONE
TZID:America/New_York
BEGIN:DAYLIGHT
TZOFFSETFROM:-0500
TZOFFSETTO:-0400
TZNAME:EDT
DTSTART:20240310T070000
END:DAYLIGHT
BEGIN:STANDARD
TZOFFSETFROM:-0400
TZOFFSETTO:-0500
TZNAME:EST
DTSTART:20241103T060000
END:STANDARD
BEGIN:DAYLIGHT
TZOFFSETFROM:-0500
TZOFFSETTO:-0400
TZNAME:EDT
DTSTART:20250309T070000
END:DAYLIGHT
BEGIN:STANDARD
TZOFFSETFROM:-0400
TZOFFSETTO:-0500
TZNAME:EST
DTSTART:20251102T060000
END:STANDARD
BEGIN:DAYLIGHT
TZOFFSETFROM:-0500
TZOFFSETTO:-0400
TZNAME:EDT
DTSTART:20260308T070000
END:DAYLIGHT
BEGIN:STANDARD
TZOFFSETFROM:-0400
TZOFFSETTO:-0500
TZNAME:EST
DTSTART:20261101T060000
END:STANDARD
END:VTIMEZONE
BEGIN:VEVENT
DTSTART;TZID=America/New_York:20250404T103000
DTEND;TZID=America/New_York:20250404T113000
DTSTAMP:20260419T100147
CREATED:20250314T003615Z
LAST-MODIFIED:20250314T003615Z
UID:13395-1743762600-1743766200@artsconnectva.org
SUMMARY:Piano Tunes with Christian Flores
DESCRIPTION:View Flyer
URL:https://artsconnectva.org/event/piano-tunes-with-christian-flores-25/
LOCATION:VA
CATEGORIES:Outreach Program
END:VEVENT
BEGIN:VEVENT
DTSTART;TZID=America/New_York:20250404T110000
DTEND;TZID=America/New_York:20250404T120000
DTSTAMP:20260419T100148
CREATED:20250326T234714Z
LAST-MODIFIED:20250326T234714Z
UID:13571-1743764400-1743768000@artsconnectva.org
SUMMARY:Blooming Beauty with Rhona Dawson
DESCRIPTION:View Flyer
URL:https://artsconnectva.org/event/blooming-beauty-with-rhona-dawson-3/
LOCATION:VA
CATEGORIES:Outreach Program
END:VEVENT
BEGIN:VEVENT
DTSTART;TZID=America/New_York:20250404T140000
DTEND;TZID=America/New_York:20250404T150000
DTSTAMP:20260419T100148
CREATED:20250326T221350Z
LAST-MODIFIED:20250326T221350Z
UID:13492-1743775200-1743778800@artsconnectva.org
SUMMARY:Happy Hour with Bryan Martin
DESCRIPTION:View Flyer
URL:https://artsconnectva.org/event/happy-hour-with-bryan-martin-14/
LOCATION:VA
CATEGORIES:Outreach Program
END:VEVENT
BEGIN:VEVENT
DTSTART;TZID=America/New_York:20250404T140000
DTEND;TZID=America/New_York:20250404T150000
DTSTAMP:20260419T100148
CREATED:20250326T221502Z
LAST-MODIFIED:20250326T221502Z
UID:13495-1743775200-1743778800@artsconnectva.org
SUMMARY:Musical Memories with Adrienne and Bernie
DESCRIPTION:View Flyer
URL:https://artsconnectva.org/event/musical-memories-with-adrienne-and-bernie/
LOCATION:VA
CATEGORIES:Outreach Program
END:VEVENT
BEGIN:VEVENT
DTSTART;TZID=America/New_York:20250404T140000
DTEND;TZID=America/New_York:20250404T150000
DTSTAMP:20260419T100148
CREATED:20250326T223625Z
LAST-MODIFIED:20250326T223625Z
UID:13498-1743775200-1743778800@artsconnectva.org
SUMMARY:Spring Painting with Stephanie Slate
DESCRIPTION:View Flyer
URL:https://artsconnectva.org/event/spring-painting-with-stephanie-slate-2/
LOCATION:Norfolk\, VA\, Norfolk\, VA\, United States
CATEGORIES:Outreach Program
END:VEVENT
BEGIN:VEVENT
DTSTART;TZID=America/New_York:20250404T160000
DTEND;TZID=America/New_York:20250404T170000
DTSTAMP:20260419T100148
CREATED:20250326T223729Z
LAST-MODIFIED:20250326T223729Z
UID:13501-1743782400-1743786000@artsconnectva.org
SUMMARY:Happy Hour with Savannah Howell
DESCRIPTION:View Flyer
URL:https://artsconnectva.org/event/happy-hour-with-savannah-howell/
LOCATION:Norfolk\, VA\, Norfolk\, VA\, United States
CATEGORIES:Outreach Program
END:VEVENT
END:VCALENDAR