BEGIN:VCALENDAR
VERSION:2.0
PRODID:-//ArtsConnect Virginia - ECPv6.15.20//NONSGML v1.0//EN
CALSCALE:GREGORIAN
METHOD:PUBLISH
X-ORIGINAL-URL:https://artsconnectva.org
X-WR-CALDESC:Events for ArtsConnect Virginia
REFRESH-INTERVAL;VALUE=DURATION:PT1H
X-Robots-Tag:noindex
X-PUBLISHED-TTL:PT1H
BEGIN:VTIMEZONE
TZID:America/New_York
BEGIN:DAYLIGHT
TZOFFSETFROM:-0500
TZOFFSETTO:-0400
TZNAME:EDT
DTSTART:20240310T070000
END:DAYLIGHT
BEGIN:STANDARD
TZOFFSETFROM:-0400
TZOFFSETTO:-0500
TZNAME:EST
DTSTART:20241103T060000
END:STANDARD
BEGIN:DAYLIGHT
TZOFFSETFROM:-0500
TZOFFSETTO:-0400
TZNAME:EDT
DTSTART:20250309T070000
END:DAYLIGHT
BEGIN:STANDARD
TZOFFSETFROM:-0400
TZOFFSETTO:-0500
TZNAME:EST
DTSTART:20251102T060000
END:STANDARD
BEGIN:DAYLIGHT
TZOFFSETFROM:-0500
TZOFFSETTO:-0400
TZNAME:EDT
DTSTART:20260308T070000
END:DAYLIGHT
BEGIN:STANDARD
TZOFFSETFROM:-0400
TZOFFSETTO:-0500
TZNAME:EST
DTSTART:20261101T060000
END:STANDARD
END:VTIMEZONE
BEGIN:VEVENT
DTSTART;TZID=America/New_York:20250401T133000
DTEND;TZID=America/New_York:20250401T143000
DTSTAMP:20260419T084519
CREATED:20250314T002457Z
LAST-MODIFIED:20250314T002457Z
UID:13383-1743514200-1743517800@artsconnectva.org
SUMMARY:Painting Possibilities with Rona Dawson
DESCRIPTION:Rhona grew up an artist by both very creative parents. She feels that creativity lives in everyone\, she has been an artist working out programs for many years and finds great pleasure and satisfaction and helping others through the arts.
URL:https://artsconnectva.org/event/painting-possibilities-with-rona-dawson/
LOCATION:VA
CATEGORIES:Outreach Program
END:VEVENT
BEGIN:VEVENT
DTSTART;TZID=America/New_York:20250401T133000
DTEND;TZID=America/New_York:20250401T143000
DTSTAMP:20260419T084519
CREATED:20250326T215252Z
LAST-MODIFIED:20250326T215252Z
UID:13464-1743514200-1743517800@artsconnectva.org
SUMMARY:Keep the Beat Social with Chad McGill
DESCRIPTION:Dr. Chad McGill will delight participants as he plays a variety of music on the trumpet. From light jazz to the Beatles\, there is something for everyone!
URL:https://artsconnectva.org/event/keep-the-beat-social-with-chad-mcgill-5/
LOCATION:VA
CATEGORIES:Outreach Program
END:VEVENT
BEGIN:VEVENT
DTSTART;TZID=America/New_York:20250401T143000
DTEND;TZID=America/New_York:20250401T153000
DTSTAMP:20260419T084519
CREATED:20250301T165117Z
LAST-MODIFIED:20250301T165117Z
UID:13116-1743517800-1743521400@artsconnectva.org
SUMMARY:Strummin' and Pickin' with Gee Whiz
DESCRIPTION:
URL:https://artsconnectva.org/event/strummin-and-pickin-with-gee-whiz/
LOCATION:VA
CATEGORIES:Outreach Program
END:VEVENT
BEGIN:VEVENT
DTSTART;TZID=America/New_York:20250401T150000
DTEND;TZID=America/New_York:20250401T160000
DTSTAMP:20260419T084519
CREATED:20250314T002637Z
LAST-MODIFIED:20250314T002637Z
UID:13386-1743519600-1743523200@artsconnectva.org
SUMMARY:Pages of Our Lives
DESCRIPTION:This is a recurring program in collaboration with TAO\, The Muse Writer’s Center\, and Harbor’s Edge. This program will lead individuals in creating stories about their lives\, with different themes and subject matters. This group will meet the 1st and 3rd Tuesday of each month with Kelly Sokol\, a teaching artist with the Muse Writer’s Center.
URL:https://artsconnectva.org/event/pages-of-our-lives-12/
LOCATION:VA
CATEGORIES:Outreach Program
END:VEVENT
END:VCALENDAR