BEGIN:VCALENDAR
VERSION:2.0
PRODID:-//ArtsConnect Virginia - ECPv6.15.20//NONSGML v1.0//EN
CALSCALE:GREGORIAN
METHOD:PUBLISH
X-WR-CALNAME:ArtsConnect Virginia
X-ORIGINAL-URL:https://artsconnectva.org
X-WR-CALDESC:Events for ArtsConnect Virginia
REFRESH-INTERVAL;VALUE=DURATION:PT1H
X-Robots-Tag:noindex
X-PUBLISHED-TTL:PT1H
BEGIN:VTIMEZONE
TZID:America/New_York
BEGIN:DAYLIGHT
TZOFFSETFROM:-0500
TZOFFSETTO:-0400
TZNAME:EDT
DTSTART:20240310T070000
END:DAYLIGHT
BEGIN:STANDARD
TZOFFSETFROM:-0400
TZOFFSETTO:-0500
TZNAME:EST
DTSTART:20241103T060000
END:STANDARD
BEGIN:DAYLIGHT
TZOFFSETFROM:-0500
TZOFFSETTO:-0400
TZNAME:EDT
DTSTART:20250309T070000
END:DAYLIGHT
BEGIN:STANDARD
TZOFFSETFROM:-0400
TZOFFSETTO:-0500
TZNAME:EST
DTSTART:20251102T060000
END:STANDARD
BEGIN:DAYLIGHT
TZOFFSETFROM:-0500
TZOFFSETTO:-0400
TZNAME:EDT
DTSTART:20260308T070000
END:DAYLIGHT
BEGIN:STANDARD
TZOFFSETFROM:-0400
TZOFFSETTO:-0500
TZNAME:EST
DTSTART:20261101T060000
END:STANDARD
END:VTIMEZONE
BEGIN:VEVENT
DTSTART;TZID=America/New_York:20250328T140000
DTEND;TZID=America/New_York:20250328T150000
DTSTAMP:20260419T084150
CREATED:20250314T000359Z
LAST-MODIFIED:20250314T000359Z
UID:13356-1743170400-1743174000@artsconnectva.org
SUMMARY:A Musical Journey with Savannah Howell
DESCRIPTION:View Flyer
URL:https://artsconnectva.org/event/a-musical-journey-with-savannah-howell/
LOCATION:VA
CATEGORIES:Outreach Program
END:VEVENT
BEGIN:VEVENT
DTSTART;TZID=America/New_York:20250328T140000
DTEND;TZID=America/New_York:20250328T150000
DTSTAMP:20260419T084150
CREATED:20250314T000504Z
LAST-MODIFIED:20250314T000504Z
UID:13359-1743170400-1743174000@artsconnectva.org
SUMMARY:Afternoon of Comedy with Rona Hyman
DESCRIPTION:View Flyer
URL:https://artsconnectva.org/event/afternoon-of-comedy-with-rona-hyman/
LOCATION:VA
CATEGORIES:Outreach Program
END:VEVENT
BEGIN:VEVENT
DTSTART;TZID=America/New_York:20250328T140000
DTEND;TZID=America/New_York:20250328T150000
DTSTAMP:20260419T084150
CREATED:20250314T000629Z
LAST-MODIFIED:20250314T000629Z
UID:13362-1743170400-1743174000@artsconnectva.org
SUMMARY:Happy Hour with Christian Flores
DESCRIPTION:Enjoy as Christian performs a wide variety of popular music from the 1930s to the present on the piano.
URL:https://artsconnectva.org/event/happy-hour-with-christian-flores-2/
LOCATION:VA
CATEGORIES:Outreach Program
END:VEVENT
BEGIN:VEVENT
DTSTART;TZID=America/New_York:20250328T140000
DTEND;TZID=America/New_York:20250328T150000
DTSTAMP:20260419T084150
CREATED:20250314T000815Z
LAST-MODIFIED:20250314T000815Z
UID:13364-1743170400-1743174000@artsconnectva.org
SUMMARY:Motown\, Memories and More with Richard Mekdeci
DESCRIPTION:View Flyer
URL:https://artsconnectva.org/event/motown-memories-and-more-with-richard-mekdeci-6/
LOCATION:VA
CATEGORIES:Outreach Program
END:VEVENT
BEGIN:VEVENT
DTSTART;TZID=America/New_York:20250328T150000
DTEND;TZID=America/New_York:20250328T160000
DTSTAMP:20260419T084150
CREATED:20250314T001020Z
LAST-MODIFIED:20250314T001020Z
UID:13367-1743174000-1743177600@artsconnectva.org
SUMMARY:Brass Tunes with Thalia Brass Quintet
DESCRIPTION:The Thalia Brass Quintet is a brass ensemble playing a variety of brass music from marches\, Jazz\, the Great American Songbook\, classical hymns\, and patriotic music.
URL:https://artsconnectva.org/event/brass-tunes-with-thalia-brass-quintet-4/
LOCATION:VA
CATEGORIES:Outreach Program
END:VEVENT
BEGIN:VEVENT
DTSTART;TZID=America/New_York:20250328T160000
DTEND;TZID=America/New_York:20250328T170000
DTSTAMP:20260419T084150
CREATED:20250314T001257Z
LAST-MODIFIED:20250314T001257Z
UID:13369-1743177600-1743181200@artsconnectva.org
SUMMARY:Melody Memories with Adrienne and Bernie
DESCRIPTION:Join Adrienne and Bernie as they play some of your favorite hits from the 50’s and 60’s!
URL:https://artsconnectva.org/event/melody-memories-with-adrienne-and-bernie-3/
LOCATION:VA
CATEGORIES:Outreach Program
END:VEVENT
BEGIN:VEVENT
DTSTART;TZID=America/New_York:20250328T183000
DTEND;TZID=America/New_York:20250328T193000
DTSTAMP:20260419T084150
CREATED:20250314T001503Z
LAST-MODIFIED:20250314T001503Z
UID:13371-1743186600-1743190200@artsconnectva.org
SUMMARY:Paint Night with Heidi Ordaz
DESCRIPTION:View Flyer
URL:https://artsconnectva.org/event/paint-night-with-heidi-ordaz-3/
LOCATION:VA
CATEGORIES:Outreach Program
END:VEVENT
END:VCALENDAR