BEGIN:VCALENDAR
VERSION:2.0
PRODID:-//ArtsConnect Virginia - ECPv6.15.20//NONSGML v1.0//EN
CALSCALE:GREGORIAN
METHOD:PUBLISH
X-ORIGINAL-URL:https://artsconnectva.org
X-WR-CALDESC:Events for ArtsConnect Virginia
REFRESH-INTERVAL;VALUE=DURATION:PT1H
X-Robots-Tag:noindex
X-PUBLISHED-TTL:PT1H
BEGIN:VTIMEZONE
TZID:America/New_York
BEGIN:DAYLIGHT
TZOFFSETFROM:-0500
TZOFFSETTO:-0400
TZNAME:EDT
DTSTART:20240310T070000
END:DAYLIGHT
BEGIN:STANDARD
TZOFFSETFROM:-0400
TZOFFSETTO:-0500
TZNAME:EST
DTSTART:20241103T060000
END:STANDARD
BEGIN:DAYLIGHT
TZOFFSETFROM:-0500
TZOFFSETTO:-0400
TZNAME:EDT
DTSTART:20250309T070000
END:DAYLIGHT
BEGIN:STANDARD
TZOFFSETFROM:-0400
TZOFFSETTO:-0500
TZNAME:EST
DTSTART:20251102T060000
END:STANDARD
BEGIN:DAYLIGHT
TZOFFSETFROM:-0500
TZOFFSETTO:-0400
TZNAME:EDT
DTSTART:20260308T070000
END:DAYLIGHT
BEGIN:STANDARD
TZOFFSETFROM:-0400
TZOFFSETTO:-0500
TZNAME:EST
DTSTART:20261101T060000
END:STANDARD
END:VTIMEZONE
BEGIN:VEVENT
DTSTART;TZID=America/New_York:20250304T103000
DTEND;TZID=America/New_York:20250304T113000
DTSTAMP:20260419T100529
CREATED:20250123T213252Z
LAST-MODIFIED:20250123T213252Z
UID:13005-1741084200-1741087800@artsconnectva.org
SUMMARY:Mardi Gras Mask Making with Stephanie Slate
DESCRIPTION:
URL:https://artsconnectva.org/event/mardi-gras-mask-making-with-stephanie-slate/
LOCATION:VA
CATEGORIES:Outreach Program
END:VEVENT
BEGIN:VEVENT
DTSTART;TZID=America/New_York:20250304T113000
DTEND;TZID=America/New_York:20250304T123000
DTSTAMP:20260419T100529
CREATED:20250123T213642Z
LAST-MODIFIED:20250123T213642Z
UID:13007-1741087800-1741091400@artsconnectva.org
SUMMARY:New Orleans Jazz with Dan Smith and Laura Carthcart
DESCRIPTION:
URL:https://artsconnectva.org/event/new-orleans-jazz-with-dan-smith-and-laura-carthcart/
LOCATION:Courthouse Way Community Center\, 14302 Old Courthouse Way\, Newport News\, VA\, 23602\, United States
CATEGORIES:Open to the Public
END:VEVENT
BEGIN:VEVENT
DTSTART;TZID=America/New_York:20250304T133000
DTEND;TZID=America/New_York:20250304T143000
DTSTAMP:20260419T100529
CREATED:20241126T181212Z
LAST-MODIFIED:20241126T181212Z
UID:12623-1741095000-1741098600@artsconnectva.org
SUMMARY:Keep the Beat Social with Ascension Melodies
DESCRIPTION:
URL:https://artsconnectva.org/event/keep-the-beat-social-with-ascension-melodies-3/
LOCATION:VA
CATEGORIES:Outreach Program
END:VEVENT
BEGIN:VEVENT
DTSTART;TZID=America/New_York:20250304T140000
DTEND;TZID=America/New_York:20250304T150000
DTSTAMP:20260419T100529
CREATED:20250123T214015Z
LAST-MODIFIED:20250123T214015Z
UID:13009-1741096800-1741100400@artsconnectva.org
SUMMARY:Harp Tunes with Karen Stowe
DESCRIPTION:
URL:https://artsconnectva.org/event/harp-tunes-with-karen-stowe/
LOCATION:VA
CATEGORIES:Outreach Program
END:VEVENT
BEGIN:VEVENT
DTSTART;TZID=America/New_York:20250304T140000
DTEND;TZID=America/New_York:20250304T150000
DTSTAMP:20260419T100529
CREATED:20250123T214902Z
LAST-MODIFIED:20250123T214902Z
UID:13011-1741096800-1741100400@artsconnectva.org
SUMMARY:Favorite Throwbacks with Art Rowe
DESCRIPTION:
URL:https://artsconnectva.org/event/favorite-throwbacks-with-art-rowe-30/
LOCATION:VA
CATEGORIES:Outreach Program
END:VEVENT
BEGIN:VEVENT
DTSTART;TZID=America/New_York:20250304T163000
DTEND;TZID=America/New_York:20250304T173000
DTSTAMP:20260419T100529
CREATED:20250123T215524Z
LAST-MODIFIED:20250123T215524Z
UID:13013-1741105800-1741109400@artsconnectva.org
SUMMARY:Mardi Gras Tunes with Dan Smith
DESCRIPTION:
URL:https://artsconnectva.org/event/mardi-gras-tunes-with-dan-smith-2/
LOCATION:VA
CATEGORIES:Outreach Program
END:VEVENT
END:VCALENDAR