BEGIN:VCALENDAR
VERSION:2.0
PRODID:-//ArtsConnect Virginia - ECPv6.15.20//NONSGML v1.0//EN
CALSCALE:GREGORIAN
METHOD:PUBLISH
X-ORIGINAL-URL:https://artsconnectva.org
X-WR-CALDESC:Events for ArtsConnect Virginia
REFRESH-INTERVAL;VALUE=DURATION:PT1H
X-Robots-Tag:noindex
X-PUBLISHED-TTL:PT1H
BEGIN:VTIMEZONE
TZID:America/New_York
BEGIN:DAYLIGHT
TZOFFSETFROM:-0500
TZOFFSETTO:-0400
TZNAME:EDT
DTSTART:20240310T070000
END:DAYLIGHT
BEGIN:STANDARD
TZOFFSETFROM:-0400
TZOFFSETTO:-0500
TZNAME:EST
DTSTART:20241103T060000
END:STANDARD
BEGIN:DAYLIGHT
TZOFFSETFROM:-0500
TZOFFSETTO:-0400
TZNAME:EDT
DTSTART:20250309T070000
END:DAYLIGHT
BEGIN:STANDARD
TZOFFSETFROM:-0400
TZOFFSETTO:-0500
TZNAME:EST
DTSTART:20251102T060000
END:STANDARD
BEGIN:DAYLIGHT
TZOFFSETFROM:-0500
TZOFFSETTO:-0400
TZNAME:EDT
DTSTART:20260308T070000
END:DAYLIGHT
BEGIN:STANDARD
TZOFFSETFROM:-0400
TZOFFSETTO:-0500
TZNAME:EST
DTSTART:20261101T060000
END:STANDARD
END:VTIMEZONE
BEGIN:VEVENT
DTSTART;TZID=America/New_York:20250226T104500
DTEND;TZID=America/New_York:20250226T114500
DTSTAMP:20260419T100627
CREATED:20250122T145141Z
LAST-MODIFIED:20250122T145141Z
UID:12973-1740566700-1740570300@artsconnectva.org
SUMMARY:Mason Jar Craft with Stephanie Slate
DESCRIPTION:
URL:https://artsconnectva.org/event/mason-jar-craft-with-stephanie-slate/
LOCATION:VA
CATEGORIES:Outreach Program
END:VEVENT
BEGIN:VEVENT
DTSTART;TZID=America/New_York:20250226T110000
DTEND;TZID=America/New_York:20250226T120000
DTSTAMP:20260419T100627
CREATED:20250122T145533Z
LAST-MODIFIED:20250122T145533Z
UID:12975-1740567600-1740571200@artsconnectva.org
SUMMARY:Creative Writing with Deb Frech
DESCRIPTION:
URL:https://artsconnectva.org/event/creative-writing-with-deb-frech/
LOCATION:VA
CATEGORIES:Outreach Program
END:VEVENT
BEGIN:VEVENT
DTSTART;TZID=America/New_York:20250226T111500
DTEND;TZID=America/New_York:20250226T121500
DTSTAMP:20260419T100627
CREATED:20250122T144737Z
LAST-MODIFIED:20250122T144737Z
UID:12971-1740568500-1740572100@artsconnectva.org
SUMMARY:Strummin' and Pickin' with Eric & Ted
DESCRIPTION:
URL:https://artsconnectva.org/event/strummin-and-pickin-with-eric-ted/
LOCATION:VA
CATEGORIES:Outreach Program
END:VEVENT
END:VCALENDAR