BEGIN:VCALENDAR
VERSION:2.0
PRODID:-//ArtsConnect Virginia - ECPv6.15.20//NONSGML v1.0//EN
CALSCALE:GREGORIAN
METHOD:PUBLISH
X-ORIGINAL-URL:https://artsconnectva.org
X-WR-CALDESC:Events for ArtsConnect Virginia
REFRESH-INTERVAL;VALUE=DURATION:PT1H
X-Robots-Tag:noindex
X-PUBLISHED-TTL:PT1H
BEGIN:VTIMEZONE
TZID:America/New_York
BEGIN:DAYLIGHT
TZOFFSETFROM:-0500
TZOFFSETTO:-0400
TZNAME:EDT
DTSTART:20240310T070000
END:DAYLIGHT
BEGIN:STANDARD
TZOFFSETFROM:-0400
TZOFFSETTO:-0500
TZNAME:EST
DTSTART:20241103T060000
END:STANDARD
BEGIN:DAYLIGHT
TZOFFSETFROM:-0500
TZOFFSETTO:-0400
TZNAME:EDT
DTSTART:20250309T070000
END:DAYLIGHT
BEGIN:STANDARD
TZOFFSETFROM:-0400
TZOFFSETTO:-0500
TZNAME:EST
DTSTART:20251102T060000
END:STANDARD
BEGIN:DAYLIGHT
TZOFFSETFROM:-0500
TZOFFSETTO:-0400
TZNAME:EDT
DTSTART:20260308T070000
END:DAYLIGHT
BEGIN:STANDARD
TZOFFSETFROM:-0400
TZOFFSETTO:-0500
TZNAME:EST
DTSTART:20261101T060000
END:STANDARD
END:VTIMEZONE
BEGIN:VEVENT
DTSTART;TZID=America/New_York:20250224T120000
DTEND;TZID=America/New_York:20250224T130000
DTSTAMP:20260419T100629
CREATED:20250117T191943Z
LAST-MODIFIED:20250117T191943Z
UID:12941-1740398400-1740402000@artsconnectva.org
SUMMARY:Bisque Bowl Glaze with Camille Donne
DESCRIPTION:
URL:https://artsconnectva.org/event/bisque-bowl-glaze-with-camille-donne/
LOCATION:Virgil I. Grissom Library\, 366 Deshazor Dr\, Newport News\, VA\, 23608\, United States
CATEGORIES:Open to the Public
END:VEVENT
BEGIN:VEVENT
DTSTART;TZID=America/New_York:20250224T140000
DTEND;TZID=America/New_York:20250224T150000
DTSTAMP:20260419T100629
CREATED:20250129T190523Z
LAST-MODIFIED:20250129T190523Z
UID:13051-1740405600-1740409200@artsconnectva.org
SUMMARY:Celebrating Lunar New Year with Dan Smith
DESCRIPTION:
URL:https://artsconnectva.org/event/celebrating-lunar-new-year-with-dan-smith/
LOCATION:Newport News\, VA\, Newport News\, VA\, United States
CATEGORIES:Outreach Program
END:VEVENT
BEGIN:VEVENT
DTSTART;TZID=America/New_York:20250224T150000
DTEND;TZID=America/New_York:20250224T160000
DTSTAMP:20260419T100629
CREATED:20250117T192238Z
LAST-MODIFIED:20250117T192238Z
UID:12943-1740409200-1740412800@artsconnectva.org
SUMMARY:Piano Tunes with Christian Flores
DESCRIPTION:
URL:https://artsconnectva.org/event/piano-tunes-with-christian-flores-20/
LOCATION:VA
CATEGORIES:Outreach Program
END:VEVENT
END:VCALENDAR