BEGIN:VCALENDAR
VERSION:2.0
PRODID:-//ArtsConnect Virginia - ECPv6.15.20//NONSGML v1.0//EN
CALSCALE:GREGORIAN
METHOD:PUBLISH
X-ORIGINAL-URL:https://artsconnectva.org
X-WR-CALDESC:Events for ArtsConnect Virginia
REFRESH-INTERVAL;VALUE=DURATION:PT1H
X-Robots-Tag:noindex
X-PUBLISHED-TTL:PT1H
BEGIN:VTIMEZONE
TZID:America/New_York
BEGIN:DAYLIGHT
TZOFFSETFROM:-0500
TZOFFSETTO:-0400
TZNAME:EDT
DTSTART:20240310T070000
END:DAYLIGHT
BEGIN:STANDARD
TZOFFSETFROM:-0400
TZOFFSETTO:-0500
TZNAME:EST
DTSTART:20241103T060000
END:STANDARD
BEGIN:DAYLIGHT
TZOFFSETFROM:-0500
TZOFFSETTO:-0400
TZNAME:EDT
DTSTART:20250309T070000
END:DAYLIGHT
BEGIN:STANDARD
TZOFFSETFROM:-0400
TZOFFSETTO:-0500
TZNAME:EST
DTSTART:20251102T060000
END:STANDARD
BEGIN:DAYLIGHT
TZOFFSETFROM:-0500
TZOFFSETTO:-0400
TZNAME:EDT
DTSTART:20260308T070000
END:DAYLIGHT
BEGIN:STANDARD
TZOFFSETFROM:-0400
TZOFFSETTO:-0500
TZNAME:EST
DTSTART:20261101T060000
END:STANDARD
END:VTIMEZONE
BEGIN:VEVENT
DTSTART;TZID=America/New_York:20250221T130000
DTEND;TZID=America/New_York:20250221T140000
DTSTAMP:20260419T114328
CREATED:20250123T163306Z
LAST-MODIFIED:20250123T163306Z
UID:13001-1740142800-1740146400@artsconnectva.org
SUMMARY:Hands on Sampler with Heidi Ordaz
DESCRIPTION:
URL:https://artsconnectva.org/event/hands-on-sampler-with-heidi-ordaz/
LOCATION:VA
CATEGORIES:Outreach Program
END:VEVENT
BEGIN:VEVENT
DTSTART;TZID=America/New_York:20250221T140000
DTEND;TZID=America/New_York:20250221T150000
DTSTAMP:20260419T114328
CREATED:20250117T190818Z
LAST-MODIFIED:20250117T190818Z
UID:12934-1740146400-1740150000@artsconnectva.org
SUMMARY:Trumpet Tunes with Chad McGill
DESCRIPTION:
URL:https://artsconnectva.org/event/trumpet-tunes-with-chad-mcgill-32/
LOCATION:VA
CATEGORIES:Outreach Program
END:VEVENT
BEGIN:VEVENT
DTSTART;TZID=America/New_York:20250221T140000
DTEND;TZID=America/New_York:20250221T150000
DTSTAMP:20260419T114328
CREATED:20250117T191317Z
LAST-MODIFIED:20250117T191402Z
UID:12936-1740146400-1740150000@artsconnectva.org
SUMMARY:Love Songs through the Decades with Karen Stowe
DESCRIPTION:
URL:https://artsconnectva.org/event/love-through-the-decades-with-karen-stowe/
LOCATION:VA
CATEGORIES:Outreach Program
END:VEVENT
BEGIN:VEVENT
DTSTART;TZID=America/New_York:20250221T140000
DTEND;TZID=America/New_York:20250221T150000
DTSTAMP:20260419T114328
CREATED:20250117T191634Z
LAST-MODIFIED:20250117T191634Z
UID:12939-1740146400-1740150000@artsconnectva.org
SUMMARY:Favorite Throwbacks with Art Rowe
DESCRIPTION:
URL:https://artsconnectva.org/event/favorite-throwbacks-with-art-rowe-29/
LOCATION:VA
CATEGORIES:Outreach Program
END:VEVENT
BEGIN:VEVENT
DTSTART;TZID=America/New_York:20250221T150000
DTEND;TZID=America/New_York:20250221T160000
DTSTAMP:20260419T114328
CREATED:20250129T185006Z
LAST-MODIFIED:20250129T185006Z
UID:13049-1740150000-1740153600@artsconnectva.org
SUMMARY:Famous Hits! with Dan Smith
DESCRIPTION:
URL:https://artsconnectva.org/event/famous-hits-with-dan-smith-4/
LOCATION:VA
CATEGORIES:Outreach Program
END:VEVENT
BEGIN:VEVENT
DTSTART;TZID=America/New_York:20250221T160000
DTEND;TZID=America/New_York:20250221T170000
DTSTAMP:20260419T114328
CREATED:20250120T153840Z
LAST-MODIFIED:20250130T200307Z
UID:12957-1740153600-1740157200@artsconnectva.org
SUMMARY:Sing Along Songs of 50's & 60's with Adrienne & Bernie
DESCRIPTION:
URL:https://artsconnectva.org/event/sing-along-songs-of-50s-60s-with-adrienne-jamie/
LOCATION:VA
CATEGORIES:Outreach Program
END:VEVENT
BEGIN:VEVENT
DTSTART;TZID=America/New_York:20250221T163000
DTEND;TZID=America/New_York:20250221T173000
DTSTAMP:20260419T114328
CREATED:20250122T143934Z
LAST-MODIFIED:20250122T143934Z
UID:12969-1740155400-1740159000@artsconnectva.org
SUMMARY:Paint Night with Heidi Ordaz
DESCRIPTION:
URL:https://artsconnectva.org/event/paint-night-with-heidi-ordaz/
LOCATION:VA
CATEGORIES:Outreach Program
END:VEVENT
END:VCALENDAR