BEGIN:VCALENDAR
VERSION:2.0
PRODID:-//ArtsConnect Virginia - ECPv6.15.20//NONSGML v1.0//EN
CALSCALE:GREGORIAN
METHOD:PUBLISH
X-ORIGINAL-URL:https://artsconnectva.org
X-WR-CALDESC:Events for ArtsConnect Virginia
REFRESH-INTERVAL;VALUE=DURATION:PT1H
X-Robots-Tag:noindex
X-PUBLISHED-TTL:PT1H
BEGIN:VTIMEZONE
TZID:America/New_York
BEGIN:DAYLIGHT
TZOFFSETFROM:-0500
TZOFFSETTO:-0400
TZNAME:EDT
DTSTART:20240310T070000
END:DAYLIGHT
BEGIN:STANDARD
TZOFFSETFROM:-0400
TZOFFSETTO:-0500
TZNAME:EST
DTSTART:20241103T060000
END:STANDARD
BEGIN:DAYLIGHT
TZOFFSETFROM:-0500
TZOFFSETTO:-0400
TZNAME:EDT
DTSTART:20250309T070000
END:DAYLIGHT
BEGIN:STANDARD
TZOFFSETFROM:-0400
TZOFFSETTO:-0500
TZNAME:EST
DTSTART:20251102T060000
END:STANDARD
BEGIN:DAYLIGHT
TZOFFSETFROM:-0500
TZOFFSETTO:-0400
TZNAME:EDT
DTSTART:20260308T070000
END:DAYLIGHT
BEGIN:STANDARD
TZOFFSETFROM:-0400
TZOFFSETTO:-0500
TZNAME:EST
DTSTART:20261101T060000
END:STANDARD
END:VTIMEZONE
BEGIN:VEVENT
DTSTART;TZID=America/New_York:20250220T100000
DTEND;TZID=America/New_York:20250220T110000
DTSTAMP:20260419T131950
CREATED:20250123T162848Z
LAST-MODIFIED:20250123T162848Z
UID:12999-1740045600-1740049200@artsconnectva.org
SUMMARY:Mixed Media Sampler with Heidi Ordaz
DESCRIPTION:
URL:https://artsconnectva.org/event/mixed-media-sampler-with-heidi-ordaz/
LOCATION:VA
CATEGORIES:Outreach Program
END:VEVENT
BEGIN:VEVENT
DTSTART;TZID=America/New_York:20250220T130000
DTEND;TZID=America/New_York:20250220T140000
DTSTAMP:20260419T131950
CREATED:20250123T220853Z
LAST-MODIFIED:20250123T220853Z
UID:13019-1740056400-1740060000@artsconnectva.org
SUMMARY:Cardinal Wood Slice Craft with Stephanie Slate
DESCRIPTION:
URL:https://artsconnectva.org/event/cardinal-wood-slice-craft-with-stephanie-slate-2/
LOCATION:VA
CATEGORIES:Outreach Program
END:VEVENT
BEGIN:VEVENT
DTSTART;TZID=America/New_York:20250220T140000
DTEND;TZID=America/New_York:20250220T150000
DTSTAMP:20260419T131950
CREATED:20241122T155521Z
LAST-MODIFIED:20241122T155521Z
UID:12597-1740060000-1740063600@artsconnectva.org
SUMMARY:Famous Hits with Cory Laser
DESCRIPTION:
URL:https://artsconnectva.org/event/famous-hits-with-cory-laser-23/
LOCATION:VA
CATEGORIES:Outreach Program
END:VEVENT
BEGIN:VEVENT
DTSTART;TZID=America/New_York:20250220T140000
DTEND;TZID=America/New_York:20250220T150000
DTSTAMP:20260419T131950
CREATED:20250117T190604Z
LAST-MODIFIED:20250117T190604Z
UID:12932-1740060000-1740063600@artsconnectva.org
SUMMARY:Trumpet Tunes with Chad McGill
DESCRIPTION:
URL:https://artsconnectva.org/event/trumpet-tunes-with-chad-mcgill-31/
LOCATION:Hampton Public Library\, 4207 Victoria Blvd\, Hampton\, VA\, 23669\, United States
CATEGORIES:Open to the Public
END:VEVENT
BEGIN:VEVENT
DTSTART;TZID=America/New_York:20250220T160000
DTEND;TZID=America/New_York:20250220T170000
DTSTAMP:20260419T131950
CREATED:20250120T153511Z
LAST-MODIFIED:20250120T153511Z
UID:12955-1740067200-1740070800@artsconnectva.org
SUMMARY:The Soundscapes Performance Ensemble
DESCRIPTION:
URL:https://artsconnectva.org/event/the-soundscapes-performance-ensemble/
LOCATION:VA
CATEGORIES:Outreach Program
END:VEVENT
END:VCALENDAR