BEGIN:VCALENDAR
VERSION:2.0
PRODID:-//ArtsConnect Virginia - ECPv6.15.20//NONSGML v1.0//EN
CALSCALE:GREGORIAN
METHOD:PUBLISH
X-ORIGINAL-URL:https://artsconnectva.org
X-WR-CALDESC:Events for ArtsConnect Virginia
REFRESH-INTERVAL;VALUE=DURATION:PT1H
X-Robots-Tag:noindex
X-PUBLISHED-TTL:PT1H
BEGIN:VTIMEZONE
TZID:America/New_York
BEGIN:DAYLIGHT
TZOFFSETFROM:-0500
TZOFFSETTO:-0400
TZNAME:EDT
DTSTART:20240310T070000
END:DAYLIGHT
BEGIN:STANDARD
TZOFFSETFROM:-0400
TZOFFSETTO:-0500
TZNAME:EST
DTSTART:20241103T060000
END:STANDARD
BEGIN:DAYLIGHT
TZOFFSETFROM:-0500
TZOFFSETTO:-0400
TZNAME:EDT
DTSTART:20250309T070000
END:DAYLIGHT
BEGIN:STANDARD
TZOFFSETFROM:-0400
TZOFFSETTO:-0500
TZNAME:EST
DTSTART:20251102T060000
END:STANDARD
BEGIN:DAYLIGHT
TZOFFSETFROM:-0500
TZOFFSETTO:-0400
TZNAME:EDT
DTSTART:20260308T070000
END:DAYLIGHT
BEGIN:STANDARD
TZOFFSETFROM:-0400
TZOFFSETTO:-0500
TZNAME:EST
DTSTART:20261101T060000
END:STANDARD
END:VTIMEZONE
BEGIN:VEVENT
DTSTART;TZID=America/New_York:20250214T123000
DTEND;TZID=America/New_York:20250214T133000
DTSTAMP:20260419T114243
CREATED:20250122T143127Z
LAST-MODIFIED:20250122T143127Z
UID:12965-1739536200-1739539800@artsconnectva.org
SUMMARY:Piano Tunes with Christian Flores
DESCRIPTION:
URL:https://artsconnectva.org/event/piano-tunes-with-christian-flores-21/
LOCATION:VA
CATEGORIES:Outreach Program
END:VEVENT
BEGIN:VEVENT
DTSTART;TZID=America/New_York:20250214T130000
DTEND;TZID=America/New_York:20250214T140000
DTSTAMP:20260419T114243
CREATED:20250117T154019Z
LAST-MODIFIED:20250117T154019Z
UID:12912-1739538000-1739541600@artsconnectva.org
SUMMARY:Card Making with Sandy Kinchen
DESCRIPTION:
URL:https://artsconnectva.org/event/card-making-with-sandy-kinchen-6/
LOCATION:VA
CATEGORIES:Outreach Program
END:VEVENT
BEGIN:VEVENT
DTSTART;TZID=America/New_York:20250214T140000
DTEND;TZID=America/New_York:20250214T150000
DTSTAMP:20260419T114243
CREATED:20241122T154122Z
LAST-MODIFIED:20241122T154122Z
UID:12583-1739541600-1739545200@artsconnectva.org
SUMMARY:Happy Hour with Cory Laser
DESCRIPTION:
URL:https://artsconnectva.org/event/happy-hour-with-cory-laser-4/
LOCATION:VA
CATEGORIES:Outreach Program
END:VEVENT
BEGIN:VEVENT
DTSTART;TZID=America/New_York:20250214T140000
DTEND;TZID=America/New_York:20250214T150000
DTSTAMP:20260419T114243
CREATED:20250117T154335Z
LAST-MODIFIED:20250117T154335Z
UID:12914-1739541600-1739545200@artsconnectva.org
SUMMARY:Valentine's Painting with Maggie Kerrigan
DESCRIPTION:
URL:https://artsconnectva.org/event/valentines-painting-with-maggie-kerrigan/
LOCATION:VA
CATEGORIES:Outreach Program
END:VEVENT
BEGIN:VEVENT
DTSTART;TZID=America/New_York:20250214T140000
DTEND;TZID=America/New_York:20250214T150000
DTSTAMP:20260419T114244
CREATED:20250117T154643Z
LAST-MODIFIED:20250117T154643Z
UID:12916-1739541600-1739545200@artsconnectva.org
SUMMARY:Love Songs through the Decades with Karen Stowe
DESCRIPTION:
URL:https://artsconnectva.org/event/love-songs-through-the-decades-with-karen-stowe-7/
LOCATION:VA
CATEGORIES:Outreach Program
END:VEVENT
BEGIN:VEVENT
DTSTART;TZID=America/New_York:20250214T140000
DTEND;TZID=America/New_York:20250214T150000
DTSTAMP:20260419T114244
CREATED:20250117T183326Z
LAST-MODIFIED:20250117T183326Z
UID:12920-1739541600-1739545200@artsconnectva.org
SUMMARY:Sweetheart Dance with Dan Smith
DESCRIPTION:
URL:https://artsconnectva.org/event/sweetheart-dance-with-dan-smith/
LOCATION:VA
CATEGORIES:Outreach Program
END:VEVENT
BEGIN:VEVENT
DTSTART;TZID=America/New_York:20250214T140000
DTEND;TZID=America/New_York:20250214T150000
DTSTAMP:20260419T114244
CREATED:20250117T183602Z
LAST-MODIFIED:20250117T183602Z
UID:12922-1739541600-1739545200@artsconnectva.org
SUMMARY:Valentine's Tunes with Chad McGill
DESCRIPTION:
URL:https://artsconnectva.org/event/valentines-tunes-with-chad-mcgill/
LOCATION:VA
CATEGORIES:Outreach Program
END:VEVENT
BEGIN:VEVENT
DTSTART;TZID=America/New_York:20250214T140000
DTEND;TZID=America/New_York:20250214T150000
DTSTAMP:20260419T114244
CREATED:20250128T180914Z
LAST-MODIFIED:20250128T180914Z
UID:13028-1739541600-1739545200@artsconnectva.org
SUMMARY:Romantic Hits with Cory Laser
DESCRIPTION:
URL:https://artsconnectva.org/event/romantic-hits-with-cory-laser/
LOCATION:VA
CATEGORIES:Outreach Program
END:VEVENT
BEGIN:VEVENT
DTSTART;TZID=America/New_York:20250214T140000
DTEND;TZID=America/New_York:20250214T150000
DTSTAMP:20260419T114244
CREATED:20250128T181922Z
LAST-MODIFIED:20250128T181922Z
UID:13030-1739541600-1739545200@artsconnectva.org
SUMMARY:Valentine's Candle Making with Ginnie & Tracy
DESCRIPTION:
URL:https://artsconnectva.org/event/valentines-candle-making-with-ginnie-tracy/
LOCATION:Portsmouth\, VA\, Portsmouth\, VA\, United States
CATEGORIES:Outreach Program
END:VEVENT
BEGIN:VEVENT
DTSTART;TZID=America/New_York:20250214T150000
DTEND;TZID=America/New_York:20250214T160000
DTSTAMP:20260419T114244
CREATED:20250117T155051Z
LAST-MODIFIED:20250117T155051Z
UID:12918-1739545200-1739548800@artsconnectva.org
SUMMARY:Sing Along to the Hits of the 50's & 60's with Adrienne and Jamie
DESCRIPTION:
URL:https://artsconnectva.org/event/sing-along-to-the-hits-of-the-50s-60s-with-adrienne-and-jamie/
LOCATION:VA
CATEGORIES:Outreach Program
END:VEVENT
BEGIN:VEVENT
DTSTART;TZID=America/New_York:20250214T170000
DTEND;TZID=America/New_York:20250214T180000
DTSTAMP:20260419T114244
CREATED:20250128T171749Z
LAST-MODIFIED:20250128T171749Z
UID:13026-1739552400-1739556000@artsconnectva.org
SUMMARY:Writing Workshop with Synnika Lofton
DESCRIPTION:
URL:https://artsconnectva.org/event/writing-workshop-with-synnika-lofton/
LOCATION:Barron F. Black Branch Library\, 6700 E Tanners Creek Dr\, Norfolk\, VA\, 23513\, United States
CATEGORIES:Open to the Public
END:VEVENT
END:VCALENDAR