BEGIN:VCALENDAR
VERSION:2.0
PRODID:-//ArtsConnect Virginia - ECPv6.15.20//NONSGML v1.0//EN
CALSCALE:GREGORIAN
METHOD:PUBLISH
X-WR-CALNAME:ArtsConnect Virginia
X-ORIGINAL-URL:https://artsconnectva.org
X-WR-CALDESC:Events for ArtsConnect Virginia
REFRESH-INTERVAL;VALUE=DURATION:PT1H
X-Robots-Tag:noindex
X-PUBLISHED-TTL:PT1H
BEGIN:VTIMEZONE
TZID:America/New_York
BEGIN:DAYLIGHT
TZOFFSETFROM:-0500
TZOFFSETTO:-0400
TZNAME:EDT
DTSTART:20240310T070000
END:DAYLIGHT
BEGIN:STANDARD
TZOFFSETFROM:-0400
TZOFFSETTO:-0500
TZNAME:EST
DTSTART:20241103T060000
END:STANDARD
BEGIN:DAYLIGHT
TZOFFSETFROM:-0500
TZOFFSETTO:-0400
TZNAME:EDT
DTSTART:20250309T070000
END:DAYLIGHT
BEGIN:STANDARD
TZOFFSETFROM:-0400
TZOFFSETTO:-0500
TZNAME:EST
DTSTART:20251102T060000
END:STANDARD
BEGIN:DAYLIGHT
TZOFFSETFROM:-0500
TZOFFSETTO:-0400
TZNAME:EDT
DTSTART:20260308T070000
END:DAYLIGHT
BEGIN:STANDARD
TZOFFSETFROM:-0400
TZOFFSETTO:-0500
TZNAME:EST
DTSTART:20261101T060000
END:STANDARD
END:VTIMEZONE
BEGIN:VEVENT
DTSTART;TZID=America/New_York:20250208T100000
DTEND;TZID=America/New_York:20250208T110000
DTSTAMP:20260419T113746
CREATED:20250108T214428Z
LAST-MODIFIED:20250123T182452Z
UID:12809-1739008800-1739012400@artsconnectva.org
SUMMARY:Spock\, Spiderman\, and Captain Sparrow with Jena Chenkin
DESCRIPTION:
URL:https://artsconnectva.org/event/spock-spiderman-and-captain-sparrow-with-jena-chenkin/
LOCATION:VA
CATEGORIES:Outreach Program
END:VEVENT
BEGIN:VEVENT
DTSTART;TZID=America/New_York:20250208T141500
DTEND;TZID=America/New_York:20250208T144500
DTSTAMP:20260419T113746
CREATED:20250117T152302Z
LAST-MODIFIED:20250117T152302Z
UID:12903-1739024100-1739025900@artsconnectva.org
SUMMARY:Achievements of Local African American Artists with Synnika Lofton
DESCRIPTION:
URL:https://artsconnectva.org/event/achievements-of-local-african-american-artists-with-synnika-lofton/
LOCATION:Richard A. Tucker Memorial Library\, 2350 Berkley Ave\, Norfolk\, VA\, 23523\, United States
CATEGORIES:Open to the Public
END:VEVENT
END:VCALENDAR