BEGIN:VCALENDAR
VERSION:2.0
PRODID:-//ArtsConnect Virginia - ECPv6.15.20//NONSGML v1.0//EN
CALSCALE:GREGORIAN
METHOD:PUBLISH
X-ORIGINAL-URL:https://artsconnectva.org
X-WR-CALDESC:Events for ArtsConnect Virginia
REFRESH-INTERVAL;VALUE=DURATION:PT1H
X-Robots-Tag:noindex
X-PUBLISHED-TTL:PT1H
BEGIN:VTIMEZONE
TZID:America/New_York
BEGIN:DAYLIGHT
TZOFFSETFROM:-0500
TZOFFSETTO:-0400
TZNAME:EDT
DTSTART:20240310T070000
END:DAYLIGHT
BEGIN:STANDARD
TZOFFSETFROM:-0400
TZOFFSETTO:-0500
TZNAME:EST
DTSTART:20241103T060000
END:STANDARD
BEGIN:DAYLIGHT
TZOFFSETFROM:-0500
TZOFFSETTO:-0400
TZNAME:EDT
DTSTART:20250309T070000
END:DAYLIGHT
BEGIN:STANDARD
TZOFFSETFROM:-0400
TZOFFSETTO:-0500
TZNAME:EST
DTSTART:20251102T060000
END:STANDARD
BEGIN:DAYLIGHT
TZOFFSETFROM:-0500
TZOFFSETTO:-0400
TZNAME:EDT
DTSTART:20260308T070000
END:DAYLIGHT
BEGIN:STANDARD
TZOFFSETFROM:-0400
TZOFFSETTO:-0500
TZNAME:EST
DTSTART:20261101T060000
END:STANDARD
END:VTIMEZONE
BEGIN:VEVENT
DTSTART;TZID=America/New_York:20250206T130000
DTEND;TZID=America/New_York:20250206T140000
DTSTAMP:20260419T114144
CREATED:20250131T224336Z
LAST-MODIFIED:20250131T224336Z
UID:13055-1738846800-1738850400@artsconnectva.org
SUMMARY:TAO: Timeless Tunes with Christian Flores
DESCRIPTION:
URL:https://artsconnectva.org/event/tao-timeless-tunes-with-christian-flores/
LOCATION:VA
CATEGORIES:Outreach Program
END:VEVENT
BEGIN:VEVENT
DTSTART;TZID=America/New_York:20250206T140000
DTEND;TZID=America/New_York:20250206T150000
DTSTAMP:20260419T114144
CREATED:20241122T155451Z
LAST-MODIFIED:20241122T155451Z
UID:12595-1738850400-1738854000@artsconnectva.org
SUMMARY:Rock n' Roll with Mark Pettiford
DESCRIPTION:
URL:https://artsconnectva.org/event/rock-n-roll-with-mark-pettiford-13/
LOCATION:VA
CATEGORIES:Outreach Program
END:VEVENT
BEGIN:VEVENT
DTSTART;TZID=America/New_York:20250206T140000
DTEND;TZID=America/New_York:20250206T150000
DTSTAMP:20260419T114144
CREATED:20250114T213908Z
LAST-MODIFIED:20250114T213908Z
UID:12867-1738850400-1738854000@artsconnectva.org
SUMMARY:Music with Dan Smith
DESCRIPTION:
URL:https://artsconnectva.org/event/music-with-dan-smith-7/
LOCATION:Hampton Public Library\, 4207 Victoria Blvd\, Hampton\, VA\, 23669\, United States
CATEGORIES:Open to the Public
END:VEVENT
BEGIN:VEVENT
DTSTART;TZID=America/New_York:20250206T140000
DTEND;TZID=America/New_York:20250206T150000
DTSTAMP:20260419T114144
CREATED:20250115T140417Z
LAST-MODIFIED:20250115T140417Z
UID:12869-1738850400-1738854000@artsconnectva.org
SUMMARY:Favorite Throwbacks with Art Rowe
DESCRIPTION:
URL:https://artsconnectva.org/event/favorite-throwbacks-with-art-rowe-28/
LOCATION:VA
CATEGORIES:Outreach Program
END:VEVENT
BEGIN:VEVENT
DTSTART;TZID=America/New_York:20250206T180000
DTEND;TZID=America/New_York:20250206T200000
DTSTAMP:20260419T114144
CREATED:20250115T140824Z
LAST-MODIFIED:20250115T140824Z
UID:12871-1738864800-1738872000@artsconnectva.org
SUMMARY:Artful Affection: Sending Love through Creativity with Deb Frech
DESCRIPTION:
URL:https://artsconnectva.org/event/artful-affection-sending-love-through-creativity-with-deb-frech/
LOCATION:VA
CATEGORIES:Outreach Program
END:VEVENT
END:VCALENDAR