BEGIN:VCALENDAR
VERSION:2.0
PRODID:-//ArtsConnect Virginia - ECPv6.15.20//NONSGML v1.0//EN
CALSCALE:GREGORIAN
METHOD:PUBLISH
X-WR-CALNAME:ArtsConnect Virginia
X-ORIGINAL-URL:https://artsconnectva.org
X-WR-CALDESC:Events for ArtsConnect Virginia
REFRESH-INTERVAL;VALUE=DURATION:PT1H
X-Robots-Tag:noindex
X-PUBLISHED-TTL:PT1H
BEGIN:VTIMEZONE
TZID:America/New_York
BEGIN:DAYLIGHT
TZOFFSETFROM:-0500
TZOFFSETTO:-0400
TZNAME:EDT
DTSTART:20240310T070000
END:DAYLIGHT
BEGIN:STANDARD
TZOFFSETFROM:-0400
TZOFFSETTO:-0500
TZNAME:EST
DTSTART:20241103T060000
END:STANDARD
BEGIN:DAYLIGHT
TZOFFSETFROM:-0500
TZOFFSETTO:-0400
TZNAME:EDT
DTSTART:20250309T070000
END:DAYLIGHT
BEGIN:STANDARD
TZOFFSETFROM:-0400
TZOFFSETTO:-0500
TZNAME:EST
DTSTART:20251102T060000
END:STANDARD
BEGIN:DAYLIGHT
TZOFFSETFROM:-0500
TZOFFSETTO:-0400
TZNAME:EDT
DTSTART:20260308T070000
END:DAYLIGHT
BEGIN:STANDARD
TZOFFSETFROM:-0400
TZOFFSETTO:-0500
TZNAME:EST
DTSTART:20261101T060000
END:STANDARD
END:VTIMEZONE
BEGIN:VEVENT
DTSTART;TZID=America/New_York:20250121T110000
DTEND;TZID=America/New_York:20250121T120000
DTSTAMP:20260419T100239
CREATED:20250108T213424Z
LAST-MODIFIED:20250108T213424Z
UID:12803-1737457200-1737460800@artsconnectva.org
SUMMARY:Vision Boards with Amanda Wallace
DESCRIPTION:
URL:https://artsconnectva.org/event/vision-boards-with-amanda-wallace/
LOCATION:VA
CATEGORIES:Outreach Program
END:VEVENT
BEGIN:VEVENT
DTSTART;TZID=America/New_York:20250121T130000
DTEND;TZID=America/New_York:20250121T140000
DTSTAMP:20260419T100239
CREATED:20241220T164738Z
LAST-MODIFIED:20241220T164738Z
UID:12748-1737464400-1737468000@artsconnectva.org
SUMMARY:Snowman Board with Stephanie Slate
DESCRIPTION:
URL:https://artsconnectva.org/event/snowman-board-with-stephanie-slate/
LOCATION:VA
CATEGORIES:Outreach Program
END:VEVENT
BEGIN:VEVENT
DTSTART;TZID=America/New_York:20250121T133000
DTEND;TZID=America/New_York:20250121T143000
DTSTAMP:20260419T100239
CREATED:20250110T152037Z
LAST-MODIFIED:20250110T152037Z
UID:12817-1737466200-1737469800@artsconnectva.org
SUMMARY:Disco Tunes with Christian Flores
DESCRIPTION:
URL:https://artsconnectva.org/event/disco-tunes-with-christian-flores/
LOCATION:VA
CATEGORIES:Outreach Program
END:VEVENT
BEGIN:VEVENT
DTSTART;TZID=America/New_York:20250121T140000
DTEND;TZID=America/New_York:20250121T150000
DTSTAMP:20260419T100239
CREATED:20241224T161627Z
LAST-MODIFIED:20241224T161627Z
UID:12760-1737468000-1737471600@artsconnectva.org
SUMMARY:Musical Serenade with Ascension Melodies
DESCRIPTION:Lisa Villa (flute) and Rebecca Antonio (violin) joined together 15 years ago to create Ascension Melodies\, bring duets ranging from classical to more contemporary pieces.
URL:https://artsconnectva.org/event/musical-serenade-with-ascension-melodies-13/
LOCATION:VA
CATEGORIES:Outreach Program
END:VEVENT
BEGIN:VEVENT
DTSTART;TZID=America/New_York:20250121T140000
DTEND;TZID=America/New_York:20250121T150000
DTSTAMP:20260419T100239
CREATED:20250108T213000Z
LAST-MODIFIED:20250108T213000Z
UID:12801-1737468000-1737471600@artsconnectva.org
SUMMARY:Rock n' Roll with Mark Pettiford
DESCRIPTION:
URL:https://artsconnectva.org/event/rock-n-roll-with-mark-pettiford-15/
LOCATION:VA
CATEGORIES:Outreach Program
END:VEVENT
END:VCALENDAR