BEGIN:VCALENDAR
VERSION:2.0
PRODID:-//ArtsConnect Virginia - ECPv6.15.20//NONSGML v1.0//EN
CALSCALE:GREGORIAN
METHOD:PUBLISH
X-WR-CALNAME:ArtsConnect Virginia
X-ORIGINAL-URL:https://artsconnectva.org
X-WR-CALDESC:Events for ArtsConnect Virginia
REFRESH-INTERVAL;VALUE=DURATION:PT1H
X-Robots-Tag:noindex
X-PUBLISHED-TTL:PT1H
BEGIN:VTIMEZONE
TZID:America/New_York
BEGIN:DAYLIGHT
TZOFFSETFROM:-0500
TZOFFSETTO:-0400
TZNAME:EDT
DTSTART:20240310T070000
END:DAYLIGHT
BEGIN:STANDARD
TZOFFSETFROM:-0400
TZOFFSETTO:-0500
TZNAME:EST
DTSTART:20241103T060000
END:STANDARD
BEGIN:DAYLIGHT
TZOFFSETFROM:-0500
TZOFFSETTO:-0400
TZNAME:EDT
DTSTART:20250309T070000
END:DAYLIGHT
BEGIN:STANDARD
TZOFFSETFROM:-0400
TZOFFSETTO:-0500
TZNAME:EST
DTSTART:20251102T060000
END:STANDARD
BEGIN:DAYLIGHT
TZOFFSETFROM:-0500
TZOFFSETTO:-0400
TZNAME:EDT
DTSTART:20260308T070000
END:DAYLIGHT
BEGIN:STANDARD
TZOFFSETFROM:-0400
TZOFFSETTO:-0500
TZNAME:EST
DTSTART:20261101T060000
END:STANDARD
END:VTIMEZONE
BEGIN:VEVENT
DTSTART;TZID=America/New_York:20250116T130000
DTEND;TZID=America/New_York:20250116T140000
DTSTAMP:20260419T100104
CREATED:20250110T152612Z
LAST-MODIFIED:20250110T152612Z
UID:12821-1737032400-1737036000@artsconnectva.org
SUMMARY:Singing and Smiling with David Jones
DESCRIPTION:
URL:https://artsconnectva.org/event/singing-and-smiling-with-david-jones-7/
LOCATION:VA
CATEGORIES:Outreach Program
END:VEVENT
BEGIN:VEVENT
DTSTART;TZID=America/New_York:20250116T140000
DTEND;TZID=America/New_York:20250116T150000
DTSTAMP:20260419T100104
CREATED:20241121T155413Z
LAST-MODIFIED:20241121T155413Z
UID:12562-1737036000-1737039600@artsconnectva.org
SUMMARY:Piano Tunes with Christian Flores
DESCRIPTION:
URL:https://artsconnectva.org/event/piano-tunes-with-christian-flores-14/
LOCATION:VA
CATEGORIES:Outreach Program
END:VEVENT
END:VCALENDAR