BEGIN:VCALENDAR
VERSION:2.0
PRODID:-//ArtsConnect Virginia - ECPv6.15.20//NONSGML v1.0//EN
CALSCALE:GREGORIAN
METHOD:PUBLISH
X-ORIGINAL-URL:https://artsconnectva.org
X-WR-CALDESC:Events for ArtsConnect Virginia
REFRESH-INTERVAL;VALUE=DURATION:PT1H
X-Robots-Tag:noindex
X-PUBLISHED-TTL:PT1H
BEGIN:VTIMEZONE
TZID:America/New_York
BEGIN:DAYLIGHT
TZOFFSETFROM:-0500
TZOFFSETTO:-0400
TZNAME:EDT
DTSTART:20240310T070000
END:DAYLIGHT
BEGIN:STANDARD
TZOFFSETFROM:-0400
TZOFFSETTO:-0500
TZNAME:EST
DTSTART:20241103T060000
END:STANDARD
BEGIN:DAYLIGHT
TZOFFSETFROM:-0500
TZOFFSETTO:-0400
TZNAME:EDT
DTSTART:20250309T070000
END:DAYLIGHT
BEGIN:STANDARD
TZOFFSETFROM:-0400
TZOFFSETTO:-0500
TZNAME:EST
DTSTART:20251102T060000
END:STANDARD
BEGIN:DAYLIGHT
TZOFFSETFROM:-0500
TZOFFSETTO:-0400
TZNAME:EDT
DTSTART:20260308T070000
END:DAYLIGHT
BEGIN:STANDARD
TZOFFSETFROM:-0400
TZOFFSETTO:-0500
TZNAME:EST
DTSTART:20261101T060000
END:STANDARD
END:VTIMEZONE
BEGIN:VEVENT
DTSTART;TZID=America/New_York:20250115T100000
DTEND;TZID=America/New_York:20250115T120000
DTSTAMP:20260419T101633
CREATED:20241121T154708Z
LAST-MODIFIED:20241121T154708Z
UID:12558-1736935200-1736942400@artsconnectva.org
SUMMARY:Winter Red Bird Plaque
DESCRIPTION:
URL:https://artsconnectva.org/event/winter-red-bird-plaque/
LOCATION:Suffolk Center for the Cultural Arts\, 110 W Finney Ave\, Suffolk\, VA\, 23434\, United States
CATEGORIES:Open to the Public
END:VEVENT
BEGIN:VEVENT
DTSTART;TZID=America/New_York:20250115T100000
DTEND;TZID=America/New_York:20250115T120000
DTSTAMP:20260419T101633
CREATED:20241121T155034Z
LAST-MODIFIED:20241121T155034Z
UID:12560-1736935200-1736942400@artsconnectva.org
SUMMARY:Winter Cardinal and Birch Tree Painting with Stephanie Slate
DESCRIPTION:
URL:https://artsconnectva.org/event/winter-cardinal-and-birch-tree-painting-with-stephanie-slate/
LOCATION:VA
CATEGORIES:Outreach Program
END:VEVENT
BEGIN:VEVENT
DTSTART;TZID=America/New_York:20250115T140000
DTEND;TZID=America/New_York:20250115T150000
DTSTAMP:20260419T101633
CREATED:20250101T164702Z
LAST-MODIFIED:20250101T164702Z
UID:12776-1736949600-1736953200@artsconnectva.org
SUMMARY:Afternoon Magic with Sean McKenzie
DESCRIPTION:
URL:https://artsconnectva.org/event/afternoon-magic-with-sean-mckenzie/
LOCATION:VA
CATEGORIES:Outreach Program
END:VEVENT
END:VCALENDAR