BEGIN:VCALENDAR
VERSION:2.0
PRODID:-//ArtsConnect Virginia - ECPv6.15.20//NONSGML v1.0//EN
CALSCALE:GREGORIAN
METHOD:PUBLISH
X-WR-CALNAME:ArtsConnect Virginia
X-ORIGINAL-URL:https://artsconnectva.org
X-WR-CALDESC:Events for ArtsConnect Virginia
REFRESH-INTERVAL;VALUE=DURATION:PT1H
X-Robots-Tag:noindex
X-PUBLISHED-TTL:PT1H
BEGIN:VTIMEZONE
TZID:America/New_York
BEGIN:DAYLIGHT
TZOFFSETFROM:-0500
TZOFFSETTO:-0400
TZNAME:EDT
DTSTART:20240310T070000
END:DAYLIGHT
BEGIN:STANDARD
TZOFFSETFROM:-0400
TZOFFSETTO:-0500
TZNAME:EST
DTSTART:20241103T060000
END:STANDARD
BEGIN:DAYLIGHT
TZOFFSETFROM:-0500
TZOFFSETTO:-0400
TZNAME:EDT
DTSTART:20250309T070000
END:DAYLIGHT
BEGIN:STANDARD
TZOFFSETFROM:-0400
TZOFFSETTO:-0500
TZNAME:EST
DTSTART:20251102T060000
END:STANDARD
BEGIN:DAYLIGHT
TZOFFSETFROM:-0500
TZOFFSETTO:-0400
TZNAME:EDT
DTSTART:20260308T070000
END:DAYLIGHT
BEGIN:STANDARD
TZOFFSETFROM:-0400
TZOFFSETTO:-0500
TZNAME:EST
DTSTART:20261101T060000
END:STANDARD
END:VTIMEZONE
BEGIN:VEVENT
DTSTART;TZID=America/New_York:20250110T130000
DTEND;TZID=America/New_York:20250110T140000
DTSTAMP:20260419T100103
CREATED:20250107T160020Z
LAST-MODIFIED:20250107T160020Z
UID:12796-1736514000-1736517600@artsconnectva.org
SUMMARY:Trumpet Tunes with Chad McGill
DESCRIPTION:
URL:https://artsconnectva.org/event/trumpet-tunes-with-chad-mcgill-30/
LOCATION:VA
CATEGORIES:Outreach Program
END:VEVENT
BEGIN:VEVENT
DTSTART;TZID=America/New_York:20250110T140000
DTEND;TZID=America/New_York:20250110T150000
DTSTAMP:20260419T100103
CREATED:20241121T153549Z
LAST-MODIFIED:20241121T153549Z
UID:12552-1736517600-1736521200@artsconnectva.org
SUMMARY:Happy Hour with Christian Flores
DESCRIPTION:
URL:https://artsconnectva.org/event/happy-hour-with-christian-flores/
LOCATION:VA
CATEGORIES:Outreach Program
END:VEVENT
BEGIN:VEVENT
DTSTART;TZID=America/New_York:20250110T140000
DTEND;TZID=America/New_York:20250110T150000
DTSTAMP:20260419T100103
CREATED:20241224T152232Z
LAST-MODIFIED:20241224T152232Z
UID:12755-1736517600-1736521200@artsconnectva.org
SUMMARY:Favorite Throwbacks with Dan Smith
DESCRIPTION:Dan Smith sings and accompanies himself on piano performing popular tunes from the 50s and 60s.
URL:https://artsconnectva.org/event/favorite-throwbacks-with-dan-smith-16/
LOCATION:Norfolk\, VA\, Norfolk\, VA\, United States
CATEGORIES:Outreach Program
END:VEVENT
BEGIN:VEVENT
DTSTART;TZID=America/New_York:20250110T140000
DTEND;TZID=America/New_York:20250110T150000
DTSTAMP:20260419T100103
CREATED:20241231T135908Z
LAST-MODIFIED:20241231T135908Z
UID:12773-1736517600-1736521200@artsconnectva.org
SUMMARY:Rock n' Roll New Year with Mark Pettiford
DESCRIPTION:
URL:https://artsconnectva.org/event/rock-n-roll-new-year-with-mark-pettiford/
LOCATION:VA
CATEGORIES:Outreach Program
END:VEVENT
BEGIN:VEVENT
DTSTART;TZID=America/New_York:20250110T153000
DTEND;TZID=America/New_York:20250110T163000
DTSTAMP:20260419T100103
CREATED:20241211T142500Z
LAST-MODIFIED:20241211T142500Z
UID:12663-1736523000-1736526600@artsconnectva.org
SUMMARY:Mix and Mingle with Adrienne and Jamie
DESCRIPTION:
URL:https://artsconnectva.org/event/mix-and-mingle-with-adrienne-and-jamie/
LOCATION:VA
CATEGORIES:Outreach Program
END:VEVENT
BEGIN:VEVENT
DTSTART;TZID=America/New_York:20250110T153000
DTEND;TZID=America/New_York:20250110T163000
DTSTAMP:20260419T100103
CREATED:20241218T172033Z
LAST-MODIFIED:20241218T172033Z
UID:12717-1736523000-1736526600@artsconnectva.org
SUMMARY:Favorite Throwbacks with Art Rowe
DESCRIPTION:
URL:https://artsconnectva.org/event/favorite-throwbacks-with-art-rowe-25/
LOCATION:VA
CATEGORIES:Outreach Program
END:VEVENT
END:VCALENDAR