BEGIN:VCALENDAR
VERSION:2.0
PRODID:-//ArtsConnect Virginia - ECPv6.15.20//NONSGML v1.0//EN
CALSCALE:GREGORIAN
METHOD:PUBLISH
X-ORIGINAL-URL:https://artsconnectva.org
X-WR-CALDESC:Events for ArtsConnect Virginia
REFRESH-INTERVAL;VALUE=DURATION:PT1H
X-Robots-Tag:noindex
X-PUBLISHED-TTL:PT1H
BEGIN:VTIMEZONE
TZID:America/New_York
BEGIN:DAYLIGHT
TZOFFSETFROM:-0500
TZOFFSETTO:-0400
TZNAME:EDT
DTSTART:20240310T070000
END:DAYLIGHT
BEGIN:STANDARD
TZOFFSETFROM:-0400
TZOFFSETTO:-0500
TZNAME:EST
DTSTART:20241103T060000
END:STANDARD
BEGIN:DAYLIGHT
TZOFFSETFROM:-0500
TZOFFSETTO:-0400
TZNAME:EDT
DTSTART:20250309T070000
END:DAYLIGHT
BEGIN:STANDARD
TZOFFSETFROM:-0400
TZOFFSETTO:-0500
TZNAME:EST
DTSTART:20251102T060000
END:STANDARD
BEGIN:DAYLIGHT
TZOFFSETFROM:-0500
TZOFFSETTO:-0400
TZNAME:EDT
DTSTART:20260308T070000
END:DAYLIGHT
BEGIN:STANDARD
TZOFFSETFROM:-0400
TZOFFSETTO:-0500
TZNAME:EST
DTSTART:20261101T060000
END:STANDARD
END:VTIMEZONE
BEGIN:VEVENT
DTSTART;TZID=America/New_York:20250107T133000
DTEND;TZID=America/New_York:20250107T143000
DTSTAMP:20260419T100359
CREATED:20241120T214022Z
LAST-MODIFIED:20241120T214022Z
UID:12541-1736256600-1736260200@artsconnectva.org
SUMMARY:Keep the Beat Social with Dan Smith
DESCRIPTION:
URL:https://artsconnectva.org/event/keep-the-beat-social-with-dan-smith-15/
LOCATION:VA
CATEGORIES:Outreach Program
END:VEVENT
BEGIN:VEVENT
DTSTART;TZID=America/New_York:20250107T140000
DTEND;TZID=America/New_York:20250107T150000
DTSTAMP:20260419T100359
CREATED:20241218T170920Z
LAST-MODIFIED:20241218T170920Z
UID:12710-1736258400-1736262000@artsconnectva.org
SUMMARY:Musical Serenade with Ascension Melodies
DESCRIPTION:
URL:https://artsconnectva.org/event/musical-serenade-with-ascension-melodies-12/
LOCATION:VA
CATEGORIES:Outreach Program
END:VEVENT
BEGIN:VEVENT
DTSTART;TZID=America/New_York:20250107T140000
DTEND;TZID=America/New_York:20250107T150000
DTSTAMP:20260419T100359
CREATED:20241224T164646Z
LAST-MODIFIED:20241224T164646Z
UID:12765-1736258400-1736262000@artsconnectva.org
SUMMARY:String Serenade with Alex Marlins
DESCRIPTION:Audience members will join Alex in a musical journey through various genres including orchestral\, Celtic folk\, and pop favorites on the violin.
URL:https://artsconnectva.org/event/string-serenade-with-alex-marlins/
LOCATION:VA
CATEGORIES:Outreach Program
END:VEVENT
END:VCALENDAR