BEGIN:VCALENDAR
VERSION:2.0
PRODID:-//ArtsConnect Virginia - ECPv6.15.20//NONSGML v1.0//EN
CALSCALE:GREGORIAN
METHOD:PUBLISH
X-WR-CALNAME:ArtsConnect Virginia
X-ORIGINAL-URL:https://artsconnectva.org
X-WR-CALDESC:Events for ArtsConnect Virginia
REFRESH-INTERVAL;VALUE=DURATION:PT1H
X-Robots-Tag:noindex
X-PUBLISHED-TTL:PT1H
BEGIN:VTIMEZONE
TZID:America/New_York
BEGIN:DAYLIGHT
TZOFFSETFROM:-0500
TZOFFSETTO:-0400
TZNAME:EDT
DTSTART:20230312T070000
END:DAYLIGHT
BEGIN:STANDARD
TZOFFSETFROM:-0400
TZOFFSETTO:-0500
TZNAME:EST
DTSTART:20231105T060000
END:STANDARD
BEGIN:DAYLIGHT
TZOFFSETFROM:-0500
TZOFFSETTO:-0400
TZNAME:EDT
DTSTART:20240310T070000
END:DAYLIGHT
BEGIN:STANDARD
TZOFFSETFROM:-0400
TZOFFSETTO:-0500
TZNAME:EST
DTSTART:20241103T060000
END:STANDARD
BEGIN:DAYLIGHT
TZOFFSETFROM:-0500
TZOFFSETTO:-0400
TZNAME:EDT
DTSTART:20250309T070000
END:DAYLIGHT
BEGIN:STANDARD
TZOFFSETFROM:-0400
TZOFFSETTO:-0500
TZNAME:EST
DTSTART:20251102T060000
END:STANDARD
END:VTIMEZONE
BEGIN:VEVENT
DTSTART;TZID=America/New_York:20241227T140000
DTEND;TZID=America/New_York:20241227T150000
DTSTAMP:20260419T113759
CREATED:20241113T195532Z
LAST-MODIFIED:20241113T195532Z
UID:12491-1735308000-1735311600@artsconnectva.org
SUMMARY:Happy Hour with Chad McGill
DESCRIPTION:
URL:https://artsconnectva.org/event/happy-hour-with-chad-mcgill-2/
LOCATION:VA
CATEGORIES:Outreach Program
END:VEVENT
BEGIN:VEVENT
DTSTART;TZID=America/New_York:20241227T140000
DTEND;TZID=America/New_York:20241227T150000
DTSTAMP:20260419T113800
CREATED:20241113T195743Z
LAST-MODIFIED:20241113T195743Z
UID:12493-1735308000-1735311600@artsconnectva.org
SUMMARY:Happy Hour with Dan Smith
DESCRIPTION:
URL:https://artsconnectva.org/event/happy-hour-with-dan-smith-16/
LOCATION:VA
CATEGORIES:Outreach Program
END:VEVENT
BEGIN:VEVENT
DTSTART;TZID=America/New_York:20241227T140000
DTEND;TZID=America/New_York:20241227T150000
DTSTAMP:20260419T113800
CREATED:20241126T173511Z
LAST-MODIFIED:20241126T173511Z
UID:12613-1735308000-1735311600@artsconnectva.org
SUMMARY:Piano Tunes with Christian Flores
DESCRIPTION:
URL:https://artsconnectva.org/event/piano-tunes-with-christian-flores-15/
LOCATION:VA
CATEGORIES:Outreach Program
END:VEVENT
BEGIN:VEVENT
DTSTART;TZID=America/New_York:20241227T160000
DTEND;TZID=America/New_York:20241227T170000
DTSTAMP:20260419T113800
CREATED:20241202T172915Z
LAST-MODIFIED:20241202T172915Z
UID:12645-1735315200-1735318800@artsconnectva.org
SUMMARY:Smooth Tunes with David Jones
DESCRIPTION:
URL:https://artsconnectva.org/event/smooth-tunes-with-david-jones-2/
LOCATION:VA
CATEGORIES:Outreach Program
END:VEVENT
END:VCALENDAR