BEGIN:VCALENDAR
VERSION:2.0
PRODID:-//ArtsConnect Virginia - ECPv6.15.20//NONSGML v1.0//EN
CALSCALE:GREGORIAN
METHOD:PUBLISH
X-WR-CALNAME:ArtsConnect Virginia
X-ORIGINAL-URL:https://artsconnectva.org
X-WR-CALDESC:Events for ArtsConnect Virginia
REFRESH-INTERVAL;VALUE=DURATION:PT1H
X-Robots-Tag:noindex
X-PUBLISHED-TTL:PT1H
BEGIN:VTIMEZONE
TZID:America/New_York
BEGIN:DAYLIGHT
TZOFFSETFROM:-0500
TZOFFSETTO:-0400
TZNAME:EDT
DTSTART:20230312T070000
END:DAYLIGHT
BEGIN:STANDARD
TZOFFSETFROM:-0400
TZOFFSETTO:-0500
TZNAME:EST
DTSTART:20231105T060000
END:STANDARD
BEGIN:DAYLIGHT
TZOFFSETFROM:-0500
TZOFFSETTO:-0400
TZNAME:EDT
DTSTART:20240310T070000
END:DAYLIGHT
BEGIN:STANDARD
TZOFFSETFROM:-0400
TZOFFSETTO:-0500
TZNAME:EST
DTSTART:20241103T060000
END:STANDARD
BEGIN:DAYLIGHT
TZOFFSETFROM:-0500
TZOFFSETTO:-0400
TZNAME:EDT
DTSTART:20250309T070000
END:DAYLIGHT
BEGIN:STANDARD
TZOFFSETFROM:-0400
TZOFFSETTO:-0500
TZNAME:EST
DTSTART:20251102T060000
END:STANDARD
END:VTIMEZONE
BEGIN:VEVENT
DTSTART;TZID=America/New_York:20241221T140000
DTEND;TZID=America/New_York:20241221T150000
DTSTAMP:20260419T113829
CREATED:20241120T213746Z
LAST-MODIFIED:20241120T213746Z
UID:12539-1734789600-1734793200@artsconnectva.org
SUMMARY:Snowman Arrangements with Delresa
DESCRIPTION:
URL:https://artsconnectva.org/event/snowman-arrangements-with-delresa/
LOCATION:VA
CATEGORIES:Outreach Program
END:VEVENT
BEGIN:VEVENT
DTSTART;TZID=America/New_York:20241221T173000
DTEND;TZID=America/New_York:20241221T183000
DTSTAMP:20260419T113829
CREATED:20241122T153344Z
LAST-MODIFIED:20241122T153344Z
UID:12577-1734802200-1734805800@artsconnectva.org
SUMMARY:Awesome Autistic Adults Program with Camille Donne
DESCRIPTION:
URL:https://artsconnectva.org/event/awesome-autistic-adults-program-with-camille-donne/
LOCATION:VA
CATEGORIES:Outreach Program
END:VEVENT
END:VCALENDAR