BEGIN:VCALENDAR
VERSION:2.0
PRODID:-//ArtsConnect Virginia - ECPv6.15.20//NONSGML v1.0//EN
CALSCALE:GREGORIAN
METHOD:PUBLISH
X-ORIGINAL-URL:https://artsconnectva.org
X-WR-CALDESC:Events for ArtsConnect Virginia
REFRESH-INTERVAL;VALUE=DURATION:PT1H
X-Robots-Tag:noindex
X-PUBLISHED-TTL:PT1H
BEGIN:VTIMEZONE
TZID:America/New_York
BEGIN:DAYLIGHT
TZOFFSETFROM:-0500
TZOFFSETTO:-0400
TZNAME:EDT
DTSTART:20230312T070000
END:DAYLIGHT
BEGIN:STANDARD
TZOFFSETFROM:-0400
TZOFFSETTO:-0500
TZNAME:EST
DTSTART:20231105T060000
END:STANDARD
BEGIN:DAYLIGHT
TZOFFSETFROM:-0500
TZOFFSETTO:-0400
TZNAME:EDT
DTSTART:20240310T070000
END:DAYLIGHT
BEGIN:STANDARD
TZOFFSETFROM:-0400
TZOFFSETTO:-0500
TZNAME:EST
DTSTART:20241103T060000
END:STANDARD
BEGIN:DAYLIGHT
TZOFFSETFROM:-0500
TZOFFSETTO:-0400
TZNAME:EDT
DTSTART:20250309T070000
END:DAYLIGHT
BEGIN:STANDARD
TZOFFSETFROM:-0400
TZOFFSETTO:-0500
TZNAME:EST
DTSTART:20251102T060000
END:STANDARD
END:VTIMEZONE
BEGIN:VEVENT
DTSTART;TZID=America/New_York:20241219T103000
DTEND;TZID=America/New_York:20241219T113000
DTSTAMP:20260419T114257
CREATED:20241112T223937Z
LAST-MODIFIED:20241112T223937Z
UID:12441-1734604200-1734607800@artsconnectva.org
SUMMARY:Holiday Painting with Susan Owens
DESCRIPTION:
URL:https://artsconnectva.org/event/holiday-painting-with-susan-owens-4/
LOCATION:VA
CATEGORIES:Outreach Program
END:VEVENT
BEGIN:VEVENT
DTSTART;TZID=America/New_York:20241219T103000
DTEND;TZID=America/New_York:20241219T113000
DTSTAMP:20260419T114257
CREATED:20241113T192811Z
LAST-MODIFIED:20241113T192811Z
UID:12477-1734604200-1734607800@artsconnectva.org
SUMMARY:Holiday Cheer with Ava Stevenson
DESCRIPTION:
URL:https://artsconnectva.org/event/holiday-cheer-with-ava-stevenson-2/
LOCATION:VA
CATEGORIES:Open to the Public
END:VEVENT
BEGIN:VEVENT
DTSTART;TZID=America/New_York:20241219T130000
DTEND;TZID=America/New_York:20241219T140000
DTSTAMP:20260419T114257
CREATED:20241112T224515Z
LAST-MODIFIED:20241112T224515Z
UID:12445-1734613200-1734616800@artsconnectva.org
SUMMARY:Singing and Smiling with David Jones and Art Rowe
DESCRIPTION:
URL:https://artsconnectva.org/event/singing-and-smiling-with-david-jones-and-art-rowe-3/
LOCATION:VA
CATEGORIES:Outreach Program
END:VEVENT
BEGIN:VEVENT
DTSTART;TZID=America/New_York:20241219T140000
DTEND;TZID=America/New_York:20241219T150000
DTSTAMP:20260419T114257
CREATED:20241116T203609Z
LAST-MODIFIED:20241116T203609Z
UID:12509-1734616800-1734620400@artsconnectva.org
SUMMARY:Famous Hits with Cory Laser
DESCRIPTION:
URL:https://artsconnectva.org/event/famous-hits-with-cory-laser-22/
LOCATION:VA
CATEGORIES:Outreach Program
END:VEVENT
BEGIN:VEVENT
DTSTART;TZID=America/New_York:20241219T150000
DTEND;TZID=America/New_York:20241219T160000
DTSTAMP:20260419T114257
CREATED:20241112T225022Z
LAST-MODIFIED:20241112T225022Z
UID:12447-1734620400-1734624000@artsconnectva.org
SUMMARY:Holiday Sing-Along with Christian Flores
DESCRIPTION:
URL:https://artsconnectva.org/event/holiday-sing-along-with-christian-flores/
LOCATION:VA
CATEGORIES:Outreach Program
END:VEVENT
BEGIN:VEVENT
DTSTART;TZID=America/New_York:20241219T183000
DTEND;TZID=America/New_York:20241219T193000
DTSTAMP:20260419T114257
CREATED:20241213T182649Z
LAST-MODIFIED:20241213T182649Z
UID:12679-1734633000-1734636600@artsconnectva.org
SUMMARY:Ornament Making with Nilsa
DESCRIPTION:
URL:https://artsconnectva.org/event/ornament-making-with-nilsa/
LOCATION:VA
CATEGORIES:Outreach Program
END:VEVENT
END:VCALENDAR