BEGIN:VCALENDAR
VERSION:2.0
PRODID:-//ArtsConnect Virginia - ECPv6.15.20//NONSGML v1.0//EN
CALSCALE:GREGORIAN
METHOD:PUBLISH
X-WR-CALNAME:ArtsConnect Virginia
X-ORIGINAL-URL:https://artsconnectva.org
X-WR-CALDESC:Events for ArtsConnect Virginia
REFRESH-INTERVAL;VALUE=DURATION:PT1H
X-Robots-Tag:noindex
X-PUBLISHED-TTL:PT1H
BEGIN:VTIMEZONE
TZID:America/New_York
BEGIN:DAYLIGHT
TZOFFSETFROM:-0500
TZOFFSETTO:-0400
TZNAME:EDT
DTSTART:20230312T070000
END:DAYLIGHT
BEGIN:STANDARD
TZOFFSETFROM:-0400
TZOFFSETTO:-0500
TZNAME:EST
DTSTART:20231105T060000
END:STANDARD
BEGIN:DAYLIGHT
TZOFFSETFROM:-0500
TZOFFSETTO:-0400
TZNAME:EDT
DTSTART:20240310T070000
END:DAYLIGHT
BEGIN:STANDARD
TZOFFSETFROM:-0400
TZOFFSETTO:-0500
TZNAME:EST
DTSTART:20241103T060000
END:STANDARD
BEGIN:DAYLIGHT
TZOFFSETFROM:-0500
TZOFFSETTO:-0400
TZNAME:EDT
DTSTART:20250309T070000
END:DAYLIGHT
BEGIN:STANDARD
TZOFFSETFROM:-0400
TZOFFSETTO:-0500
TZNAME:EST
DTSTART:20251102T060000
END:STANDARD
END:VTIMEZONE
BEGIN:VEVENT
DTSTART;TZID=America/New_York:20241218T103000
DTEND;TZID=America/New_York:20241218T113000
DTSTAMP:20260419T113741
CREATED:20241008T142515Z
LAST-MODIFIED:20241008T142515Z
UID:12085-1734517800-1734521400@artsconnectva.org
SUMMARY:Jazz Tunes with Chad McGill
DESCRIPTION:
URL:https://artsconnectva.org/event/jazz-tunes-with-chad-mcgill/
LOCATION:VA
CATEGORIES:Outreach Program
END:VEVENT
BEGIN:VEVENT
DTSTART;TZID=America/New_York:20241218T103000
DTEND;TZID=America/New_York:20241218T113000
DTSTAMP:20260419T113741
CREATED:20241112T223615Z
LAST-MODIFIED:20241112T223615Z
UID:12439-1734517800-1734521400@artsconnectva.org
SUMMARY:Holiday Painting with Susan Owens
DESCRIPTION:
URL:https://artsconnectva.org/event/holiday-painting-with-susan-owens-3/
LOCATION:VA
CATEGORIES:Open to the Public
END:VEVENT
BEGIN:VEVENT
DTSTART;TZID=America/New_York:20241218T140000
DTEND;TZID=America/New_York:20241218T150000
DTSTAMP:20260419T113741
CREATED:20241112T143319Z
LAST-MODIFIED:20241112T143319Z
UID:12434-1734530400-1734534000@artsconnectva.org
SUMMARY:Holiday Painting with Susan Owens
DESCRIPTION:
URL:https://artsconnectva.org/event/holiday-painting-with-susan-owens/
LOCATION:VA
CATEGORIES:Outreach Program
END:VEVENT
BEGIN:VEVENT
DTSTART;TZID=America/New_York:20241218T143000
DTEND;TZID=America/New_York:20241218T153000
DTSTAMP:20260419T113741
CREATED:20241129T165403Z
LAST-MODIFIED:20241129T165403Z
UID:12633-1734532200-1734535800@artsconnectva.org
SUMMARY:Birthday Social with Christian Flores
DESCRIPTION:
URL:https://artsconnectva.org/event/birthday-social-with-christian-flores-3/
LOCATION:VA
CATEGORIES:Outreach Program
END:VEVENT
BEGIN:VEVENT
DTSTART;TZID=America/New_York:20241218T150000
DTEND;TZID=America/New_York:20241218T160000
DTSTAMP:20260419T113741
CREATED:20241202T170208Z
LAST-MODIFIED:20241204T194253Z
UID:12641-1734534000-1734537600@artsconnectva.org
SUMMARY:Music\, Motown\, and More with Richard Mekdeci
DESCRIPTION:
URL:https://artsconnectva.org/event/music-motown-and-more-with-richard-mekdeci-48/
LOCATION:VA
CATEGORIES:Outreach Program
END:VEVENT
END:VCALENDAR