BEGIN:VCALENDAR
VERSION:2.0
PRODID:-//ArtsConnect Virginia - ECPv6.15.20//NONSGML v1.0//EN
CALSCALE:GREGORIAN
METHOD:PUBLISH
X-WR-CALNAME:ArtsConnect Virginia
X-ORIGINAL-URL:https://artsconnectva.org
X-WR-CALDESC:Events for ArtsConnect Virginia
REFRESH-INTERVAL;VALUE=DURATION:PT1H
X-Robots-Tag:noindex
X-PUBLISHED-TTL:PT1H
BEGIN:VTIMEZONE
TZID:America/New_York
BEGIN:DAYLIGHT
TZOFFSETFROM:-0500
TZOFFSETTO:-0400
TZNAME:EDT
DTSTART:20230312T070000
END:DAYLIGHT
BEGIN:STANDARD
TZOFFSETFROM:-0400
TZOFFSETTO:-0500
TZNAME:EST
DTSTART:20231105T060000
END:STANDARD
BEGIN:DAYLIGHT
TZOFFSETFROM:-0500
TZOFFSETTO:-0400
TZNAME:EDT
DTSTART:20240310T070000
END:DAYLIGHT
BEGIN:STANDARD
TZOFFSETFROM:-0400
TZOFFSETTO:-0500
TZNAME:EST
DTSTART:20241103T060000
END:STANDARD
BEGIN:DAYLIGHT
TZOFFSETFROM:-0500
TZOFFSETTO:-0400
TZNAME:EDT
DTSTART:20250309T070000
END:DAYLIGHT
BEGIN:STANDARD
TZOFFSETFROM:-0400
TZOFFSETTO:-0500
TZNAME:EST
DTSTART:20251102T060000
END:STANDARD
END:VTIMEZONE
BEGIN:VEVENT
DTSTART;TZID=America/New_York:20241216T110000
DTEND;TZID=America/New_York:20241216T120000
DTSTAMP:20260419T113741
CREATED:20241126T182712Z
LAST-MODIFIED:20241126T182712Z
UID:12629-1734346800-1734350400@artsconnectva.org
SUMMARY:Holiday Music with Art Rowe
DESCRIPTION:
URL:https://artsconnectva.org/event/holiday-music-with-art-rowe/
LOCATION:VA
CATEGORIES:Outreach Program
END:VEVENT
BEGIN:VEVENT
DTSTART;TZID=America/New_York:20241216T140000
DTEND;TZID=America/New_York:20241216T150000
DTSTAMP:20260419T113742
CREATED:20241111T203742Z
LAST-MODIFIED:20241111T203742Z
UID:12422-1734357600-1734361200@artsconnectva.org
SUMMARY:Favorite Throwbacks with Bryan Martin
DESCRIPTION:
URL:https://artsconnectva.org/event/favorite-throwbacks-with-bryan-martin-6/
LOCATION:VA
CATEGORIES:Outreach Program
END:VEVENT
BEGIN:VEVENT
DTSTART;TZID=America/New_York:20241216T140000
DTEND;TZID=America/New_York:20241216T150000
DTSTAMP:20260419T113742
CREATED:20241112T224253Z
LAST-MODIFIED:20241112T224253Z
UID:12443-1734357600-1734361200@artsconnectva.org
SUMMARY:Resin Trays with Kym Bach
DESCRIPTION:
URL:https://artsconnectva.org/event/resin-trays-with-kym-bach/
LOCATION:VA
CATEGORIES:Outreach Program
END:VEVENT
END:VCALENDAR