BEGIN:VCALENDAR
VERSION:2.0
PRODID:-//ArtsConnect Virginia - ECPv6.15.20//NONSGML v1.0//EN
CALSCALE:GREGORIAN
METHOD:PUBLISH
X-WR-CALNAME:ArtsConnect Virginia
X-ORIGINAL-URL:https://artsconnectva.org
X-WR-CALDESC:Events for ArtsConnect Virginia
REFRESH-INTERVAL;VALUE=DURATION:PT1H
X-Robots-Tag:noindex
X-PUBLISHED-TTL:PT1H
BEGIN:VTIMEZONE
TZID:America/New_York
BEGIN:DAYLIGHT
TZOFFSETFROM:-0500
TZOFFSETTO:-0400
TZNAME:EDT
DTSTART:20230312T070000
END:DAYLIGHT
BEGIN:STANDARD
TZOFFSETFROM:-0400
TZOFFSETTO:-0500
TZNAME:EST
DTSTART:20231105T060000
END:STANDARD
BEGIN:DAYLIGHT
TZOFFSETFROM:-0500
TZOFFSETTO:-0400
TZNAME:EDT
DTSTART:20240310T070000
END:DAYLIGHT
BEGIN:STANDARD
TZOFFSETFROM:-0400
TZOFFSETTO:-0500
TZNAME:EST
DTSTART:20241103T060000
END:STANDARD
BEGIN:DAYLIGHT
TZOFFSETFROM:-0500
TZOFFSETTO:-0400
TZNAME:EDT
DTSTART:20250309T070000
END:DAYLIGHT
BEGIN:STANDARD
TZOFFSETFROM:-0400
TZOFFSETTO:-0500
TZNAME:EST
DTSTART:20251102T060000
END:STANDARD
END:VTIMEZONE
BEGIN:VEVENT
DTSTART;TZID=America/New_York:20241213T103000
DTEND;TZID=America/New_York:20241213T113000
DTSTAMP:20260418T234617
CREATED:20241202T172406Z
LAST-MODIFIED:20241202T172406Z
UID:12643-1734085800-1734089400@artsconnectva.org
SUMMARY:Christmas Music with Karen Stowe
DESCRIPTION:
URL:https://artsconnectva.org/event/christmas-music-with-karen-stowe/
LOCATION:VA
CATEGORIES:Outreach Program
END:VEVENT
BEGIN:VEVENT
DTSTART;TZID=America/New_York:20241213T110000
DTEND;TZID=America/New_York:20241213T120000
DTSTAMP:20260418T234617
CREATED:20241126T162447Z
LAST-MODIFIED:20241126T162447Z
UID:12610-1734087600-1734091200@artsconnectva.org
SUMMARY:Famous Hits with Cory Laser
DESCRIPTION:
URL:https://artsconnectva.org/event/famous-hits-with-cory-laser-24/
LOCATION:VA
CATEGORIES:Outreach Program
END:VEVENT
BEGIN:VEVENT
DTSTART;TZID=America/New_York:20241213T120000
DTEND;TZID=America/New_York:20241213T130000
DTSTAMP:20260418T234617
CREATED:20241112T141414Z
LAST-MODIFIED:20241122T162210Z
UID:12424-1734091200-1734094800@artsconnectva.org
SUMMARY:Santa Tunes with Art Rowe
DESCRIPTION:
URL:https://artsconnectva.org/event/santa-tunes-with-art-rowe/
LOCATION:Rokeby Center\, 1709 Rokeby Ave\, Chesapeake\, VA\, 23320\, United States
CATEGORIES:Open to the Public
END:VEVENT
BEGIN:VEVENT
DTSTART;TZID=America/New_York:20241213T140000
DTEND;TZID=America/New_York:20241213T150000
DTSTAMP:20260418T234617
CREATED:20241118T175816Z
LAST-MODIFIED:20241118T175816Z
UID:12515-1734098400-1734102000@artsconnectva.org
SUMMARY:Holiday Serenade with Alex Marlins
DESCRIPTION:
URL:https://artsconnectva.org/event/holiday-serenade-with-alex-marlins/
LOCATION:VA
CATEGORIES:Outreach Program
END:VEVENT
BEGIN:VEVENT
DTSTART;TZID=America/New_York:20241213T140000
DTEND;TZID=America/New_York:20241213T150000
DTSTAMP:20260418T234617
CREATED:20241119T154716Z
LAST-MODIFIED:20241119T154716Z
UID:12519-1734098400-1734102000@artsconnectva.org
SUMMARY:Happy Hour with Jim and Tina
DESCRIPTION:
URL:https://artsconnectva.org/event/happy-hour-with-jim-and-tina/
LOCATION:VA
CATEGORIES:Outreach Program
END:VEVENT
BEGIN:VEVENT
DTSTART;TZID=America/New_York:20241213T140000
DTEND;TZID=America/New_York:20241213T150000
DTSTAMP:20260418T234617
CREATED:20241119T165531Z
LAST-MODIFIED:20241119T165531Z
UID:12523-1734098400-1734102000@artsconnectva.org
SUMMARY:Wood Painting with Stephanie Slate
DESCRIPTION:
URL:https://artsconnectva.org/event/wood-painting-with-stephanie-slate/
LOCATION:VA
CATEGORIES:Outreach Program
END:VEVENT
BEGIN:VEVENT
DTSTART;TZID=America/New_York:20241213T160000
DTEND;TZID=America/New_York:20241213T170000
DTSTAMP:20260418T234617
CREATED:20241008T162555Z
LAST-MODIFIED:20241015T163029Z
UID:12093-1734105600-1734109200@artsconnectva.org
SUMMARY:Piano Tunes with Christian Flores
DESCRIPTION:
URL:https://artsconnectva.org/event/piano-tunes-with-christian-flores-7/
LOCATION:VA
CATEGORIES:Outreach Program
END:VEVENT
BEGIN:VEVENT
DTSTART;TZID=America/New_York:20241213T170000
DTEND;TZID=America/New_York:20241213T180000
DTSTAMP:20260418T234617
CREATED:20241111T162824Z
LAST-MODIFIED:20241111T162824Z
UID:12406-1734109200-1734112800@artsconnectva.org
SUMMARY:Second Friday Art with Vivian Davis
DESCRIPTION:
URL:https://artsconnectva.org/event/second-friday-art-with-vivian-davis/
LOCATION:Barron F. Black Branch Library\, 6700 E Tanners Creek Dr\, Norfolk\, VA\, 23513\, United States
CATEGORIES:Open to the Public
END:VEVENT
END:VCALENDAR