BEGIN:VCALENDAR
VERSION:2.0
PRODID:-//ArtsConnect Virginia - ECPv6.15.20//NONSGML v1.0//EN
CALSCALE:GREGORIAN
METHOD:PUBLISH
X-WR-CALNAME:ArtsConnect Virginia
X-ORIGINAL-URL:https://artsconnectva.org
X-WR-CALDESC:Events for ArtsConnect Virginia
REFRESH-INTERVAL;VALUE=DURATION:PT1H
X-Robots-Tag:noindex
X-PUBLISHED-TTL:PT1H
BEGIN:VTIMEZONE
TZID:America/New_York
BEGIN:DAYLIGHT
TZOFFSETFROM:-0500
TZOFFSETTO:-0400
TZNAME:EDT
DTSTART:20230312T070000
END:DAYLIGHT
BEGIN:STANDARD
TZOFFSETFROM:-0400
TZOFFSETTO:-0500
TZNAME:EST
DTSTART:20231105T060000
END:STANDARD
BEGIN:DAYLIGHT
TZOFFSETFROM:-0500
TZOFFSETTO:-0400
TZNAME:EDT
DTSTART:20240310T070000
END:DAYLIGHT
BEGIN:STANDARD
TZOFFSETFROM:-0400
TZOFFSETTO:-0500
TZNAME:EST
DTSTART:20241103T060000
END:STANDARD
BEGIN:DAYLIGHT
TZOFFSETFROM:-0500
TZOFFSETTO:-0400
TZNAME:EDT
DTSTART:20250309T070000
END:DAYLIGHT
BEGIN:STANDARD
TZOFFSETFROM:-0400
TZOFFSETTO:-0500
TZNAME:EST
DTSTART:20251102T060000
END:STANDARD
END:VTIMEZONE
BEGIN:VEVENT
DTSTART;TZID=America/New_York:20241203T130000
DTEND;TZID=America/New_York:20241203T140000
DTSTAMP:20260419T113759
CREATED:20241031T201344Z
LAST-MODIFIED:20241031T201344Z
UID:12338-1733230800-1733234400@artsconnectva.org
SUMMARY:Favorite Throwbacks with Dan Smith
DESCRIPTION:
URL:https://artsconnectva.org/event/favorite-throwbacks-with-dan-smith-14/
LOCATION:VA
CATEGORIES:Outreach Program
END:VEVENT
BEGIN:VEVENT
DTSTART;TZID=America/New_York:20241203T133000
DTEND;TZID=America/New_York:20241203T143000
DTSTAMP:20260419T113759
CREATED:20241109T011751Z
LAST-MODIFIED:20241109T011751Z
UID:12380-1733232600-1733236200@artsconnectva.org
SUMMARY:Keep the Beat Social with Ted Drake & Eric Yoder
DESCRIPTION:
URL:https://artsconnectva.org/event/keep-the-beat-social-with-ted-drake-eric-yoder/
LOCATION:VA
CATEGORIES:Outreach Program
END:VEVENT
BEGIN:VEVENT
DTSTART;TZID=America/New_York:20241203T140000
DTEND;TZID=America/New_York:20241203T150000
DTSTAMP:20260419T113759
CREATED:20241031T202006Z
LAST-MODIFIED:20241031T202006Z
UID:12340-1733234400-1733238000@artsconnectva.org
SUMMARY:Card Making with Myra Basnight
DESCRIPTION:
URL:https://artsconnectva.org/event/card-making-with-myra-basnight-2/
LOCATION:VA
CATEGORIES:Outreach Program
END:VEVENT
BEGIN:VEVENT
DTSTART;TZID=America/New_York:20241203T150000
DTEND;TZID=America/New_York:20241203T160000
DTSTAMP:20260419T113759
CREATED:20241031T203819Z
LAST-MODIFIED:20241031T203819Z
UID:12348-1733238000-1733241600@artsconnectva.org
SUMMARY:Favorite Throwbacks with Bryan Martin
DESCRIPTION:
URL:https://artsconnectva.org/event/favorite-throwbacks-with-bryan-martin-5/
LOCATION:VA
CATEGORIES:Outreach Program
END:VEVENT
BEGIN:VEVENT
DTSTART;TZID=America/New_York:20241203T173000
DTEND;TZID=America/New_York:20241203T193000
DTSTAMP:20260419T113759
CREATED:20241111T201432Z
LAST-MODIFIED:20241202T164013Z
UID:12415-1733247000-1733254200@artsconnectva.org
SUMMARY:Painting with Rhona Dawson
DESCRIPTION:
URL:https://artsconnectva.org/event/painting-with-rhona-dawson/
LOCATION:VA
CATEGORIES:Outreach Program
END:VEVENT
END:VCALENDAR