BEGIN:VCALENDAR
VERSION:2.0
PRODID:-//ArtsConnect Virginia - ECPv6.15.20//NONSGML v1.0//EN
CALSCALE:GREGORIAN
METHOD:PUBLISH
X-ORIGINAL-URL:https://artsconnectva.org
X-WR-CALDESC:Events for ArtsConnect Virginia
REFRESH-INTERVAL;VALUE=DURATION:PT1H
X-Robots-Tag:noindex
X-PUBLISHED-TTL:PT1H
BEGIN:VTIMEZONE
TZID:America/New_York
BEGIN:DAYLIGHT
TZOFFSETFROM:-0500
TZOFFSETTO:-0400
TZNAME:EDT
DTSTART:20230312T070000
END:DAYLIGHT
BEGIN:STANDARD
TZOFFSETFROM:-0400
TZOFFSETTO:-0500
TZNAME:EST
DTSTART:20231105T060000
END:STANDARD
BEGIN:DAYLIGHT
TZOFFSETFROM:-0500
TZOFFSETTO:-0400
TZNAME:EDT
DTSTART:20240310T070000
END:DAYLIGHT
BEGIN:STANDARD
TZOFFSETFROM:-0400
TZOFFSETTO:-0500
TZNAME:EST
DTSTART:20241103T060000
END:STANDARD
BEGIN:DAYLIGHT
TZOFFSETFROM:-0500
TZOFFSETTO:-0400
TZNAME:EDT
DTSTART:20250309T070000
END:DAYLIGHT
BEGIN:STANDARD
TZOFFSETFROM:-0400
TZOFFSETTO:-0500
TZNAME:EST
DTSTART:20251102T060000
END:STANDARD
END:VTIMEZONE
BEGIN:VEVENT
DTSTART;TZID=America/New_York:20241129T140000
DTEND;TZID=America/New_York:20241129T150000
DTSTAMP:20260419T114130
CREATED:20241030T133319Z
LAST-MODIFIED:20241115T192945Z
UID:12304-1732888800-1732892400@artsconnectva.org
SUMMARY:Happy Hour with Jimmy G
DESCRIPTION:
URL:https://artsconnectva.org/event/happy-hour-with-bryan-martin-11/
LOCATION:VA
CATEGORIES:Outreach Program
END:VEVENT
BEGIN:VEVENT
DTSTART;TZID=America/New_York:20241129T140000
DTEND;TZID=America/New_York:20241129T150000
DTSTAMP:20260419T114130
CREATED:20241030T144332Z
LAST-MODIFIED:20241030T144332Z
UID:12308-1732888800-1732892400@artsconnectva.org
SUMMARY:Trumpet Tunes with Chad McGill
DESCRIPTION:
URL:https://artsconnectva.org/event/trumpet-tunes-with-chad-mcgill-26/
LOCATION:VA
CATEGORIES:Outreach Program
END:VEVENT
BEGIN:VEVENT
DTSTART;TZID=America/New_York:20241129T144500
DTEND;TZID=America/New_York:20241129T154500
DTSTAMP:20260419T114130
CREATED:20241030T144816Z
LAST-MODIFIED:20241030T144816Z
UID:12310-1732891500-1732895100@artsconnectva.org
SUMMARY:Favorite Throwbacks with Dan Smith
DESCRIPTION:
URL:https://artsconnectva.org/event/favorite-throwbacks-with-dan-smith-13/
LOCATION:VA
CATEGORIES:Outreach Program
END:VEVENT
BEGIN:VEVENT
DTSTART;TZID=America/New_York:20241129T160000
DTEND;TZID=America/New_York:20241129T170000
DTSTAMP:20260419T114130
CREATED:20241014T154033Z
LAST-MODIFIED:20241014T154033Z
UID:12150-1732896000-1732899600@artsconnectva.org
SUMMARY:Happy Hour with Chad McGill
DESCRIPTION:
URL:https://artsconnectva.org/event/happy-hour-with-chad-mcgill/
LOCATION:VA
CATEGORIES:Outreach Program
END:VEVENT
END:VCALENDAR