BEGIN:VCALENDAR
VERSION:2.0
PRODID:-//ArtsConnect Virginia - ECPv6.15.20//NONSGML v1.0//EN
CALSCALE:GREGORIAN
METHOD:PUBLISH
X-WR-CALNAME:ArtsConnect Virginia
X-ORIGINAL-URL:https://artsconnectva.org
X-WR-CALDESC:Events for ArtsConnect Virginia
REFRESH-INTERVAL;VALUE=DURATION:PT1H
X-Robots-Tag:noindex
X-PUBLISHED-TTL:PT1H
BEGIN:VTIMEZONE
TZID:America/New_York
BEGIN:DAYLIGHT
TZOFFSETFROM:-0500
TZOFFSETTO:-0400
TZNAME:EDT
DTSTART:20230312T070000
END:DAYLIGHT
BEGIN:STANDARD
TZOFFSETFROM:-0400
TZOFFSETTO:-0500
TZNAME:EST
DTSTART:20231105T060000
END:STANDARD
BEGIN:DAYLIGHT
TZOFFSETFROM:-0500
TZOFFSETTO:-0400
TZNAME:EDT
DTSTART:20240310T070000
END:DAYLIGHT
BEGIN:STANDARD
TZOFFSETFROM:-0400
TZOFFSETTO:-0500
TZNAME:EST
DTSTART:20241103T060000
END:STANDARD
BEGIN:DAYLIGHT
TZOFFSETFROM:-0500
TZOFFSETTO:-0400
TZNAME:EDT
DTSTART:20250309T070000
END:DAYLIGHT
BEGIN:STANDARD
TZOFFSETFROM:-0400
TZOFFSETTO:-0500
TZNAME:EST
DTSTART:20251102T060000
END:STANDARD
END:VTIMEZONE
BEGIN:VEVENT
DTSTART;TZID=America/New_York:20241126T130000
DTEND;TZID=America/New_York:20241126T140000
DTSTAMP:20260419T051337
CREATED:20241016T213751Z
LAST-MODIFIED:20241016T213751Z
UID:12240-1732626000-1732629600@artsconnectva.org
SUMMARY:Singing and Smiles with David Jones & Bryan Martin
DESCRIPTION:
URL:https://artsconnectva.org/event/singing-and-smiles-with-david-jones-bryan-martin/
LOCATION:VA
CATEGORIES:Outreach Program
END:VEVENT
BEGIN:VEVENT
DTSTART;TZID=America/New_York:20241126T133000
DTEND;TZID=America/New_York:20241126T143000
DTSTAMP:20260419T051337
CREATED:20241029T180524Z
LAST-MODIFIED:20241029T180524Z
UID:12296-1732627800-1732631400@artsconnectva.org
SUMMARY:Keep the Beat Social with Richard Mekdeci
DESCRIPTION:
URL:https://artsconnectva.org/event/keep-the-beat-social-with-richard-mekdeci-7/
LOCATION:VA
CATEGORIES:Outreach Program
END:VEVENT
BEGIN:VEVENT
DTSTART;TZID=America/New_York:20241126T170000
DTEND;TZID=America/New_York:20241126T180000
DTSTAMP:20260419T051337
CREATED:20241115T122021Z
LAST-MODIFIED:20241115T122021Z
UID:12500-1732640400-1732644000@artsconnectva.org
SUMMARY:Music with Bryan Martin
DESCRIPTION:
URL:https://artsconnectva.org/event/music-with-bryan-martin-2/
LOCATION:VA
CATEGORIES:Outreach Program
END:VEVENT
BEGIN:VEVENT
DTSTART;TZID=America/New_York:20241126T180000
DTEND;TZID=America/New_York:20241126T190000
DTSTAMP:20260419T051337
CREATED:20241016T214600Z
LAST-MODIFIED:20241016T214632Z
UID:12244-1732644000-1732647600@artsconnectva.org
SUMMARY:Candle Making with Rhona Dawson
DESCRIPTION:
URL:https://artsconnectva.org/event/candle-making-with-rhona-dawson/
LOCATION:Pearl Bailey Library\, 2510 Wickham Ave\, Newport News\, VA\, 23607\, United States
CATEGORIES:Open to the Public
END:VEVENT
END:VCALENDAR