BEGIN:VCALENDAR
VERSION:2.0
PRODID:-//ArtsConnect Virginia - ECPv6.15.20//NONSGML v1.0//EN
CALSCALE:GREGORIAN
METHOD:PUBLISH
X-WR-CALNAME:ArtsConnect Virginia
X-ORIGINAL-URL:https://artsconnectva.org
X-WR-CALDESC:Events for ArtsConnect Virginia
REFRESH-INTERVAL;VALUE=DURATION:PT1H
X-Robots-Tag:noindex
X-PUBLISHED-TTL:PT1H
BEGIN:VTIMEZONE
TZID:America/New_York
BEGIN:DAYLIGHT
TZOFFSETFROM:-0500
TZOFFSETTO:-0400
TZNAME:EDT
DTSTART:20230312T070000
END:DAYLIGHT
BEGIN:STANDARD
TZOFFSETFROM:-0400
TZOFFSETTO:-0500
TZNAME:EST
DTSTART:20231105T060000
END:STANDARD
BEGIN:DAYLIGHT
TZOFFSETFROM:-0500
TZOFFSETTO:-0400
TZNAME:EDT
DTSTART:20240310T070000
END:DAYLIGHT
BEGIN:STANDARD
TZOFFSETFROM:-0400
TZOFFSETTO:-0500
TZNAME:EST
DTSTART:20241103T060000
END:STANDARD
BEGIN:DAYLIGHT
TZOFFSETFROM:-0500
TZOFFSETTO:-0400
TZNAME:EDT
DTSTART:20250309T070000
END:DAYLIGHT
BEGIN:STANDARD
TZOFFSETFROM:-0400
TZOFFSETTO:-0500
TZNAME:EST
DTSTART:20251102T060000
END:STANDARD
END:VTIMEZONE
BEGIN:VEVENT
DTSTART;TZID=America/New_York:20241121T140000
DTEND;TZID=America/New_York:20241121T150000
DTSTAMP:20260419T131611
CREATED:20241015T225613Z
LAST-MODIFIED:20241016T164206Z
UID:12187-1732197600-1732201200@artsconnectva.org
SUMMARY:Hits of the 50's & 60's with Adrienne & Bernie
DESCRIPTION:View Flyer
URL:https://artsconnectva.org/event/hits-of-the-50s-60s-with-adrienne-bernie/
LOCATION:VA
CATEGORIES:Outreach Program
END:VEVENT
BEGIN:VEVENT
DTSTART;TZID=America/New_York:20241121T140000
DTEND;TZID=America/New_York:20241121T150000
DTSTAMP:20260419T131611
CREATED:20241029T174915Z
LAST-MODIFIED:20241104T152907Z
UID:12287-1732197600-1732201200@artsconnectva.org
SUMMARY:Paint & Sip with Susan Owens
DESCRIPTION:View Flyer
URL:https://artsconnectva.org/event/paint-sip-with-susan-owens/
LOCATION:VA
CATEGORIES:Outreach Program
END:VEVENT
BEGIN:VEVENT
DTSTART;TZID=America/New_York:20241121T143000
DTEND;TZID=America/New_York:20241121T153000
DTSTAMP:20260419T131611
CREATED:20241029T174316Z
LAST-MODIFIED:20241029T174316Z
UID:12285-1732199400-1732203000@artsconnectva.org
SUMMARY:Birthday Social with Art Rowe
DESCRIPTION:
URL:https://artsconnectva.org/event/birthday-social-with-art-rowe-3/
LOCATION:VA
CATEGORIES:Outreach Program
END:VEVENT
BEGIN:VEVENT
DTSTART;TZID=America/New_York:20241121T160000
DTEND;TZID=America/New_York:20241121T170000
DTSTAMP:20260419T131611
CREATED:20241115T122319Z
LAST-MODIFIED:20241117T131334Z
UID:12502-1732204800-1732208400@artsconnectva.org
SUMMARY:Bluegrass with Ted Drake & Eric Yoder
DESCRIPTION:
URL:https://artsconnectva.org/event/bluegrass-with-ted-drake-eric-yoder/
LOCATION:VA
CATEGORIES:Outreach Program
END:VEVENT
BEGIN:VEVENT
DTSTART;TZID=America/New_York:20241121T183000
DTEND;TZID=America/New_York:20241121T193000
DTSTAMP:20260419T131611
CREATED:20241029T172346Z
LAST-MODIFIED:20241029T172346Z
UID:12281-1732213800-1732217400@artsconnectva.org
SUMMARY:FACTS Costume & Parade Float Design with Nilsa
DESCRIPTION:
URL:https://artsconnectva.org/event/facts-costume-parade-float-design-with-nilsa/
LOCATION:VA
CATEGORIES:Outreach Program
END:VEVENT
END:VCALENDAR