BEGIN:VCALENDAR
VERSION:2.0
PRODID:-//ArtsConnect Virginia - ECPv6.15.20//NONSGML v1.0//EN
CALSCALE:GREGORIAN
METHOD:PUBLISH
X-WR-CALNAME:ArtsConnect Virginia
X-ORIGINAL-URL:https://artsconnectva.org
X-WR-CALDESC:Events for ArtsConnect Virginia
REFRESH-INTERVAL;VALUE=DURATION:PT1H
X-Robots-Tag:noindex
X-PUBLISHED-TTL:PT1H
BEGIN:VTIMEZONE
TZID:America/New_York
BEGIN:DAYLIGHT
TZOFFSETFROM:-0500
TZOFFSETTO:-0400
TZNAME:EDT
DTSTART:20230312T070000
END:DAYLIGHT
BEGIN:STANDARD
TZOFFSETFROM:-0400
TZOFFSETTO:-0500
TZNAME:EST
DTSTART:20231105T060000
END:STANDARD
BEGIN:DAYLIGHT
TZOFFSETFROM:-0500
TZOFFSETTO:-0400
TZNAME:EDT
DTSTART:20240310T070000
END:DAYLIGHT
BEGIN:STANDARD
TZOFFSETFROM:-0400
TZOFFSETTO:-0500
TZNAME:EST
DTSTART:20241103T060000
END:STANDARD
BEGIN:DAYLIGHT
TZOFFSETFROM:-0500
TZOFFSETTO:-0400
TZNAME:EDT
DTSTART:20250309T070000
END:DAYLIGHT
BEGIN:STANDARD
TZOFFSETFROM:-0400
TZOFFSETTO:-0500
TZNAME:EST
DTSTART:20251102T060000
END:STANDARD
END:VTIMEZONE
BEGIN:VEVENT
DTSTART;TZID=America/New_York:20241119T100000
DTEND;TZID=America/New_York:20241119T110000
DTSTAMP:20260419T131602
CREATED:20241011T125933Z
LAST-MODIFIED:20241016T164858Z
UID:12141-1732010400-1732014000@artsconnectva.org
SUMMARY:Musical Serenade with Ascension Melodies
DESCRIPTION:View Flyer
URL:https://artsconnectva.org/event/musical-serenade-with-ascension-melodies-9/
LOCATION:VA
CATEGORIES:Outreach Program
END:VEVENT
BEGIN:VEVENT
DTSTART;TZID=America/New_York:20241119T130000
DTEND;TZID=America/New_York:20241119T140000
DTSTAMP:20260419T131602
CREATED:20241015T222909Z
LAST-MODIFIED:20241015T222909Z
UID:12177-1732021200-1732024800@artsconnectva.org
SUMMARY:Rock n' Roll with Mark Pettiford
DESCRIPTION:
URL:https://artsconnectva.org/event/rock-n-roll-with-mark-pettiford-12/
LOCATION:VA
CATEGORIES:Outreach Program
END:VEVENT
BEGIN:VEVENT
DTSTART;TZID=America/New_York:20241119T130000
DTEND;TZID=America/New_York:20241119T140000
DTSTAMP:20260419T131602
CREATED:20241015T223631Z
LAST-MODIFIED:20241015T223631Z
UID:12179-1732021200-1732024800@artsconnectva.org
SUMMARY:Famous Hits with Cory Laser
DESCRIPTION:
URL:https://artsconnectva.org/event/famous-hits-with-cory-laser-21/
LOCATION:Rokeby Center\, 1709 Rokeby Ave\, Chesapeake\, VA\, 23320\, United States
CATEGORIES:Open to the Public
END:VEVENT
BEGIN:VEVENT
DTSTART;TZID=America/New_York:20241119T133000
DTEND;TZID=America/New_York:20241119T143000
DTSTAMP:20260419T131602
CREATED:20241029T173944Z
LAST-MODIFIED:20241029T173944Z
UID:12283-1732023000-1732026600@artsconnectva.org
SUMMARY:Keep the Beat Social with Karen Stowe
DESCRIPTION:
URL:https://artsconnectva.org/event/keep-the-beat-social-with-karen-stowe-11/
LOCATION:VA
CATEGORIES:Outreach Program
END:VEVENT
BEGIN:VEVENT
DTSTART;TZID=America/New_York:20241119T140000
DTEND;TZID=America/New_York:20241119T150000
DTSTAMP:20260419T131602
CREATED:20241015T224459Z
LAST-MODIFIED:20241015T224459Z
UID:12183-1732024800-1732028400@artsconnectva.org
SUMMARY:Violin Serenade with Alex Marlins
DESCRIPTION:
URL:https://artsconnectva.org/event/violin-serenade-with-alex-marlins-23/
LOCATION:VA
CATEGORIES:Outreach Program
END:VEVENT
BEGIN:VEVENT
DTSTART;TZID=America/New_York:20241119T150000
DTEND;TZID=America/New_York:20241119T160000
DTSTAMP:20260419T131602
CREATED:20241015T224124Z
LAST-MODIFIED:20241015T224124Z
UID:12181-1732028400-1732032000@artsconnectva.org
SUMMARY:Winter Wood Slice Ornaments with Stephanie Slate
DESCRIPTION:
URL:https://artsconnectva.org/event/winter-wood-slice-ornaments-with-stephanie-slate/
LOCATION:VA
CATEGORIES:Outreach Program
END:VEVENT
END:VCALENDAR