BEGIN:VCALENDAR
VERSION:2.0
PRODID:-//ArtsConnect Virginia - ECPv6.15.20//NONSGML v1.0//EN
CALSCALE:GREGORIAN
METHOD:PUBLISH
X-ORIGINAL-URL:https://artsconnectva.org
X-WR-CALDESC:Events for ArtsConnect Virginia
REFRESH-INTERVAL;VALUE=DURATION:PT1H
X-Robots-Tag:noindex
X-PUBLISHED-TTL:PT1H
BEGIN:VTIMEZONE
TZID:America/New_York
BEGIN:DAYLIGHT
TZOFFSETFROM:-0500
TZOFFSETTO:-0400
TZNAME:EDT
DTSTART:20230312T070000
END:DAYLIGHT
BEGIN:STANDARD
TZOFFSETFROM:-0400
TZOFFSETTO:-0500
TZNAME:EST
DTSTART:20231105T060000
END:STANDARD
BEGIN:DAYLIGHT
TZOFFSETFROM:-0500
TZOFFSETTO:-0400
TZNAME:EDT
DTSTART:20240310T070000
END:DAYLIGHT
BEGIN:STANDARD
TZOFFSETFROM:-0400
TZOFFSETTO:-0500
TZNAME:EST
DTSTART:20241103T060000
END:STANDARD
BEGIN:DAYLIGHT
TZOFFSETFROM:-0500
TZOFFSETTO:-0400
TZNAME:EDT
DTSTART:20250309T070000
END:DAYLIGHT
BEGIN:STANDARD
TZOFFSETFROM:-0400
TZOFFSETTO:-0500
TZNAME:EST
DTSTART:20251102T060000
END:STANDARD
END:VTIMEZONE
BEGIN:VEVENT
DTSTART;TZID=America/New_York:20241101T140000
DTEND;TZID=America/New_York:20241101T150000
DTSTAMP:20260419T145036
CREATED:20240930T161743Z
LAST-MODIFIED:20240930T161743Z
UID:12034-1730469600-1730473200@artsconnectva.org
SUMMARY:Happy Hour with Ava & Bryan Stevenson
DESCRIPTION:
URL:https://artsconnectva.org/event/happy-hour-with-ava-bryan-stevenson/
LOCATION:VA
CATEGORIES:Outreach Program
END:VEVENT
BEGIN:VEVENT
DTSTART;TZID=America/New_York:20241101T143000
DTEND;TZID=America/New_York:20241101T153000
DTSTAMP:20260419T145036
CREATED:20241017T155616Z
LAST-MODIFIED:20241017T155616Z
UID:12252-1730471400-1730475000@artsconnectva.org
SUMMARY:Songs of Autumn and Thanksgiving with Karen Stowe
DESCRIPTION:
URL:https://artsconnectva.org/event/songs-of-autumn-and-thanksgiving-with-karen-stowe-4/
LOCATION:VA
CATEGORIES:Outreach Program
END:VEVENT
BEGIN:VEVENT
DTSTART;TZID=America/New_York:20241101T150000
DTEND;TZID=America/New_York:20241101T160000
DTSTAMP:20260419T145036
CREATED:20241003T170557Z
LAST-MODIFIED:20241003T170557Z
UID:12048-1730473200-1730476800@artsconnectva.org
SUMMARY:Brass Tunes with Thalia Brass Quintet
DESCRIPTION:
URL:https://artsconnectva.org/event/brass-tunes-with-thalia-brass-quintet-2/
LOCATION:VA
CATEGORIES:Outreach Program
END:VEVENT
END:VCALENDAR