BEGIN:VCALENDAR
VERSION:2.0
PRODID:-//ArtsConnect Virginia - ECPv6.15.20//NONSGML v1.0//EN
CALSCALE:GREGORIAN
METHOD:PUBLISH
X-WR-CALNAME:ArtsConnect Virginia
X-ORIGINAL-URL:https://artsconnectva.org
X-WR-CALDESC:Events for ArtsConnect Virginia
REFRESH-INTERVAL;VALUE=DURATION:PT1H
X-Robots-Tag:noindex
X-PUBLISHED-TTL:PT1H
BEGIN:VTIMEZONE
TZID:America/New_York
BEGIN:DAYLIGHT
TZOFFSETFROM:-0500
TZOFFSETTO:-0400
TZNAME:EDT
DTSTART:20230312T070000
END:DAYLIGHT
BEGIN:STANDARD
TZOFFSETFROM:-0400
TZOFFSETTO:-0500
TZNAME:EST
DTSTART:20231105T060000
END:STANDARD
BEGIN:DAYLIGHT
TZOFFSETFROM:-0500
TZOFFSETTO:-0400
TZNAME:EDT
DTSTART:20240310T070000
END:DAYLIGHT
BEGIN:STANDARD
TZOFFSETFROM:-0400
TZOFFSETTO:-0500
TZNAME:EST
DTSTART:20241103T060000
END:STANDARD
BEGIN:DAYLIGHT
TZOFFSETFROM:-0500
TZOFFSETTO:-0400
TZNAME:EDT
DTSTART:20250309T070000
END:DAYLIGHT
BEGIN:STANDARD
TZOFFSETFROM:-0400
TZOFFSETTO:-0500
TZNAME:EST
DTSTART:20251102T060000
END:STANDARD
END:VTIMEZONE
BEGIN:VEVENT
DTSTART;TZID=America/New_York:20241030T140000
DTEND;TZID=America/New_York:20241030T150000
DTSTAMP:20260419T131607
CREATED:20240922T172952Z
LAST-MODIFIED:20240922T172952Z
UID:11977-1730296800-1730300400@artsconnectva.org
SUMMARY:Favorite Throwbacks with Art Rowe
DESCRIPTION:View Flyer
URL:https://artsconnectva.org/event/favorite-throwbacks-with-art-rowe-20/
LOCATION:VA
CATEGORIES:Outreach Program
END:VEVENT
BEGIN:VEVENT
DTSTART;TZID=America/New_York:20241030T140000
DTEND;TZID=America/New_York:20241030T150000
DTSTAMP:20260419T131607
CREATED:20240923T125111Z
LAST-MODIFIED:20240923T125111Z
UID:11984-1730296800-1730300400@artsconnectva.org
SUMMARY:All the Classics with Mary Saunders
DESCRIPTION:
URL:https://artsconnectva.org/event/all-the-classics-with-mary-saunders-2/
LOCATION:VA
CATEGORIES:Outreach Program
END:VEVENT
BEGIN:VEVENT
DTSTART;TZID=America/New_York:20241030T144500
DTEND;TZID=America/New_York:20241030T154500
DTSTAMP:20260419T131607
CREATED:20240924T145427Z
LAST-MODIFIED:20240924T145427Z
UID:12005-1730299500-1730303100@artsconnectva.org
SUMMARY:Music from Wizard of Oz with Karen Stowe
DESCRIPTION:
URL:https://artsconnectva.org/event/music-from-wizard-of-oz-with-karen-stowe-3/
LOCATION:VA
CATEGORIES:Outreach Program
END:VEVENT
END:VCALENDAR