BEGIN:VCALENDAR
VERSION:2.0
PRODID:-//ArtsConnect Virginia - ECPv6.15.20//NONSGML v1.0//EN
CALSCALE:GREGORIAN
METHOD:PUBLISH
X-WR-CALNAME:ArtsConnect Virginia
X-ORIGINAL-URL:https://artsconnectva.org
X-WR-CALDESC:Events for ArtsConnect Virginia
REFRESH-INTERVAL;VALUE=DURATION:PT1H
X-Robots-Tag:noindex
X-PUBLISHED-TTL:PT1H
BEGIN:VTIMEZONE
TZID:America/New_York
BEGIN:DAYLIGHT
TZOFFSETFROM:-0500
TZOFFSETTO:-0400
TZNAME:EDT
DTSTART:20230312T070000
END:DAYLIGHT
BEGIN:STANDARD
TZOFFSETFROM:-0400
TZOFFSETTO:-0500
TZNAME:EST
DTSTART:20231105T060000
END:STANDARD
BEGIN:DAYLIGHT
TZOFFSETFROM:-0500
TZOFFSETTO:-0400
TZNAME:EDT
DTSTART:20240310T070000
END:DAYLIGHT
BEGIN:STANDARD
TZOFFSETFROM:-0400
TZOFFSETTO:-0500
TZNAME:EST
DTSTART:20241103T060000
END:STANDARD
BEGIN:DAYLIGHT
TZOFFSETFROM:-0500
TZOFFSETTO:-0400
TZNAME:EDT
DTSTART:20250309T070000
END:DAYLIGHT
BEGIN:STANDARD
TZOFFSETFROM:-0400
TZOFFSETTO:-0500
TZNAME:EST
DTSTART:20251102T060000
END:STANDARD
END:VTIMEZONE
BEGIN:VEVENT
DTSTART;TZID=America/New_York:20241017T111500
DTEND;TZID=America/New_York:20241017T121500
DTSTAMP:20260419T144821
CREATED:20241014T164027Z
LAST-MODIFIED:20241014T164027Z
UID:12154-1729163700-1729167300@artsconnectva.org
SUMMARY:Oktoberfest with Dan Smith
DESCRIPTION:
URL:https://artsconnectva.org/event/oktoberfest-with-dan-smith-6/
LOCATION:VA
CATEGORIES:Outreach Program
END:VEVENT
BEGIN:VEVENT
DTSTART;TZID=America/New_York:20241017T130000
DTEND;TZID=America/New_York:20241017T140000
DTSTAMP:20260419T144821
CREATED:20240918T215557Z
LAST-MODIFIED:20240918T215557Z
UID:11909-1729170000-1729173600@artsconnectva.org
SUMMARY:Singing and Smiling with David Jones and Art Rowe
DESCRIPTION:
URL:https://artsconnectva.org/event/singing-and-smiling-with-david-jones-and-art-rowe/
LOCATION:VA
CATEGORIES:Outreach Program
END:VEVENT
BEGIN:VEVENT
DTSTART;TZID=America/New_York:20241017T140000
DTEND;TZID=America/New_York:20241017T150000
DTSTAMP:20260419T144821
CREATED:20240918T220221Z
LAST-MODIFIED:20240918T220221Z
UID:11911-1729173600-1729177200@artsconnectva.org
SUMMARY:All the Favorites with Cory Laser
DESCRIPTION:View Flyer
URL:https://artsconnectva.org/event/all-the-favorites-with-cory-laser/
LOCATION:VA
CATEGORIES:Outreach Program
END:VEVENT
BEGIN:VEVENT
DTSTART;TZID=America/New_York:20241017T150000
DTEND;TZID=America/New_York:20241017T160000
DTSTAMP:20260419T144821
CREATED:20240926T160631Z
LAST-MODIFIED:20240926T160631Z
UID:12020-1729177200-1729180800@artsconnectva.org
SUMMARY:Music from the Wizard of Oz with Karen Stowe
DESCRIPTION:
URL:https://artsconnectva.org/event/music-from-the-wizard-of-oz-with-karen-stowe-3/
LOCATION:VA
CATEGORIES:Outreach Program
END:VEVENT
BEGIN:VEVENT
DTSTART;TZID=America/New_York:20241017T160000
DTEND;TZID=America/New_York:20241017T170000
DTSTAMP:20260419T144821
CREATED:20241001T222927Z
LAST-MODIFIED:20241001T222927Z
UID:12037-1729180800-1729184400@artsconnectva.org
SUMMARY:Oktoberfest with Dan Smith
DESCRIPTION:
URL:https://artsconnectva.org/event/oktoberfest-with-dan-smith-4/
LOCATION:VA
CATEGORIES:Outreach Program
END:VEVENT
END:VCALENDAR