BEGIN:VCALENDAR
VERSION:2.0
PRODID:-//ArtsConnect Virginia - ECPv6.15.20//NONSGML v1.0//EN
CALSCALE:GREGORIAN
METHOD:PUBLISH
X-ORIGINAL-URL:https://artsconnectva.org
X-WR-CALDESC:Events for ArtsConnect Virginia
REFRESH-INTERVAL;VALUE=DURATION:PT1H
X-Robots-Tag:noindex
X-PUBLISHED-TTL:PT1H
BEGIN:VTIMEZONE
TZID:America/New_York
BEGIN:DAYLIGHT
TZOFFSETFROM:-0500
TZOFFSETTO:-0400
TZNAME:EDT
DTSTART:20230312T070000
END:DAYLIGHT
BEGIN:STANDARD
TZOFFSETFROM:-0400
TZOFFSETTO:-0500
TZNAME:EST
DTSTART:20231105T060000
END:STANDARD
BEGIN:DAYLIGHT
TZOFFSETFROM:-0500
TZOFFSETTO:-0400
TZNAME:EDT
DTSTART:20240310T070000
END:DAYLIGHT
BEGIN:STANDARD
TZOFFSETFROM:-0400
TZOFFSETTO:-0500
TZNAME:EST
DTSTART:20241103T060000
END:STANDARD
BEGIN:DAYLIGHT
TZOFFSETFROM:-0500
TZOFFSETTO:-0400
TZNAME:EDT
DTSTART:20250309T070000
END:DAYLIGHT
BEGIN:STANDARD
TZOFFSETFROM:-0400
TZOFFSETTO:-0500
TZNAME:EST
DTSTART:20251102T060000
END:STANDARD
END:VTIMEZONE
BEGIN:VEVENT
DTSTART;TZID=America/New_York:20241016T100000
DTEND;TZID=America/New_York:20241016T120000
DTSTAMP:20260419T161641
CREATED:20240918T215127Z
LAST-MODIFIED:20240918T215127Z
UID:11907-1729072800-1729080000@artsconnectva.org
SUMMARY:Tote Painting Party with Vivian Davis
DESCRIPTION:
URL:https://artsconnectva.org/event/tote-painting-party-with-vivian-davis/
LOCATION:VA
CATEGORIES:Outreach Program
END:VEVENT
BEGIN:VEVENT
DTSTART;TZID=America/New_York:20241016T103000
DTEND;TZID=America/New_York:20241016T113000
DTSTAMP:20260419T161641
CREATED:20240917T162238Z
LAST-MODIFIED:20241021T152151Z
UID:11897-1729074600-1729078200@artsconnectva.org
SUMMARY:Design a Pumpkin with Susan Owens
DESCRIPTION:
URL:https://artsconnectva.org/event/design-a-pumpkin-with-susan-owens/
LOCATION:VA
CATEGORIES:Outreach Program
END:VEVENT
BEGIN:VEVENT
DTSTART;TZID=America/New_York:20241016T130000
DTEND;TZID=America/New_York:20241016T140000
DTSTAMP:20260419T161641
CREATED:20240918T214729Z
LAST-MODIFIED:20240918T214729Z
UID:11904-1729083600-1729087200@artsconnectva.org
SUMMARY:Trumpet Tunes with Chad McGill
DESCRIPTION:View Flyer
URL:https://artsconnectva.org/event/trumpet-tunes-with-chad-mcgill-23/
LOCATION:Rokeby Center\, 1709 Rokeby Ave\, Chesapeake\, VA\, 23320\, United States
CATEGORIES:Open to the Public
END:VEVENT
BEGIN:VEVENT
DTSTART;TZID=America/New_York:20241016T140000
DTEND;TZID=America/New_York:20241016T150000
DTSTAMP:20260419T161641
CREATED:20240909T155314Z
LAST-MODIFIED:20240909T155314Z
UID:11861-1729087200-1729090800@artsconnectva.org
SUMMARY:Piano Tunes with Christian Flores
DESCRIPTION:View Flyer
URL:https://artsconnectva.org/event/piano-tunes-with-christian-flores-5/
LOCATION:VA
CATEGORIES:Outreach Program
END:VEVENT
BEGIN:VEVENT
DTSTART;TZID=America/New_York:20241016T140000
DTEND;TZID=America/New_York:20241016T150000
DTSTAMP:20260419T161641
CREATED:20240924T142854Z
LAST-MODIFIED:20240924T142854Z
UID:11997-1729087200-1729090800@artsconnectva.org
SUMMARY:Strummin' and Pickin' with Ted Drake and Eric Yoder
DESCRIPTION:
URL:https://artsconnectva.org/event/strummin-and-pickin-with-ted-drake-and-eric-yoder/
LOCATION:VA
CATEGORIES:Outreach Program
END:VEVENT
BEGIN:VEVENT
DTSTART;TZID=America/New_York:20241016T150000
DTEND;TZID=America/New_York:20241016T160000
DTSTAMP:20260419T161641
CREATED:20240930T160256Z
LAST-MODIFIED:20241011T150821Z
UID:12028-1729090800-1729094400@artsconnectva.org
SUMMARY:Golden Oldies with Ava Stevenson
DESCRIPTION:
URL:https://artsconnectva.org/event/all-the-favorites-with-rose-tom-schlater/
LOCATION:VA
CATEGORIES:Outreach Program
END:VEVENT
END:VCALENDAR