BEGIN:VCALENDAR
VERSION:2.0
PRODID:-//ArtsConnect Virginia - ECPv6.15.20//NONSGML v1.0//EN
CALSCALE:GREGORIAN
METHOD:PUBLISH
X-WR-CALNAME:ArtsConnect Virginia
X-ORIGINAL-URL:https://artsconnectva.org
X-WR-CALDESC:Events for ArtsConnect Virginia
REFRESH-INTERVAL;VALUE=DURATION:PT1H
X-Robots-Tag:noindex
X-PUBLISHED-TTL:PT1H
BEGIN:VTIMEZONE
TZID:America/New_York
BEGIN:DAYLIGHT
TZOFFSETFROM:-0500
TZOFFSETTO:-0400
TZNAME:EDT
DTSTART:20230312T070000
END:DAYLIGHT
BEGIN:STANDARD
TZOFFSETFROM:-0400
TZOFFSETTO:-0500
TZNAME:EST
DTSTART:20231105T060000
END:STANDARD
BEGIN:DAYLIGHT
TZOFFSETFROM:-0500
TZOFFSETTO:-0400
TZNAME:EDT
DTSTART:20240310T070000
END:DAYLIGHT
BEGIN:STANDARD
TZOFFSETFROM:-0400
TZOFFSETTO:-0500
TZNAME:EST
DTSTART:20241103T060000
END:STANDARD
BEGIN:DAYLIGHT
TZOFFSETFROM:-0500
TZOFFSETTO:-0400
TZNAME:EDT
DTSTART:20250309T070000
END:DAYLIGHT
BEGIN:STANDARD
TZOFFSETFROM:-0400
TZOFFSETTO:-0500
TZNAME:EST
DTSTART:20251102T060000
END:STANDARD
END:VTIMEZONE
BEGIN:VEVENT
DTSTART;TZID=America/New_York:20241008T130000
DTEND;TZID=America/New_York:20241008T140000
DTSTAMP:20260419T144822
CREATED:20240829T221856Z
LAST-MODIFIED:20240829T221856Z
UID:11776-1728392400-1728396000@artsconnectva.org
SUMMARY:Piano Tunes with Christian Flores
DESCRIPTION:
URL:https://artsconnectva.org/event/piano-tunes-with-christian-flores-4/
LOCATION:VA
CATEGORIES:Outreach Program
END:VEVENT
BEGIN:VEVENT
DTSTART;TZID=America/New_York:20241008T130000
DTEND;TZID=America/New_York:20241008T140000
DTSTAMP:20260419T144822
CREATED:20240903T183735Z
LAST-MODIFIED:20240903T183735Z
UID:11807-1728392400-1728396000@artsconnectva.org
SUMMARY:Fall Painting with Rhona Dawson
DESCRIPTION:
URL:https://artsconnectva.org/event/fall-painting-with-rhona-dawson/
LOCATION:VA
CATEGORIES:Outreach Program
END:VEVENT
BEGIN:VEVENT
DTSTART;TZID=America/New_York:20241008T133000
DTEND;TZID=America/New_York:20241008T143000
DTSTAMP:20260419T144822
CREATED:20240829T150846Z
LAST-MODIFIED:20240903T183334Z
UID:11762-1728394200-1728397800@artsconnectva.org
SUMMARY:Keep the Beat Social with Ava Stevenson
DESCRIPTION:
URL:https://artsconnectva.org/event/keep-the-beat-social-with-bryan-martin/
LOCATION:VA
CATEGORIES:Outreach Program
END:VEVENT
BEGIN:VEVENT
DTSTART;TZID=America/New_York:20241008T140000
DTEND;TZID=America/New_York:20241008T150000
DTSTAMP:20260419T144822
CREATED:20240829T220257Z
LAST-MODIFIED:20240829T220257Z
UID:11770-1728396000-1728399600@artsconnectva.org
SUMMARY:Happy Hour with Tina & Jim
DESCRIPTION:
URL:https://artsconnectva.org/event/happy-hour-with-tina-jim-2/
LOCATION:VA
CATEGORIES:Outreach Program
END:VEVENT
BEGIN:VEVENT
DTSTART;TZID=America/New_York:20241008T140000
DTEND;TZID=America/New_York:20241008T150000
DTSTAMP:20260419T144822
CREATED:20240909T134150Z
LAST-MODIFIED:20240909T134150Z
UID:11822-1728396000-1728399600@artsconnectva.org
SUMMARY:Pumpkin Painting with Vivian Davis
DESCRIPTION:View Flyer
URL:https://artsconnectva.org/event/pumpkin-painting-with-vivian-davis/
LOCATION:VA
CATEGORIES:Outreach Program
END:VEVENT
BEGIN:VEVENT
DTSTART;TZID=America/New_York:20241008T140000
DTEND;TZID=America/New_York:20241008T150000
DTSTAMP:20260419T144822
CREATED:20240909T134506Z
LAST-MODIFIED:20240909T134506Z
UID:11825-1728396000-1728399600@artsconnectva.org
SUMMARY:Let's Jam with The Earthtones
DESCRIPTION:
URL:https://artsconnectva.org/event/lets-jam-with-the-earthtones-3/
LOCATION:VA
CATEGORIES:Outreach Program
END:VEVENT
BEGIN:VEVENT
DTSTART;TZID=America/New_York:20241008T140000
DTEND;TZID=America/New_York:20241008T150000
DTSTAMP:20260419T144822
CREATED:20240923T184037Z
LAST-MODIFIED:20240923T184037Z
UID:11993-1728396000-1728399600@artsconnectva.org
SUMMARY:Rock n' Roll with Mark Pettiford
DESCRIPTION:
URL:https://artsconnectva.org/event/rock-n-roll-with-mark-pettiford-6/
LOCATION:VA
CATEGORIES:Outreach Program
END:VEVENT
BEGIN:VEVENT
DTSTART;TZID=America/New_York:20241008T153000
DTEND;TZID=America/New_York:20241008T163000
DTSTAMP:20260419T144822
CREATED:20241004T154518Z
LAST-MODIFIED:20241004T154518Z
UID:12068-1728401400-1728405000@artsconnectva.org
SUMMARY:Music with Bryan Martin
DESCRIPTION:
URL:https://artsconnectva.org/event/music-with-bryan-martin/
LOCATION:VA
CATEGORIES:Outreach Program
END:VEVENT
BEGIN:VEVENT
DTSTART;TZID=America/New_York:20241008T180000
DTEND;TZID=America/New_York:20241008T190000
DTSTAMP:20260419T144822
CREATED:20240917T160305Z
LAST-MODIFIED:20240917T160305Z
UID:11890-1728410400-1728414000@artsconnectva.org
SUMMARY:Fall Paint Along with Vivian Davis
DESCRIPTION:
URL:https://artsconnectva.org/event/fall-paint-along-with-vivian-davis/
LOCATION:Jordan-Newby Anchor Branch Library\, 1425 Norchester Ave\, Norfolk\, VA\, 23504\, United States
CATEGORIES:Open to the Public
END:VEVENT
END:VCALENDAR