BEGIN:VCALENDAR
VERSION:2.0
PRODID:-//ArtsConnect Virginia - ECPv6.15.20//NONSGML v1.0//EN
CALSCALE:GREGORIAN
METHOD:PUBLISH
X-ORIGINAL-URL:https://artsconnectva.org
X-WR-CALDESC:Events for ArtsConnect Virginia
REFRESH-INTERVAL;VALUE=DURATION:PT1H
X-Robots-Tag:noindex
X-PUBLISHED-TTL:PT1H
BEGIN:VTIMEZONE
TZID:America/New_York
BEGIN:DAYLIGHT
TZOFFSETFROM:-0500
TZOFFSETTO:-0400
TZNAME:EDT
DTSTART:20230312T070000
END:DAYLIGHT
BEGIN:STANDARD
TZOFFSETFROM:-0400
TZOFFSETTO:-0500
TZNAME:EST
DTSTART:20231105T060000
END:STANDARD
BEGIN:DAYLIGHT
TZOFFSETFROM:-0500
TZOFFSETTO:-0400
TZNAME:EDT
DTSTART:20240310T070000
END:DAYLIGHT
BEGIN:STANDARD
TZOFFSETFROM:-0400
TZOFFSETTO:-0500
TZNAME:EST
DTSTART:20241103T060000
END:STANDARD
BEGIN:DAYLIGHT
TZOFFSETFROM:-0500
TZOFFSETTO:-0400
TZNAME:EDT
DTSTART:20250309T070000
END:DAYLIGHT
BEGIN:STANDARD
TZOFFSETFROM:-0400
TZOFFSETTO:-0500
TZNAME:EST
DTSTART:20251102T060000
END:STANDARD
END:VTIMEZONE
BEGIN:VEVENT
DTSTART;TZID=America/New_York:20240928T130000
DTEND;TZID=America/New_York:20240928T140000
DTSTAMP:20260419T145611
CREATED:20240922T170650Z
LAST-MODIFIED:20240922T170650Z
UID:11968-1727528400-1727532000@artsconnectva.org
SUMMARY:Pop Song Sing-Along with Melissa Cartwright
DESCRIPTION:
URL:https://artsconnectva.org/event/pop-song-sing-along-with-melissa-cartwright-5/
LOCATION:VA
CATEGORIES:Outreach Program
END:VEVENT
BEGIN:VEVENT
DTSTART;TZID=America/New_York:20240928T133000
DTEND;TZID=America/New_York:20240928T143000
DTSTAMP:20260419T145611
CREATED:20240816T203904Z
LAST-MODIFIED:20240918T201237Z
UID:11700-1727530200-1727533800@artsconnectva.org
SUMMARY:Fall Leaf Art Prints with Vivian Davis
DESCRIPTION:
URL:https://artsconnectva.org/event/creating-dragon-eyes-with-vivian-davis/
LOCATION:Taylor Bend YMCA\, 4626 Taylor Rd\, Chesapeake\, VA\, 23321\, United States
CATEGORIES:Open to the Public
END:VEVENT
BEGIN:VEVENT
DTSTART;TZID=America/New_York:20240928T140000
DTEND;TZID=America/New_York:20240928T150000
DTSTAMP:20260419T145611
CREATED:20240818T010546Z
LAST-MODIFIED:20240923T181239Z
UID:11717-1727532000-1727535600@artsconnectva.org
SUMMARY:Jazz Piano with Hugh Spain
DESCRIPTION:
URL:https://artsconnectva.org/event/music-for-the-soul-with-joseph-drake/
LOCATION:Hampton Public Library\, 4207 Victoria Blvd\, Hampton\, VA\, 23669\, United States
CATEGORIES:Open to the Public
END:VEVENT
BEGIN:VEVENT
DTSTART;TZID=America/New_York:20240928T140000
DTEND;TZID=America/New_York:20240928T150000
DTSTAMP:20260419T145611
CREATED:20240904T202240Z
LAST-MODIFIED:20240904T202240Z
UID:11813-1727532000-1727535600@artsconnectva.org
SUMMARY:Floral Arrangements with Delresa White
DESCRIPTION:View Flyer
URL:https://artsconnectva.org/event/floral-arrangements-with-delresa-white/
LOCATION:VA
CATEGORIES:Outreach Program
END:VEVENT
END:VCALENDAR