BEGIN:VCALENDAR
VERSION:2.0
PRODID:-//ArtsConnect Virginia - ECPv6.15.20//NONSGML v1.0//EN
CALSCALE:GREGORIAN
METHOD:PUBLISH
X-ORIGINAL-URL:https://artsconnectva.org
X-WR-CALDESC:Events for ArtsConnect Virginia
REFRESH-INTERVAL;VALUE=DURATION:PT1H
X-Robots-Tag:noindex
X-PUBLISHED-TTL:PT1H
BEGIN:VTIMEZONE
TZID:America/New_York
BEGIN:DAYLIGHT
TZOFFSETFROM:-0500
TZOFFSETTO:-0400
TZNAME:EDT
DTSTART:20230312T070000
END:DAYLIGHT
BEGIN:STANDARD
TZOFFSETFROM:-0400
TZOFFSETTO:-0500
TZNAME:EST
DTSTART:20231105T060000
END:STANDARD
BEGIN:DAYLIGHT
TZOFFSETFROM:-0500
TZOFFSETTO:-0400
TZNAME:EDT
DTSTART:20240310T070000
END:DAYLIGHT
BEGIN:STANDARD
TZOFFSETFROM:-0400
TZOFFSETTO:-0500
TZNAME:EST
DTSTART:20241103T060000
END:STANDARD
BEGIN:DAYLIGHT
TZOFFSETFROM:-0500
TZOFFSETTO:-0400
TZNAME:EDT
DTSTART:20250309T070000
END:DAYLIGHT
BEGIN:STANDARD
TZOFFSETFROM:-0400
TZOFFSETTO:-0500
TZNAME:EST
DTSTART:20251102T060000
END:STANDARD
END:VTIMEZONE
BEGIN:VEVENT
DTSTART;TZID=America/New_York:20240921T120000
DTEND;TZID=America/New_York:20240921T130000
DTSTAMP:20260419T180204
CREATED:20240921T144634Z
LAST-MODIFIED:20240921T144634Z
UID:11932-1726920000-1726923600@artsconnectva.org
SUMMARY:Clay Ghost Luminaries with Camille Donne
DESCRIPTION:View Flyer
URL:https://artsconnectva.org/event/clay-ghost-luminaries-with-camille-donne/
LOCATION:VA
CATEGORIES:Outreach Program
END:VEVENT
BEGIN:VEVENT
DTSTART;TZID=America/New_York:20240921T133000
DTEND;TZID=America/New_York:20240921T143000
DTSTAMP:20260419T180204
CREATED:20240816T203549Z
LAST-MODIFIED:20240816T203549Z
UID:11698-1726925400-1726929000@artsconnectva.org
SUMMARY:Tin Foil Art with Karen Gould
DESCRIPTION:
URL:https://artsconnectva.org/event/tin-foil-art-with-karen-gould/
LOCATION:Taylor Bend YMCA\, 4626 Taylor Rd\, Chesapeake\, VA\, 23321\, United States
CATEGORIES:Open to the Public
END:VEVENT
END:VCALENDAR