BEGIN:VCALENDAR
VERSION:2.0
PRODID:-//ArtsConnect Virginia - ECPv6.15.20//NONSGML v1.0//EN
CALSCALE:GREGORIAN
METHOD:PUBLISH
X-ORIGINAL-URL:https://artsconnectva.org
X-WR-CALDESC:Events for ArtsConnect Virginia
REFRESH-INTERVAL;VALUE=DURATION:PT1H
X-Robots-Tag:noindex
X-PUBLISHED-TTL:PT1H
BEGIN:VTIMEZONE
TZID:America/New_York
BEGIN:DAYLIGHT
TZOFFSETFROM:-0500
TZOFFSETTO:-0400
TZNAME:EDT
DTSTART:20230312T070000
END:DAYLIGHT
BEGIN:STANDARD
TZOFFSETFROM:-0400
TZOFFSETTO:-0500
TZNAME:EST
DTSTART:20231105T060000
END:STANDARD
BEGIN:DAYLIGHT
TZOFFSETFROM:-0500
TZOFFSETTO:-0400
TZNAME:EDT
DTSTART:20240310T070000
END:DAYLIGHT
BEGIN:STANDARD
TZOFFSETFROM:-0400
TZOFFSETTO:-0500
TZNAME:EST
DTSTART:20241103T060000
END:STANDARD
BEGIN:DAYLIGHT
TZOFFSETFROM:-0500
TZOFFSETTO:-0400
TZNAME:EDT
DTSTART:20250309T070000
END:DAYLIGHT
BEGIN:STANDARD
TZOFFSETFROM:-0400
TZOFFSETTO:-0500
TZNAME:EST
DTSTART:20251102T060000
END:STANDARD
END:VTIMEZONE
BEGIN:VEVENT
DTSTART;TZID=America/New_York:20240917T103000
DTEND;TZID=America/New_York:20240917T123000
DTSTAMP:20260421T090533
CREATED:20240807T140953Z
LAST-MODIFIED:20240807T140953Z
UID:11548-1726569000-1726576200@artsconnectva.org
SUMMARY:Lifelong Citizenship Award Ceremony with Jena Chenkin
DESCRIPTION:View Flyer
URL:https://artsconnectva.org/event/lifelong-citizenship-award-ceremony-with-jena-chenkin/
LOCATION:Brittingham-Midtown Community Center\, 570 McLawhorne Dr\, Newport News\, VA\, 23601\, United States
CATEGORIES:Outreach Program
END:VEVENT
BEGIN:VEVENT
DTSTART;TZID=America/New_York:20240917T110000
DTEND;TZID=America/New_York:20240917T120000
DTSTAMP:20260421T090533
CREATED:20240807T144510Z
LAST-MODIFIED:20240807T144510Z
UID:11553-1726570800-1726574400@artsconnectva.org
SUMMARY:Hula with Alicia Edwards
DESCRIPTION:View Flyer
URL:https://artsconnectva.org/event/hula-with-alicia-edwards-2/
LOCATION:VA
CATEGORIES:Outreach Program
END:VEVENT
BEGIN:VEVENT
DTSTART;TZID=America/New_York:20240917T130000
DTEND;TZID=America/New_York:20240917T140000
DTSTAMP:20260421T090533
CREATED:20240807T143235Z
LAST-MODIFIED:20240807T143235Z
UID:11551-1726578000-1726581600@artsconnectva.org
SUMMARY:All the Best Hits with David Jones & Ron Vincent
DESCRIPTION:
URL:https://artsconnectva.org/event/all-the-best-hits-with-david-jones-ron-vincent/
LOCATION:VA
CATEGORIES:Outreach Program
END:VEVENT
BEGIN:VEVENT
DTSTART;TZID=America/New_York:20240917T133000
DTEND;TZID=America/New_York:20240917T143000
DTSTAMP:20260421T090533
CREATED:20240807T135806Z
LAST-MODIFIED:20240807T135806Z
UID:11543-1726579800-1726583400@artsconnectva.org
SUMMARY:Keep the Beat Social with Mark Pettiford
DESCRIPTION:View Flyer
URL:https://artsconnectva.org/event/keep-the-beat-social-with-mark-pettiford/
LOCATION:VA
CATEGORIES:Outreach Program
END:VEVENT
BEGIN:VEVENT
DTSTART;TZID=America/New_York:20240917T140000
DTEND;TZID=America/New_York:20240917T150000
DTSTAMP:20260421T090533
CREATED:20240821T163433Z
LAST-MODIFIED:20240821T163433Z
UID:11732-1726581600-1726585200@artsconnectva.org
SUMMARY:Fall Mason Jars with Stephanie Slate
DESCRIPTION:
URL:https://artsconnectva.org/event/fall-mason-jars-with-stephanie-slate-2/
LOCATION:VA
CATEGORIES:Outreach Program
END:VEVENT
END:VCALENDAR