BEGIN:VCALENDAR
VERSION:2.0
PRODID:-//ArtsConnect Virginia - ECPv6.15.20//NONSGML v1.0//EN
CALSCALE:GREGORIAN
METHOD:PUBLISH
X-WR-CALNAME:ArtsConnect Virginia
X-ORIGINAL-URL:https://artsconnectva.org
X-WR-CALDESC:Events for ArtsConnect Virginia
REFRESH-INTERVAL;VALUE=DURATION:PT1H
X-Robots-Tag:noindex
X-PUBLISHED-TTL:PT1H
BEGIN:VTIMEZONE
TZID:America/New_York
BEGIN:DAYLIGHT
TZOFFSETFROM:-0500
TZOFFSETTO:-0400
TZNAME:EDT
DTSTART:20230312T070000
END:DAYLIGHT
BEGIN:STANDARD
TZOFFSETFROM:-0400
TZOFFSETTO:-0500
TZNAME:EST
DTSTART:20231105T060000
END:STANDARD
BEGIN:DAYLIGHT
TZOFFSETFROM:-0500
TZOFFSETTO:-0400
TZNAME:EDT
DTSTART:20240310T070000
END:DAYLIGHT
BEGIN:STANDARD
TZOFFSETFROM:-0400
TZOFFSETTO:-0500
TZNAME:EST
DTSTART:20241103T060000
END:STANDARD
BEGIN:DAYLIGHT
TZOFFSETFROM:-0500
TZOFFSETTO:-0400
TZNAME:EDT
DTSTART:20250309T070000
END:DAYLIGHT
BEGIN:STANDARD
TZOFFSETFROM:-0400
TZOFFSETTO:-0500
TZNAME:EST
DTSTART:20251102T060000
END:STANDARD
END:VTIMEZONE
BEGIN:VEVENT
DTSTART;TZID=America/New_York:20240913T100000
DTEND;TZID=America/New_York:20240913T110000
DTSTAMP:20260421T054610
CREATED:20240829T214415Z
LAST-MODIFIED:20240829T214415Z
UID:11765-1726221600-1726225200@artsconnectva.org
SUMMARY:All of the Favorites with Cory Laser
DESCRIPTION:
URL:https://artsconnectva.org/event/all-of-the-favorites-with-cory-laser-6/
LOCATION:VA
CATEGORIES:Outreach Program
END:VEVENT
BEGIN:VEVENT
DTSTART;TZID=America/New_York:20240913T140000
DTEND;TZID=America/New_York:20240913T150000
DTSTAMP:20260421T054610
CREATED:20240807T132721Z
LAST-MODIFIED:20240807T132938Z
UID:11540-1726236000-1726239600@artsconnectva.org
SUMMARY:Happy Hour with Ava & Bryan!
DESCRIPTION:
URL:https://artsconnectva.org/event/happy-hour-with-bryan-martin-8/
LOCATION:VA
CATEGORIES:Outreach Program
END:VEVENT
BEGIN:VEVENT
DTSTART;TZID=America/New_York:20240913T140000
DTEND;TZID=America/New_York:20240913T150000
DTSTAMP:20260421T054610
CREATED:20240815T170843Z
LAST-MODIFIED:20240816T134351Z
UID:11673-1726236000-1726239600@artsconnectva.org
SUMMARY:Improv Fun with Leila Stephanie
DESCRIPTION:
URL:https://artsconnectva.org/event/stand-up-with-rona-hyman/
LOCATION:VA
CATEGORIES:Outreach Program
END:VEVENT
BEGIN:VEVENT
DTSTART;TZID=America/New_York:20240913T170000
DTEND;TZID=America/New_York:20240913T180000
DTSTAMP:20260421T054610
CREATED:20240812T174020Z
LAST-MODIFIED:20240812T174020Z
UID:11641-1726246800-1726250400@artsconnectva.org
SUMMARY:Second Friday Art with Vanessa Golson
DESCRIPTION:
URL:https://artsconnectva.org/event/second-friday-art-with-vanessa-golson/
LOCATION:Barron F. Black Branch Library\, 6700 E Tanners Creek Dr\, Norfolk\, VA\, 23513\, United States
CATEGORIES:Open to the Public
END:VEVENT
END:VCALENDAR