BEGIN:VCALENDAR
VERSION:2.0
PRODID:-//ArtsConnect Virginia - ECPv6.15.20//NONSGML v1.0//EN
CALSCALE:GREGORIAN
METHOD:PUBLISH
X-ORIGINAL-URL:https://artsconnectva.org
X-WR-CALDESC:Events for ArtsConnect Virginia
REFRESH-INTERVAL;VALUE=DURATION:PT1H
X-Robots-Tag:noindex
X-PUBLISHED-TTL:PT1H
BEGIN:VTIMEZONE
TZID:America/New_York
BEGIN:DAYLIGHT
TZOFFSETFROM:-0500
TZOFFSETTO:-0400
TZNAME:EDT
DTSTART:20230312T070000
END:DAYLIGHT
BEGIN:STANDARD
TZOFFSETFROM:-0400
TZOFFSETTO:-0500
TZNAME:EST
DTSTART:20231105T060000
END:STANDARD
BEGIN:DAYLIGHT
TZOFFSETFROM:-0500
TZOFFSETTO:-0400
TZNAME:EDT
DTSTART:20240310T070000
END:DAYLIGHT
BEGIN:STANDARD
TZOFFSETFROM:-0400
TZOFFSETTO:-0500
TZNAME:EST
DTSTART:20241103T060000
END:STANDARD
BEGIN:DAYLIGHT
TZOFFSETFROM:-0500
TZOFFSETTO:-0400
TZNAME:EDT
DTSTART:20250309T070000
END:DAYLIGHT
BEGIN:STANDARD
TZOFFSETFROM:-0400
TZOFFSETTO:-0500
TZNAME:EST
DTSTART:20251102T060000
END:STANDARD
END:VTIMEZONE
BEGIN:VEVENT
DTSTART;TZID=America/New_York:20240912T130000
DTEND;TZID=America/New_York:20240912T140000
DTSTAMP:20260420T001540
CREATED:20240708T160032Z
LAST-MODIFIED:20240708T160032Z
UID:11050-1726146000-1726149600@artsconnectva.org
SUMMARY:Caribbean Carnival Expo with Alicia Edwards
DESCRIPTION:
URL:https://artsconnectva.org/event/caribbean-carnival-expo-with-alicia-edwards/
LOCATION:VA
CATEGORIES:Outreach Program
END:VEVENT
BEGIN:VEVENT
DTSTART;TZID=America/New_York:20240912T130000
DTEND;TZID=America/New_York:20240912T140000
DTSTAMP:20260420T001540
CREATED:20240817T194342Z
LAST-MODIFIED:20240817T194342Z
UID:11705-1726146000-1726149600@artsconnectva.org
SUMMARY:Piano Tunes with Christian Flores
DESCRIPTION:
URL:https://artsconnectva.org/event/piano-tunes-with-christian-flores-3/
LOCATION:VA
CATEGORIES:Outreach Program
END:VEVENT
BEGIN:VEVENT
DTSTART;TZID=America/New_York:20240912T133000
DTEND;TZID=America/New_York:20240912T143000
DTSTAMP:20260420T001540
CREATED:20240903T213758Z
LAST-MODIFIED:20240903T213758Z
UID:11811-1726147800-1726151400@artsconnectva.org
SUMMARY:The Classics with Mary Saunders
DESCRIPTION:
URL:https://artsconnectva.org/event/the-classics-with-mary-saunders-3/
LOCATION:VA
CATEGORIES:Outreach Program
END:VEVENT
BEGIN:VEVENT
DTSTART;TZID=America/New_York:20240912T140000
DTEND;TZID=America/New_York:20240912T150000
DTSTAMP:20260420T001540
CREATED:20240806T132522Z
LAST-MODIFIED:20240806T132522Z
UID:11506-1726149600-1726153200@artsconnectva.org
SUMMARY:Fiddlin' and Pickin' with Tidewater Bluegrass Revival
DESCRIPTION:
URL:https://artsconnectva.org/event/fiddlin-and-pickin-with-tidewater-bluegrass-revival-12/
LOCATION:VA
CATEGORIES:Outreach Program
END:VEVENT
BEGIN:VEVENT
DTSTART;TZID=America/New_York:20240912T140000
DTEND;TZID=America/New_York:20240912T150000
DTSTAMP:20260420T001540
CREATED:20240807T132405Z
LAST-MODIFIED:20240807T132405Z
UID:11537-1726149600-1726153200@artsconnectva.org
SUMMARY:Rock n' Roll with Mark Pettiford
DESCRIPTION:View Flyer
URL:https://artsconnectva.org/event/rock-n-roll-with-mark-pettiford-3/
LOCATION:VA
CATEGORIES:Outreach Program
END:VEVENT
END:VCALENDAR