BEGIN:VCALENDAR
VERSION:2.0
PRODID:-//ArtsConnect Virginia - ECPv6.15.20//NONSGML v1.0//EN
CALSCALE:GREGORIAN
METHOD:PUBLISH
X-WR-CALNAME:ArtsConnect Virginia
X-ORIGINAL-URL:https://artsconnectva.org
X-WR-CALDESC:Events for ArtsConnect Virginia
REFRESH-INTERVAL;VALUE=DURATION:PT1H
X-Robots-Tag:noindex
X-PUBLISHED-TTL:PT1H
BEGIN:VTIMEZONE
TZID:America/New_York
BEGIN:DAYLIGHT
TZOFFSETFROM:-0500
TZOFFSETTO:-0400
TZNAME:EDT
DTSTART:20230312T070000
END:DAYLIGHT
BEGIN:STANDARD
TZOFFSETFROM:-0400
TZOFFSETTO:-0500
TZNAME:EST
DTSTART:20231105T060000
END:STANDARD
BEGIN:DAYLIGHT
TZOFFSETFROM:-0500
TZOFFSETTO:-0400
TZNAME:EDT
DTSTART:20240310T070000
END:DAYLIGHT
BEGIN:STANDARD
TZOFFSETFROM:-0400
TZOFFSETTO:-0500
TZNAME:EST
DTSTART:20241103T060000
END:STANDARD
BEGIN:DAYLIGHT
TZOFFSETFROM:-0500
TZOFFSETTO:-0400
TZNAME:EDT
DTSTART:20250309T070000
END:DAYLIGHT
BEGIN:STANDARD
TZOFFSETFROM:-0400
TZOFFSETTO:-0500
TZNAME:EST
DTSTART:20251102T060000
END:STANDARD
END:VTIMEZONE
BEGIN:VEVENT
DTSTART;TZID=America/New_York:20240827T130000
DTEND;TZID=America/New_York:20240827T140000
DTSTAMP:20260421T054616
CREATED:20240422T182348Z
LAST-MODIFIED:20240422T182348Z
UID:10459-1724763600-1724767200@artsconnectva.org
SUMMARY:A Gathering of Great Tunes with Karen Stowe
DESCRIPTION:Enjoy listening to beautiful harp music!
URL:https://artsconnectva.org/event/a-gathering-of-great-tunes-with-karen-stowe/
LOCATION:VA
CATEGORIES:Outreach Program
END:VEVENT
BEGIN:VEVENT
DTSTART;TZID=America/New_York:20240827T133000
DTEND;TZID=America/New_York:20240827T143000
DTSTAMP:20260421T054616
CREATED:20240624T154816Z
LAST-MODIFIED:20240624T154816Z
UID:10885-1724765400-1724769000@artsconnectva.org
SUMMARY:Keep the Beat Social with Richard Mekdeci
DESCRIPTION:
URL:https://artsconnectva.org/event/keep-the-beat-social-with-richard-mekdeci-5/
LOCATION:VA
CATEGORIES:Outreach Program
END:VEVENT
BEGIN:VEVENT
DTSTART;TZID=America/New_York:20240827T140000
DTEND;TZID=America/New_York:20240827T150000
DTSTAMP:20260421T054616
CREATED:20240626T155050Z
LAST-MODIFIED:20240626T155050Z
UID:10919-1724767200-1724770800@artsconnectva.org
SUMMARY:Candle Making with Ginnie & Tracy
DESCRIPTION:
URL:https://artsconnectva.org/event/candle-making-with-ginnie-tracy-2/
LOCATION:VA
CATEGORIES:Outreach Program
END:VEVENT
BEGIN:VEVENT
DTSTART;TZID=America/New_York:20240827T140000
DTEND;TZID=America/New_York:20240827T150000
DTSTAMP:20260421T054616
CREATED:20240722T011657Z
LAST-MODIFIED:20240722T011657Z
UID:11089-1724767200-1724770800@artsconnectva.org
SUMMARY:Favorite Throwbacks with Bryan Martin
DESCRIPTION:
URL:https://artsconnectva.org/event/favorite-throwbacks-with-bryan-martin-3/
LOCATION:VA
CATEGORIES:Outreach Program
END:VEVENT
BEGIN:VEVENT
DTSTART;TZID=America/New_York:20240827T140000
DTEND;TZID=America/New_York:20240827T150000
DTSTAMP:20260421T054616
CREATED:20240723T173658Z
LAST-MODIFIED:20240821T144058Z
UID:11113-1724767200-1724770800@artsconnectva.org
SUMMARY:All the Favorites with Art Rowe
DESCRIPTION:
URL:https://artsconnectva.org/event/trumpet-tunes-with-chad-mcgill-17/
LOCATION:VA
CATEGORIES:Outreach Program
END:VEVENT
BEGIN:VEVENT
DTSTART;TZID=America/New_York:20240827T140000
DTEND;TZID=America/New_York:20240827T150000
DTSTAMP:20260421T054616
CREATED:20240730T164432Z
LAST-MODIFIED:20240730T164432Z
UID:11156-1724767200-1724770800@artsconnectva.org
SUMMARY:Acrylic Paint Pour with Vanessa Golson
DESCRIPTION:View Flyer
URL:https://artsconnectva.org/event/acrylic-paint-pour-with-vanessa-golson-37/
LOCATION:VA
CATEGORIES:Outreach Program
END:VEVENT
END:VCALENDAR