BEGIN:VCALENDAR
VERSION:2.0
PRODID:-//ArtsConnect Virginia - ECPv6.15.20//NONSGML v1.0//EN
CALSCALE:GREGORIAN
METHOD:PUBLISH
X-WR-CALNAME:ArtsConnect Virginia
X-ORIGINAL-URL:https://artsconnectva.org
X-WR-CALDESC:Events for ArtsConnect Virginia
REFRESH-INTERVAL;VALUE=DURATION:PT1H
X-Robots-Tag:noindex
X-PUBLISHED-TTL:PT1H
BEGIN:VTIMEZONE
TZID:America/New_York
BEGIN:DAYLIGHT
TZOFFSETFROM:-0500
TZOFFSETTO:-0400
TZNAME:EDT
DTSTART:20230312T070000
END:DAYLIGHT
BEGIN:STANDARD
TZOFFSETFROM:-0400
TZOFFSETTO:-0500
TZNAME:EST
DTSTART:20231105T060000
END:STANDARD
BEGIN:DAYLIGHT
TZOFFSETFROM:-0500
TZOFFSETTO:-0400
TZNAME:EDT
DTSTART:20240310T070000
END:DAYLIGHT
BEGIN:STANDARD
TZOFFSETFROM:-0400
TZOFFSETTO:-0500
TZNAME:EST
DTSTART:20241103T060000
END:STANDARD
BEGIN:DAYLIGHT
TZOFFSETFROM:-0500
TZOFFSETTO:-0400
TZNAME:EDT
DTSTART:20250309T070000
END:DAYLIGHT
BEGIN:STANDARD
TZOFFSETFROM:-0400
TZOFFSETTO:-0500
TZNAME:EST
DTSTART:20251102T060000
END:STANDARD
END:VTIMEZONE
BEGIN:VEVENT
DTSTART;TZID=America/New_York:20240826T110000
DTEND;TZID=America/New_York:20240826T120000
DTSTAMP:20260419T161615
CREATED:20240723T181906Z
LAST-MODIFIED:20240723T181906Z
UID:11127-1724670000-1724673600@artsconnectva.org
SUMMARY:Chair Fitness with Vanessa Golson
DESCRIPTION:
URL:https://artsconnectva.org/event/chair-fitness-with-vanessa-golson-13/
LOCATION:East Suffolk Recreation Center\, 138 S 6th St.\, Suffolk\, VA\, 23434\, United States
CATEGORIES:Open to the Public
END:VEVENT
BEGIN:VEVENT
DTSTART;TZID=America/New_York:20240826T130000
DTEND;TZID=America/New_York:20240826T140000
DTSTAMP:20260419T161615
CREATED:20240805T192504Z
LAST-MODIFIED:20240805T192504Z
UID:11478-1724677200-1724680800@artsconnectva.org
SUMMARY:Jewelry Making with Kym Bach
DESCRIPTION:
URL:https://artsconnectva.org/event/jewelry-making-with-kym-bach-2/
LOCATION:VA
CATEGORIES:Outreach Program
END:VEVENT
BEGIN:VEVENT
DTSTART;TZID=America/New_York:20240826T140000
DTEND;TZID=America/New_York:20240826T150000
DTSTAMP:20260419T161615
CREATED:20240722T011354Z
LAST-MODIFIED:20240722T011354Z
UID:11087-1724680800-1724684400@artsconnectva.org
SUMMARY:Chicken Painting with Stephanie Slate
DESCRIPTION:
URL:https://artsconnectva.org/event/chicken-painting-with-stephanie-slate/
LOCATION:VA
CATEGORIES:Outreach Program
END:VEVENT
BEGIN:VEVENT
DTSTART;TZID=America/New_York:20240826T140000
DTEND;TZID=America/New_York:20240826T150000
DTSTAMP:20260419T161615
CREATED:20240730T162453Z
LAST-MODIFIED:20240730T162453Z
UID:11147-1724680800-1724684400@artsconnectva.org
SUMMARY:Keepsake Craft with Susan Owens
DESCRIPTION:View Flyer
URL:https://artsconnectva.org/event/keepsake-craft-with-susan-owens/
LOCATION:VA
CATEGORIES:Outreach Program
END:VEVENT
END:VCALENDAR