BEGIN:VCALENDAR
VERSION:2.0
PRODID:-//ArtsConnect Virginia - ECPv6.15.20//NONSGML v1.0//EN
CALSCALE:GREGORIAN
METHOD:PUBLISH
X-WR-CALNAME:ArtsConnect Virginia
X-ORIGINAL-URL:https://artsconnectva.org
X-WR-CALDESC:Events for ArtsConnect Virginia
REFRESH-INTERVAL;VALUE=DURATION:PT1H
X-Robots-Tag:noindex
X-PUBLISHED-TTL:PT1H
BEGIN:VTIMEZONE
TZID:America/New_York
BEGIN:DAYLIGHT
TZOFFSETFROM:-0500
TZOFFSETTO:-0400
TZNAME:EDT
DTSTART:20230312T070000
END:DAYLIGHT
BEGIN:STANDARD
TZOFFSETFROM:-0400
TZOFFSETTO:-0500
TZNAME:EST
DTSTART:20231105T060000
END:STANDARD
BEGIN:DAYLIGHT
TZOFFSETFROM:-0500
TZOFFSETTO:-0400
TZNAME:EDT
DTSTART:20240310T070000
END:DAYLIGHT
BEGIN:STANDARD
TZOFFSETFROM:-0400
TZOFFSETTO:-0500
TZNAME:EST
DTSTART:20241103T060000
END:STANDARD
BEGIN:DAYLIGHT
TZOFFSETFROM:-0500
TZOFFSETTO:-0400
TZNAME:EDT
DTSTART:20250309T070000
END:DAYLIGHT
BEGIN:STANDARD
TZOFFSETFROM:-0400
TZOFFSETTO:-0500
TZNAME:EST
DTSTART:20251102T060000
END:STANDARD
END:VTIMEZONE
BEGIN:VEVENT
DTSTART;TZID=America/New_York:20240823T170000
DTEND;TZID=America/New_York:20240823T170000
DTSTAMP:20260421T071526
CREATED:20240620T153252Z
LAST-MODIFIED:20240815T141847Z
UID:10830-1724432400-1724432400@artsconnectva.org
SUMMARY:Happy Hour with Dan Smith
DESCRIPTION:
URL:https://artsconnectva.org/event/happy-hour-with-dan-smith-10/
LOCATION:VA
CATEGORIES:Outreach Program
END:VEVENT
BEGIN:VEVENT
DTSTART;TZID=America/New_York:20240823T160000
DTEND;TZID=America/New_York:20240823T160000
DTSTAMP:20260421T071526
CREATED:20240707T193519Z
LAST-MODIFIED:20240815T141923Z
UID:11034-1724428800-1724428800@artsconnectva.org
SUMMARY:Polynesian Dance with Alicia Edwards
DESCRIPTION:
URL:https://artsconnectva.org/event/polynesian-dance-with-alicia-edwards-5/
LOCATION:VA
CATEGORIES:Outreach Program
END:VEVENT
BEGIN:VEVENT
DTSTART;TZID=America/New_York:20240823T140000
DTEND;TZID=America/New_York:20240823T150000
DTSTAMP:20260421T071526
CREATED:20240722T011135Z
LAST-MODIFIED:20240722T011135Z
UID:11085-1724421600-1724425200@artsconnectva.org
SUMMARY:Golden Oldies with Ava Stevenson
DESCRIPTION:
URL:https://artsconnectva.org/event/golden-oldies-with-ava-stevenson-2/
LOCATION:VA
CATEGORIES:Outreach Program
END:VEVENT
BEGIN:VEVENT
DTSTART;TZID=America/New_York:20240823T140000
DTEND;TZID=America/New_York:20240823T150000
DTSTAMP:20260421T071526
CREATED:20240723T172220Z
LAST-MODIFIED:20240723T172817Z
UID:11107-1724421600-1724425200@artsconnectva.org
SUMMARY:Flowers on Wood with Susan Owens
DESCRIPTION:View Flyer
URL:https://artsconnectva.org/event/flowers-on-wood-with-susan-owens-2/
LOCATION:VA
CATEGORIES:Outreach Program
END:VEVENT
BEGIN:VEVENT
DTSTART;TZID=America/New_York:20240823T153000
DTEND;TZID=America/New_York:20240823T163000
DTSTAMP:20260421T071526
CREATED:20240807T130553Z
LAST-MODIFIED:20240807T130553Z
UID:11528-1724427000-1724430600@artsconnectva.org
SUMMARY:Radio Hits Reimagined with Melissa Cartwright
DESCRIPTION:View Flyer
URL:https://artsconnectva.org/event/radio-hits-reimagined-with-melissa-cartwright-2/
LOCATION:VA
CATEGORIES:Outreach Program
END:VEVENT
BEGIN:VEVENT
DTSTART;TZID=America/New_York:20240823T160000
DTEND;TZID=America/New_York:20240823T170000
DTSTAMP:20260421T071526
CREATED:20240730T163734Z
LAST-MODIFIED:20240730T163734Z
UID:11153-1724428800-1724432400@artsconnectva.org
SUMMARY:Country Tunes with Paul Dickson
DESCRIPTION:View Flyer
URL:https://artsconnectva.org/event/country-tunes-with-paul-dickson/
LOCATION:VA
CATEGORIES:Outreach Program
END:VEVENT
END:VCALENDAR