BEGIN:VCALENDAR
VERSION:2.0
PRODID:-//ArtsConnect Virginia - ECPv6.15.20//NONSGML v1.0//EN
CALSCALE:GREGORIAN
METHOD:PUBLISH
X-WR-CALNAME:ArtsConnect Virginia
X-ORIGINAL-URL:https://artsconnectva.org
X-WR-CALDESC:Events for ArtsConnect Virginia
REFRESH-INTERVAL;VALUE=DURATION:PT1H
X-Robots-Tag:noindex
X-PUBLISHED-TTL:PT1H
BEGIN:VTIMEZONE
TZID:America/New_York
BEGIN:DAYLIGHT
TZOFFSETFROM:-0500
TZOFFSETTO:-0400
TZNAME:EDT
DTSTART:20230312T070000
END:DAYLIGHT
BEGIN:STANDARD
TZOFFSETFROM:-0400
TZOFFSETTO:-0500
TZNAME:EST
DTSTART:20231105T060000
END:STANDARD
BEGIN:DAYLIGHT
TZOFFSETFROM:-0500
TZOFFSETTO:-0400
TZNAME:EDT
DTSTART:20240310T070000
END:DAYLIGHT
BEGIN:STANDARD
TZOFFSETFROM:-0400
TZOFFSETTO:-0500
TZNAME:EST
DTSTART:20241103T060000
END:STANDARD
BEGIN:DAYLIGHT
TZOFFSETFROM:-0500
TZOFFSETTO:-0400
TZNAME:EDT
DTSTART:20250309T070000
END:DAYLIGHT
BEGIN:STANDARD
TZOFFSETFROM:-0400
TZOFFSETTO:-0500
TZNAME:EST
DTSTART:20251102T060000
END:STANDARD
END:VTIMEZONE
BEGIN:VEVENT
DTSTART;TZID=America/New_York:20240821T133000
DTEND;TZID=America/New_York:20240821T143000
DTSTAMP:20260421T084121
CREATED:20240626T153830Z
LAST-MODIFIED:20240626T153830Z
UID:10911-1724247000-1724250600@artsconnectva.org
SUMMARY:Hits of the 50's & 60's with Adrienne and Jamie
DESCRIPTION:View Flyer
URL:https://artsconnectva.org/event/hits-of-the-50s-60s-with-adrienne-and-jamie/
LOCATION:VA
CATEGORIES:Open to the Public
END:VEVENT
BEGIN:VEVENT
DTSTART;TZID=America/New_York:20240821T140000
DTEND;TZID=America/New_York:20240821T150000
DTSTAMP:20260421T084121
CREATED:20240805T191100Z
LAST-MODIFIED:20240805T191100Z
UID:11470-1724248800-1724252400@artsconnectva.org
SUMMARY:Favorite Throwbacks with Art Rowe
DESCRIPTION:View Flyer
URL:https://artsconnectva.org/event/favorite-throwbacks-with-art-rowe-17/
LOCATION:VA
CATEGORIES:Outreach Program
END:VEVENT
BEGIN:VEVENT
DTSTART;TZID=America/New_York:20240821T140000
DTEND;TZID=America/New_York:20240821T150000
DTSTAMP:20260421T084121
CREATED:20240805T192853Z
LAST-MODIFIED:20240805T192853Z
UID:11480-1724248800-1724252400@artsconnectva.org
SUMMARY:Mentalism & Magic with Sean McKenzie
DESCRIPTION:
URL:https://artsconnectva.org/event/mentalism-magic-with-sean-mckenzie-2/
LOCATION:VA
CATEGORIES:Outreach Program
END:VEVENT
END:VCALENDAR