BEGIN:VCALENDAR
VERSION:2.0
PRODID:-//ArtsConnect Virginia - ECPv6.15.20//NONSGML v1.0//EN
CALSCALE:GREGORIAN
METHOD:PUBLISH
X-ORIGINAL-URL:https://artsconnectva.org
X-WR-CALDESC:Events for ArtsConnect Virginia
REFRESH-INTERVAL;VALUE=DURATION:PT1H
X-Robots-Tag:noindex
X-PUBLISHED-TTL:PT1H
BEGIN:VTIMEZONE
TZID:America/New_York
BEGIN:DAYLIGHT
TZOFFSETFROM:-0500
TZOFFSETTO:-0400
TZNAME:EDT
DTSTART:20230312T070000
END:DAYLIGHT
BEGIN:STANDARD
TZOFFSETFROM:-0400
TZOFFSETTO:-0500
TZNAME:EST
DTSTART:20231105T060000
END:STANDARD
BEGIN:DAYLIGHT
TZOFFSETFROM:-0500
TZOFFSETTO:-0400
TZNAME:EDT
DTSTART:20240310T070000
END:DAYLIGHT
BEGIN:STANDARD
TZOFFSETFROM:-0400
TZOFFSETTO:-0500
TZNAME:EST
DTSTART:20241103T060000
END:STANDARD
BEGIN:DAYLIGHT
TZOFFSETFROM:-0500
TZOFFSETTO:-0400
TZNAME:EDT
DTSTART:20250309T070000
END:DAYLIGHT
BEGIN:STANDARD
TZOFFSETFROM:-0400
TZOFFSETTO:-0500
TZNAME:EST
DTSTART:20251102T060000
END:STANDARD
END:VTIMEZONE
BEGIN:VEVENT
DTSTART;TZID=America/New_York:20240809T103000
DTEND;TZID=America/New_York:20240809T113000
DTSTAMP:20260421T072050
CREATED:20240707T190349Z
LAST-MODIFIED:20240707T190349Z
UID:11023-1723199400-1723203000@artsconnectva.org
SUMMARY:Butterfly Wreaths with Rhona Dawson
DESCRIPTION:
URL:https://artsconnectva.org/event/butterfly-wreaths-with-rhona-dawson/
LOCATION:VA
CATEGORIES:Outreach Program
END:VEVENT
BEGIN:VEVENT
DTSTART;TZID=America/New_York:20240809T103000
DTEND;TZID=America/New_York:20240809T113000
DTSTAMP:20260421T072050
CREATED:20240722T004629Z
LAST-MODIFIED:20240722T004629Z
UID:11075-1723199400-1723203000@artsconnectva.org
SUMMARY:Zendoodles with Adrienne Searle
DESCRIPTION:
URL:https://artsconnectva.org/event/zendoodles-with-adrienne-searle/
LOCATION:VA
CATEGORIES:Outreach Program
END:VEVENT
BEGIN:VEVENT
DTSTART;TZID=America/New_York:20240809T140000
DTEND;TZID=America/New_York:20240809T150000
DTSTAMP:20260421T072050
CREATED:20240620T152746Z
LAST-MODIFIED:20240620T152746Z
UID:10828-1723212000-1723215600@artsconnectva.org
SUMMARY:Happy Hour with Bryan Martin
DESCRIPTION:
URL:https://artsconnectva.org/event/happy-hour-with-bryan-martin-9/
LOCATION:VA
CATEGORIES:Outreach Program
END:VEVENT
BEGIN:VEVENT
DTSTART;TZID=America/New_York:20240809T140000
DTEND;TZID=America/New_York:20240809T150000
DTSTAMP:20260421T072050
CREATED:20240707T191004Z
LAST-MODIFIED:20240730T140721Z
UID:11025-1723212000-1723215600@artsconnectva.org
SUMMARY:The Classics with Rick Seguso
DESCRIPTION:View Flyer
URL:https://artsconnectva.org/event/timeless-tunes-with-rick-seguso-7/
LOCATION:VA
CATEGORIES:Outreach Program
END:VEVENT
BEGIN:VEVENT
DTSTART;TZID=America/New_York:20240809T140000
DTEND;TZID=America/New_York:20240809T150000
DTSTAMP:20260421T072050
CREATED:20240730T161830Z
LAST-MODIFIED:20240801T142135Z
UID:11144-1723212000-1723215600@artsconnectva.org
SUMMARY:Strummin' & Pickin' with Ted & Eric
DESCRIPTION:View Flyer
URL:https://artsconnectva.org/event/strummin-pickin-with-ted-eric/
LOCATION:VA
CATEGORIES:Outreach Program
END:VEVENT
BEGIN:VEVENT
DTSTART;TZID=America/New_York:20240809T143000
DTEND;TZID=America/New_York:20240809T153000
DTSTAMP:20260421T072050
CREATED:20240707T185606Z
LAST-MODIFIED:20240707T185606Z
UID:11021-1723213800-1723217400@artsconnectva.org
SUMMARY:Acrylic Paint Pour with Vanessa Golson
DESCRIPTION:
URL:https://artsconnectva.org/event/acrylic-paint-pour-with-vanessa-golson-38/
LOCATION:VA
CATEGORIES:Outreach Program
END:VEVENT
BEGIN:VEVENT
DTSTART;TZID=America/New_York:20240809T150000
DTEND;TZID=America/New_York:20240809T160000
DTSTAMP:20260421T072050
CREATED:20240718T161400Z
LAST-MODIFIED:20240718T161400Z
UID:11069-1723215600-1723219200@artsconnectva.org
SUMMARY:Step-by-Step Painting with Vivian Davis
DESCRIPTION:View Flyer
URL:https://artsconnectva.org/event/step-by-step-painting-with-vivian-davis/
LOCATION:VA
CATEGORIES:Outreach Program
END:VEVENT
BEGIN:VEVENT
DTSTART;TZID=America/New_York:20240809T190000
DTEND;TZID=America/New_York:20240809T210000
DTSTAMP:20260421T072050
CREATED:20240624T153824Z
LAST-MODIFIED:20240624T153824Z
UID:10879-1723230000-1723237200@artsconnectva.org
SUMMARY:Pub Night with Richard Mekdeci
DESCRIPTION:
URL:https://artsconnectva.org/event/pub-night-with-richard-mekdeci-8/
LOCATION:VA
CATEGORIES:Outreach Program
END:VEVENT
END:VCALENDAR