BEGIN:VCALENDAR
VERSION:2.0
PRODID:-//ArtsConnect Virginia - ECPv6.15.20//NONSGML v1.0//EN
CALSCALE:GREGORIAN
METHOD:PUBLISH
X-ORIGINAL-URL:https://artsconnectva.org
X-WR-CALDESC:Events for ArtsConnect Virginia
REFRESH-INTERVAL;VALUE=DURATION:PT1H
X-Robots-Tag:noindex
X-PUBLISHED-TTL:PT1H
BEGIN:VTIMEZONE
TZID:America/New_York
BEGIN:DAYLIGHT
TZOFFSETFROM:-0500
TZOFFSETTO:-0400
TZNAME:EDT
DTSTART:20230312T070000
END:DAYLIGHT
BEGIN:STANDARD
TZOFFSETFROM:-0400
TZOFFSETTO:-0500
TZNAME:EST
DTSTART:20231105T060000
END:STANDARD
BEGIN:DAYLIGHT
TZOFFSETFROM:-0500
TZOFFSETTO:-0400
TZNAME:EDT
DTSTART:20240310T070000
END:DAYLIGHT
BEGIN:STANDARD
TZOFFSETFROM:-0400
TZOFFSETTO:-0500
TZNAME:EST
DTSTART:20241103T060000
END:STANDARD
BEGIN:DAYLIGHT
TZOFFSETFROM:-0500
TZOFFSETTO:-0400
TZNAME:EDT
DTSTART:20250309T070000
END:DAYLIGHT
BEGIN:STANDARD
TZOFFSETFROM:-0400
TZOFFSETTO:-0500
TZNAME:EST
DTSTART:20251102T060000
END:STANDARD
END:VTIMEZONE
BEGIN:VEVENT
DTSTART;TZID=America/New_York:20240808T130000
DTEND;TZID=America/New_York:20240808T140000
DTSTAMP:20260421T071928
CREATED:20240626T145650Z
LAST-MODIFIED:20240626T145650Z
UID:10900-1723122000-1723125600@artsconnectva.org
SUMMARY:Favorite Jams with Art Rowe and David Jones
DESCRIPTION:
URL:https://artsconnectva.org/event/favorite-jams-with-art-rowe-and-david-jones/
LOCATION:VA
CATEGORIES:Outreach Program
END:VEVENT
BEGIN:VEVENT
DTSTART;TZID=America/New_York:20240808T130000
DTEND;TZID=America/New_York:20240808T140000
DTSTAMP:20260421T071928
CREATED:20240731T200706Z
LAST-MODIFIED:20240731T200706Z
UID:11189-1723122000-1723125600@artsconnectva.org
SUMMARY:Piano Tunes with Christian Flores
DESCRIPTION:
URL:https://artsconnectva.org/event/piano-tunes-with-christian-flores/
LOCATION:VA
CATEGORIES:Outreach Program
END:VEVENT
BEGIN:VEVENT
DTSTART;TZID=America/New_York:20240808T140000
DTEND;TZID=America/New_York:20240808T150000
DTSTAMP:20260421T071928
CREATED:20240430T152127Z
LAST-MODIFIED:20240430T152127Z
UID:10523-1723125600-1723129200@artsconnectva.org
SUMMARY:Trumpet Tunes with Chad McGill
DESCRIPTION:Join Chad as he plays a variety of music on the trumpet! From light jazz to The Beatles\, you will find his music has something for everyone!
URL:https://artsconnectva.org/event/trumpet-tunes-with-chad-mcgill-15/
LOCATION:VA
CATEGORIES:Outreach Program
END:VEVENT
BEGIN:VEVENT
DTSTART;TZID=America/New_York:20240808T150000
DTEND;TZID=America/New_York:20240808T160000
DTSTAMP:20260421T071928
CREATED:20240730T160443Z
LAST-MODIFIED:20240730T160443Z
UID:11142-1723129200-1723132800@artsconnectva.org
SUMMARY:Pottery with Rachel Jaffe
DESCRIPTION:
URL:https://artsconnectva.org/event/pottery-with-rachel-jaffe/
LOCATION:VA
CATEGORIES:Outreach Program
END:VEVENT
END:VCALENDAR